BEGIN:VCALENDAR
VERSION:2.0
PRODID:-//Thrive Services - ECPv5.16.4//NONSGML v1.0//EN
CALSCALE:GREGORIAN
METHOD:PUBLISH
X-WR-CALNAME:Thrive Services
X-ORIGINAL-URL:https://www.thriveservices.org.au
X-WR-CALDESC:Events for Thrive Services
REFRESH-INTERVAL;VALUE=DURATION:PT1H
X-Robots-Tag:noindex
X-PUBLISHED-TTL:PT1H
BEGIN:VTIMEZONE
TZID:Australia/Sydney
BEGIN:STANDARD
TZOFFSETFROM:+1100
TZOFFSETTO:+1000
TZNAME:AEST
DTSTART:20240406T160000
END:STANDARD
BEGIN:DAYLIGHT
TZOFFSETFROM:+1000
TZOFFSETTO:+1100
TZNAME:AEDT
DTSTART:20241005T160000
END:DAYLIGHT
END:VTIMEZONE
BEGIN:VEVENT
DTSTART;TZID=Australia/Sydney:20241205T150000
DTEND;TZID=Australia/Sydney:20241205T180000
DTSTAMP:20260423T220453
CREATED:20241122T041806Z
LAST-MODIFIED:20241122T042527Z
UID:6915-1733410800-1733421600@www.thriveservices.org.au
SUMMARY:Thrive Christmas Party Picnic
DESCRIPTION:Thrive Services is hosting our annual community Christmas party\, picnic style! \nPlease join us for some yummy food\, activities\, arts & crafts and meeting other local families. \nThis year we will be having FREE Santa photos\, in a relaxed\, welcoming and calm space. \nWe understand that the usual Santa photos can be overwhelming or triggering for some\, with long lines\, loud music and being asked to sit on Santa’s lap being a bit too much. That why this year we’ve worked hard to create a calming environment and to take the stress out of getting to a time slot for your Santa photo. No prior registrations or bookings are necessary\, you can register your spot for a photo when you get here on the day. \nJust come along\, enjoy the day\, and make memories! \nIf you are thinking of attending\, please head to the event on our Facebook  and click going or interested so we have a rough idea of numbers to cater. \n  \n  \n  \n 
URL:https://www.thriveservices.org.au/event/thrive-christmas-party-picnic/
LOCATION:Thrive Katoomba Office\, 2 Station Street\, Katoomba\, NSW\, 2730\, Australia
CATEGORIES:Programs
ATTACH;FMTTYPE=image/png:https://www.thriveservices.org.au/wp-content/uploads/2024/11/Christmas-Picnic.png
END:VEVENT
END:VCALENDAR