BEGIN:VCALENDAR
VERSION:2.0
PRODID:-//Thrive Services - ECPv5.16.4//NONSGML v1.0//EN
CALSCALE:GREGORIAN
METHOD:PUBLISH
X-WR-CALNAME:Thrive Services
X-ORIGINAL-URL:https://www.thriveservices.org.au
X-WR-CALDESC:Events for Thrive Services
REFRESH-INTERVAL;VALUE=DURATION:PT1H
X-Robots-Tag:noindex
X-PUBLISHED-TTL:PT1H
BEGIN:VTIMEZONE
TZID:Australia/Sydney
BEGIN:STANDARD
TZOFFSETFROM:+1100
TZOFFSETTO:+1000
TZNAME:AEST
DTSTART:20250405T160000
END:STANDARD
BEGIN:DAYLIGHT
TZOFFSETFROM:+1000
TZOFFSETTO:+1100
TZNAME:AEDT
DTSTART:20251004T160000
END:DAYLIGHT
END:VTIMEZONE
BEGIN:VEVENT
DTSTART;TZID=Australia/Sydney:20250724T130000
DTEND;TZID=Australia/Sydney:20250828T140000
DTSTAMP:20260421T123548
CREATED:20250217T015639Z
LAST-MODIFIED:20250630T012319Z
UID:6991-1753362000-1756389600@www.thriveservices.org.au
SUMMARY:Bringing Up Great Kids - 6 Week Parenting Program 2025 Term 3 ONLINE - CLOSED
DESCRIPTION:Developed by the Australian Childhood Foundation\, \nBringing Up Great Kids (BUGK) is a reflective parenting program that aims to support parents/carers to review and change their patterns of interacting with their children.\, Promoting reflective parenting skills and developing communication skills to encourage children’s positive self-identity. \nThis program is available for Blue Mountains and Lithgow residents only. \nWhere: Online via Microsoft Teams \nWhen:  Thursdays weekly 24th July – 28th August 2025\, 1.00pm – 2.00pm \nAll 6 sessions must be attended to complete the course. \nRegistrations close 10th July 2025\, unless all spots filled beforehand. \nCertificate of attainment will only be awarded to participants who complete all 6 sessions. Unfortunately due to staffing capacity\, catch up sessions are not available. \n  \n  \n  \n 
URL:https://www.thriveservices.org.au/event/bringing-up-great-kids-6-week-parenting-program-2025-term-3-online-registrations-open/
LOCATION:Online
CATEGORIES:Programs
END:VEVENT
END:VCALENDAR