BEGIN:VCALENDAR
VERSION:2.0
PRODID:-//Thrive Services - ECPv5.16.4//NONSGML v1.0//EN
CALSCALE:GREGORIAN
METHOD:PUBLISH
X-ORIGINAL-URL:https://www.thriveservices.org.au
X-WR-CALDESC:Events for Thrive Services
REFRESH-INTERVAL;VALUE=DURATION:PT1H
X-Robots-Tag:noindex
X-PUBLISHED-TTL:PT1H
BEGIN:VTIMEZONE
TZID:Australia/Sydney
BEGIN:STANDARD
TZOFFSETFROM:+1100
TZOFFSETTO:+1000
TZNAME:AEST
DTSTART:20250405T160000
END:STANDARD
BEGIN:DAYLIGHT
TZOFFSETFROM:+1000
TZOFFSETTO:+1100
TZNAME:AEDT
DTSTART:20251004T160000
END:DAYLIGHT
END:VTIMEZONE
BEGIN:VEVENT
DTSTART;TZID=Australia/Sydney:20250930T110000
DTEND;TZID=Australia/Sydney:20250930T123000
DTSTAMP:20260421T024907
CREATED:20250915T044543Z
LAST-MODIFIED:20250915T045826Z
UID:7294-1759230000-1759235400@www.thriveservices.org.au
SUMMARY:Paint a Money Box - Lithgow
DESCRIPTION:Get creative and learn the value of saving! \nIn this fun-filled activity\, kids will decorate their very own ceramic piggy money box using colorful paints\, brushes\, and imagination each child can make it truly their own. Perfect for encouraging creativity and smart saving habits — a hands-on craft with a money-wise twist! \nSuitable for primary school age 5 – 12yrs. \n  \n\n                    Children Activity Registration Form        \n            \n                \n                    Updates                \n            \n            \n                \n            \n        \n        First NameFamily NameGenderDate of birthEmailPhoneResidential AddressPost CodeDo you identify as: Aboriginal Torres Strait Islander CALD N/ACountry of birthMain language spoken at homeHousehold DetailsNumber of adults living in your household:Family Composition Single parent with dependent/s Couple with dependent/sChildren Details\nPlease include all children's details\, add more children by clicking the '+' symbol         \n            Children            \n                \n                    \n                    \n                                                    First Name\n                                                    Family Name\n                                                    Date of birth
URL:https://www.thriveservices.org.au/event/paint-a-money-box-lithgow/
LOCATION:Thrive Lithgow Office\, 174 Landa St\, Bowenfels\, NSW\, 2790\, Australia
ATTACH;FMTTYPE=image/jpeg:https://www.thriveservices.org.au/wp-content/uploads/2025/09/Template-for-website-Event-Featured-Image.jpg
END:VEVENT
END:VCALENDAR