BEGIN:VCALENDAR
VERSION:2.0
PRODID:-//Thrive Services - ECPv5.16.4//NONSGML v1.0//EN
CALSCALE:GREGORIAN
METHOD:PUBLISH
X-WR-CALNAME:Thrive Services
X-ORIGINAL-URL:https://www.thriveservices.org.au
X-WR-CALDESC:Events for Thrive Services
REFRESH-INTERVAL;VALUE=DURATION:PT1H
X-Robots-Tag:noindex
X-PUBLISHED-TTL:PT1H
BEGIN:VTIMEZONE
TZID:Australia/Sydney
BEGIN:STANDARD
TZOFFSETFROM:+1100
TZOFFSETTO:+1000
TZNAME:AEST
DTSTART:20250405T160000
END:STANDARD
BEGIN:DAYLIGHT
TZOFFSETFROM:+1000
TZOFFSETTO:+1100
TZNAME:AEDT
DTSTART:20251004T160000
END:DAYLIGHT
END:VTIMEZONE
BEGIN:VEVENT
DTSTART;TZID=Australia/Sydney:20251209T153000
DTEND;TZID=Australia/Sydney:20251209T173000
DTSTAMP:20260421T000351
CREATED:20251017T002149Z
LAST-MODIFIED:20251017T004559Z
UID:7342-1765294200-1765301400@www.thriveservices.org.au
SUMMARY:Christmas Party | Lithgow
DESCRIPTION:Come Celebrate the Magic of Christmas with Thrive Services! \nJoin us for a festive afternoon of fun at the Thrive Services Christmas Party. There’ll be hot food and drinks to enjoy\, kids Christmas cookie decorating to get everyone in the spirit\, and a chance to win a prize by registering your interest as well as more prizes up for grabs on the day! \nBring your family\, share some Christmas cheer\, and make joyful memories with the community. \nPrize entries are limited to one per family\, so be sure to scan the QR code to register today! \nWe can’t wait to celebrate with you! \n  \n  \n\n                    Children Activity Registration Form        \n            \n                \n                    Subscribe                \n            \n            \n                \n            \n        \n        First NameFamily NameGenderDate of birthEmailPhoneResidential AddressPost CodeDo you identify as: Aboriginal Torres Strait Islander CALD N/ACountry of birthMain language spoken at homeHousehold DetailsNumber of adults living in your household:Family Composition Single parent with dependent/s Couple with dependent/sChildren Details\nPlease include all children's details\, add more children by clicking the '+' symbol         \n            Children            \n                \n                    \n                    \n                                                    First Name\n                                                    Family Name\n                                                    Date of birth
URL:https://www.thriveservices.org.au/event/christmas-party-lithgow/
LOCATION:Thrive Lithgow Office\, 174 Landa St\, Bowenfels\, NSW\, 2790\, Australia
CATEGORIES:Programs
ATTACH;FMTTYPE=image/jpeg:https://www.thriveservices.org.au/wp-content/uploads/2025/10/Event-Featured-Image-TEMPLATE-1.jpg
END:VEVENT
END:VCALENDAR