BEGIN:VCALENDAR
VERSION:2.0
PRODID:-//Thrive Services - ECPv5.16.4//NONSGML v1.0//EN
CALSCALE:GREGORIAN
METHOD:PUBLISH
X-ORIGINAL-URL:https://www.thriveservices.org.au
X-WR-CALDESC:Events for Thrive Services
REFRESH-INTERVAL;VALUE=DURATION:PT1H
X-Robots-Tag:noindex
X-PUBLISHED-TTL:PT1H
BEGIN:VTIMEZONE
TZID:Australia/Sydney
BEGIN:STANDARD
TZOFFSETFROM:+1100
TZOFFSETTO:+1000
TZNAME:AEST
DTSTART:20260404T160000
END:STANDARD
BEGIN:DAYLIGHT
TZOFFSETFROM:+1000
TZOFFSETTO:+1100
TZNAME:AEDT
DTSTART:20261003T160000
END:DAYLIGHT
END:VTIMEZONE
BEGIN:VEVENT
DTSTART;TZID=Australia/Sydney:20260203T143000
DTEND;TZID=Australia/Sydney:20260203T160000
DTSTAMP:20260420T205009
CREATED:20251218T234516Z
LAST-MODIFIED:20251219T000553Z
UID:7474-1770129000-1770134400@www.thriveservices.org.au
SUMMARY:The Family Hub: "Back to School Play & Connect"
DESCRIPTION:A friendly space for families to come together and thrive. \nDrop in after school to relax\, connect\, and enjoy fun activities with your kids — no registration needed. Grab fresh food\, pantry items\, and helpful resources while parents share stories and build connections. \nFor Families with children under 18yrs old in their care\, located in the Blue Mountains. \nJust pop in between 2.30pm – 4.00pm. \nWhere: 2 Station Street\, Katoomba \nWhen:  Tuesdays fortnightly beginning 3rd February 2026\, 2.30pm – 4.00pm \nThis sessions theme: Back to School Play & Connect \nA relaxed play session to help children transition back to school while supporting parents to build confidence\, routine and emotional safety.\n\nCraft: “My school day picture”\nChildren can draw\, paste or write what going to school\, being in class\, recess/lunch and coming home looks like.
URL:https://www.thriveservices.org.au/event/the-family-hub-back-to-school-play-connect/
LOCATION:Thrive Services Katoomba\, 2 Station Street\, Katoomba\, NSW\, 2780
CATEGORIES:Programs
ATTACH;FMTTYPE=image/jpeg:https://www.thriveservices.org.au/wp-content/uploads/2025/12/TEI-Program-and-Activities-FEATURED-IMAGE-THE-FAMILY-HUB.jpg
END:VEVENT
END:VCALENDAR