BEGIN:VCALENDAR
VERSION:2.0
PRODID:-//Thrive Services - ECPv5.16.4//NONSGML v1.0//EN
CALSCALE:GREGORIAN
METHOD:PUBLISH
X-WR-CALNAME:Thrive Services
X-ORIGINAL-URL:https://www.thriveservices.org.au
X-WR-CALDESC:Events for Thrive Services
REFRESH-INTERVAL;VALUE=DURATION:PT1H
X-Robots-Tag:noindex
X-PUBLISHED-TTL:PT1H
BEGIN:VTIMEZONE
TZID:Australia/Sydney
BEGIN:STANDARD
TZOFFSETFROM:+1100
TZOFFSETTO:+1000
TZNAME:AEST
DTSTART:20260404T160000
END:STANDARD
BEGIN:DAYLIGHT
TZOFFSETFROM:+1000
TZOFFSETTO:+1100
TZNAME:AEDT
DTSTART:20261003T160000
END:DAYLIGHT
END:VTIMEZONE
BEGIN:VEVENT
DTSTART;TZID=Australia/Sydney:20260324T123000
DTEND;TZID=Australia/Sydney:20260324T143000
DTSTAMP:20260420T193308
CREATED:20251218T015505Z
LAST-MODIFIED:20251218T045834Z
UID:7463-1774355400-1774362600@www.thriveservices.org.au
SUMMARY:Little Moments Mums & Bubs
DESCRIPTION:Little Moments is a calm\, welcoming space created for mums and their babies to simply breathe and take a pause. A place to connect with others without pressure or expectations—just friendly faces\, gentle conversation\, a warm cup of tea and light snacks. \nPerfect for mums feeling isolated at home or are overwhelmed by traditional mum groups or playgroups. \nFor Families with children 0-5yrs. \nRegistrations not essential\, but if you would like to keep updated on Little Moments news\, complete the form below. \nLight snacks provided. \nWhere: 174 Landa Street\, Lithgow \nWhen:  Tuesdays fortnightly beginning 10th February 2026\, 12.30am – 2.30pm \n\n                    Children Activity Registration Form        \n            \n                \n                    Newsletter                \n            \n            \n                \n            \n        \n        First NameFamily NameGenderDate of birthEmailPhoneResidential AddressPost CodeDo you identify as: Aboriginal Torres Strait Islander CALD N/ACountry of birthMain language spoken at homeHousehold DetailsNumber of adults living in your household:Family Composition Single parent with dependent/s Couple with dependent/sChildren Details\nPlease include all children's details\, add more children by clicking the '+' symbol         \n            Children            \n                \n                    \n                    \n                                                    First Name\n                                                    Family Name\n                                                    Date of birth
URL:https://www.thriveservices.org.au/event/little-moments-because-the-little-moments-matter-the-most-4/
LOCATION:Thrive Lithgow Office\, 174 Landa St\, Bowenfels\, NSW\, 2790\, Australia
CATEGORIES:Programs
ATTACH;FMTTYPE=image/jpeg:https://www.thriveservices.org.au/wp-content/uploads/2019/02/TEI-Program-and-Activities-FLYER-TEMPLATE-DRAFT-1920-x-1080-px-1.jpg
END:VEVENT
END:VCALENDAR