BEGIN:VCALENDAR
VERSION:2.0
PRODID:-//Thrive Services - ECPv5.16.4//NONSGML v1.0//EN
CALSCALE:GREGORIAN
METHOD:PUBLISH
X-WR-CALNAME:Thrive Services
X-ORIGINAL-URL:https://www.thriveservices.org.au
X-WR-CALDESC:Events for Thrive Services
REFRESH-INTERVAL;VALUE=DURATION:PT1H
X-Robots-Tag:noindex
X-PUBLISHED-TTL:PT1H
BEGIN:VTIMEZONE
TZID:Australia/Sydney
BEGIN:STANDARD
TZOFFSETFROM:+1100
TZOFFSETTO:+1000
TZNAME:AEST
DTSTART:20230401T160000
END:STANDARD
BEGIN:DAYLIGHT
TZOFFSETFROM:+1000
TZOFFSETTO:+1100
TZNAME:AEDT
DTSTART:20230930T160000
END:DAYLIGHT
BEGIN:STANDARD
TZOFFSETFROM:+1100
TZOFFSETTO:+1000
TZNAME:AEST
DTSTART:20240406T160000
END:STANDARD
BEGIN:DAYLIGHT
TZOFFSETFROM:+1000
TZOFFSETTO:+1100
TZNAME:AEDT
DTSTART:20241005T160000
END:DAYLIGHT
END:VTIMEZONE
BEGIN:VEVENT
DTSTART;TZID=Australia/Sydney:20240306T100000
DTEND;TZID=Australia/Sydney:20240306T120000
DTSTAMP:20260421T142639
CREATED:20240205T045659Z
LAST-MODIFIED:20240205T045659Z
UID:6429-1709719200-1709726400@www.thriveservices.org.au
SUMMARY:Young Parents Circle
DESCRIPTION:A group for all parents who are pregnant or have children (0-5). The group meets each wednesday during the school term\, at the Queen Elizabeth Park\, Lithgow. Simple snacks are provided for families to enjoy together. \n 
URL:https://www.thriveservices.org.au/event/young-parents-circle-5/
LOCATION:Queen Elizabeth Park\, 227 Main Street\, Lithgow\, NSW\, 2790\, Australia
CATEGORIES:Programs
ATTACH;FMTTYPE=image/png:https://www.thriveservices.org.au/wp-content/uploads/2024/02/Untitled-design-3.png
END:VEVENT
BEGIN:VEVENT
DTSTART;TZID=Australia/Sydney:20240306T093000
DTEND;TZID=Australia/Sydney:20240306T110000
DTSTAMP:20260421T142639
CREATED:20240205T031139Z
LAST-MODIFIED:20240205T225938Z
UID:6366-1709717400-1709722800@www.thriveservices.org.au
SUMMARY:Blackheath Playgroup [Term 1 2024]
DESCRIPTION:A supported playgroup for 0-5yr olds\, great for creative and social development in a friendly environment. Kids can play whilst parents/carers relax with a cup of tea. \nRunning every Wednesday of the term.
URL:https://www.thriveservices.org.au/event/blackheath-playgroup-term-1-2024-4/
LOCATION:Blackheath Public School\, Leichhardt St\,\, Blackheath\, 2785\, Australia
CATEGORIES:Programs
ATTACH;FMTTYPE=image/jpeg:https://www.thriveservices.org.au/wp-content/uploads/2022/03/event_Blackheath-Playgroup.jpg
END:VEVENT
BEGIN:VEVENT
DTSTART;TZID=Australia/Sydney:20240301T100000
DTEND;TZID=Australia/Sydney:20240301T120000
DTSTAMP:20260421T142639
CREATED:20240205T041824Z
LAST-MODIFIED:20240205T041824Z
UID:6402-1709287200-1709294400@www.thriveservices.org.au
SUMMARY:Parenting Young
DESCRIPTION:A group for young parents\, their children and parents to be. \nRunning every Friday during the school term! \nFor more information visit www.mocs.org.au or call Tanya on 0432 143 452
URL:https://www.thriveservices.org.au/event/parenting-young-4/
LOCATION:48-50 Oaklands Road Hazelbrook\, Hazelbrook\, NSW\, 2779\, Australia
CATEGORIES:Programs
ATTACH;FMTTYPE=image/png:https://www.thriveservices.org.au/wp-content/uploads/2024/02/Untitled-design-2.png
END:VEVENT
BEGIN:VEVENT
DTSTART;TZID=Australia/Sydney:20240228T100000
DTEND;TZID=Australia/Sydney:20240228T120000
DTSTAMP:20260421T142639
CREATED:20240205T045559Z
LAST-MODIFIED:20240205T045559Z
UID:6427-1709114400-1709121600@www.thriveservices.org.au
SUMMARY:Young Parents Circle
DESCRIPTION:A group for all parents who are pregnant or have children (0-5). The group meets each wednesday during the school term\, at the Queen Elizabeth Park\, Lithgow. Simple snacks are provided for families to enjoy together. \n 
URL:https://www.thriveservices.org.au/event/young-parents-circle-4/
LOCATION:Queen Elizabeth Park\, 227 Main Street\, Lithgow\, NSW\, 2790\, Australia
CATEGORIES:Programs
ATTACH;FMTTYPE=image/png:https://www.thriveservices.org.au/wp-content/uploads/2024/02/Untitled-design-3.png
END:VEVENT
BEGIN:VEVENT
DTSTART;TZID=Australia/Sydney:20240228T093000
DTEND;TZID=Australia/Sydney:20240228T110000
DTSTAMP:20260421T142639
CREATED:20240205T031045Z
LAST-MODIFIED:20240205T225819Z
UID:6364-1709112600-1709118000@www.thriveservices.org.au
SUMMARY:Blackheath Playgroup [Term 1 2024]
DESCRIPTION:A supported playgroup for 0-5yr olds\, great for creative and social development in a friendly environment. Kids can play whilst parents/carers relax with a cup of tea. \nRunning every Wednesday of the term.
URL:https://www.thriveservices.org.au/event/blackheath-playgroup-term-1-2024-3/
LOCATION:Blackheath Public School\, Leichhardt St\,\, Blackheath\, 2785\, Australia
CATEGORIES:Programs
ATTACH;FMTTYPE=image/jpeg:https://www.thriveservices.org.au/wp-content/uploads/2022/03/event_Blackheath-Playgroup.jpg
END:VEVENT
BEGIN:VEVENT
DTSTART;TZID=Australia/Sydney:20240226T110000
DTEND;TZID=Australia/Sydney:20240226T120000
DTSTAMP:20260421T142639
CREATED:20240109T033930Z
LAST-MODIFIED:20240205T032038Z
UID:6341-1708945200-1708948800@www.thriveservices.org.au
SUMMARY:The Parenting Pod
DESCRIPTION:A parenting group to provide parents with a space for a relaxing chat and coffee\, service information\, discussion topics and guest speakers. \nDate: Monday the 26th February 2024 \, at 11am \nWhere: Lithgow Library- 157 Main St Lithgow \nTopic: How to apply for childcare subsidy \nGuest speaker: Service Australia \nFor more information\, please contact our Lithgow Office \nPhone: 02 6351 4055 \nEmail: info@thriveservices.org.au
URL:https://www.thriveservices.org.au/event/the-parenting-pod-2/
LOCATION:Lithgow Library\, 157 Main Street\, Lithgow\, NSW\, 2790\, Australia
CATEGORIES:Community,Family
ATTACH;FMTTYPE=image/png:https://www.thriveservices.org.au/wp-content/uploads/2024/01/Untitled-design-1-1.png
END:VEVENT
BEGIN:VEVENT
DTSTART;TZID=Australia/Sydney:20240223T100000
DTEND;TZID=Australia/Sydney:20240223T120000
DTSTAMP:20260421T142639
CREATED:20240205T041719Z
LAST-MODIFIED:20240205T041719Z
UID:6400-1708682400-1708689600@www.thriveservices.org.au
SUMMARY:Parenting Young
DESCRIPTION:A group for young parents\, their children and parents to be. \nRunning every Friday during the school term! \nFor more information visit www.mocs.org.au or call Tanya on 0432 143 452
URL:https://www.thriveservices.org.au/event/parenting-young-3/
LOCATION:48-50 Oaklands Road Hazelbrook\, Hazelbrook\, NSW\, 2779\, Australia
CATEGORIES:Programs
ATTACH;FMTTYPE=image/png:https://www.thriveservices.org.au/wp-content/uploads/2024/02/Untitled-design-2.png
END:VEVENT
BEGIN:VEVENT
DTSTART;TZID=Australia/Sydney:20240221T100000
DTEND;TZID=Australia/Sydney:20240221T120000
DTSTAMP:20260421T142639
CREATED:20240205T045516Z
LAST-MODIFIED:20240205T045516Z
UID:6425-1708509600-1708516800@www.thriveservices.org.au
SUMMARY:Young Parents Circle
DESCRIPTION:A group for all parents who are pregnant or have children (0-5). The group meets each wednesday during the school term\, at the Queen Elizabeth Park\, Lithgow. Simple snacks are provided for families to enjoy together. \n 
URL:https://www.thriveservices.org.au/event/young-parents-circle-3/
LOCATION:Queen Elizabeth Park\, 227 Main Street\, Lithgow\, NSW\, 2790\, Australia
CATEGORIES:Programs
ATTACH;FMTTYPE=image/png:https://www.thriveservices.org.au/wp-content/uploads/2024/02/Untitled-design-3.png
END:VEVENT
BEGIN:VEVENT
DTSTART;TZID=Australia/Sydney:20240221T093000
DTEND;TZID=Australia/Sydney:20240221T110000
DTSTAMP:20260421T142639
CREATED:20240205T030720Z
LAST-MODIFIED:20240205T225746Z
UID:6362-1708507800-1708513200@www.thriveservices.org.au
SUMMARY:Blackheath Playgroup [Term 1 2024]
DESCRIPTION:A supported playgroup for 0-5yr olds\, great for creative and social development in a friendly environment. Kids can play whilst parents/carers relax with a cup of tea. \nRunning every Wednesday of the term.
URL:https://www.thriveservices.org.au/event/blackheath-playgroup-term-1-2024-2/
LOCATION:Blackheath Public School\, Leichhardt St\,\, Blackheath\, 2785\, Australia
CATEGORIES:Programs
ATTACH;FMTTYPE=image/jpeg:https://www.thriveservices.org.au/wp-content/uploads/2022/03/event_Blackheath-Playgroup.jpg
END:VEVENT
BEGIN:VEVENT
DTSTART;TZID=Australia/Sydney:20240216T100000
DTEND;TZID=Australia/Sydney:20240216T120000
DTSTAMP:20260421T142639
CREATED:20240205T041251Z
LAST-MODIFIED:20240205T041512Z
UID:6398-1708077600-1708084800@www.thriveservices.org.au
SUMMARY:Parenting Young
DESCRIPTION:A group for young parents\, their children and parents to be. \nRunning every Friday during the school term! \nFor more information visit www.mocs.org.au or call Tanya on 0432 143 452
URL:https://www.thriveservices.org.au/event/parenting-young-2/
LOCATION:48-50 Oaklands Road Hazelbrook\, Hazelbrook\, NSW\, 2779\, Australia
CATEGORIES:Programs
ATTACH;FMTTYPE=image/png:https://www.thriveservices.org.au/wp-content/uploads/2024/02/Untitled-design-2.png
END:VEVENT
BEGIN:VEVENT
DTSTART;TZID=Australia/Sydney:20240214T100000
DTEND;TZID=Australia/Sydney:20240214T120000
DTSTAMP:20260421T142639
CREATED:20240205T045328Z
LAST-MODIFIED:20240205T045328Z
UID:6423-1707904800-1707912000@www.thriveservices.org.au
SUMMARY:Young Parents Circle
DESCRIPTION:A group for all parents who are pregnant or have children (0-5). The group meets each wednesday during the school term\, at the Queen Elizabeth Park\, Lithgow. Simple snacks are provided for families to enjoy together. \n 
URL:https://www.thriveservices.org.au/event/young-parents-circle-2/
LOCATION:Queen Elizabeth Park\, 227 Main Street\, Lithgow\, NSW\, 2790\, Australia
CATEGORIES:Programs
ATTACH;FMTTYPE=image/png:https://www.thriveservices.org.au/wp-content/uploads/2024/02/Untitled-design-3.png
END:VEVENT
BEGIN:VEVENT
DTSTART;TZID=Australia/Sydney:20240214T093000
DTEND;TZID=Australia/Sydney:20240214T110000
DTSTAMP:20260421T142639
CREATED:20240205T030434Z
LAST-MODIFIED:20240205T221103Z
UID:6360-1707903000-1707908400@www.thriveservices.org.au
SUMMARY:Blackheath Playgroup [Term 1 2024]
DESCRIPTION:A supported playgroup for 0-5yr olds\, great for creative and social development in a friendly environment. Kids can play whilst parents/carers relax with a cup of tea. \nRunning every Wednesday of the term.
URL:https://www.thriveservices.org.au/event/blackheath-playgroup-term-1-2024/
LOCATION:Blackheath Public School\, Leichhardt St\,\, Blackheath\, 2785\, Australia
CATEGORIES:Programs
ATTACH;FMTTYPE=image/jpeg:https://www.thriveservices.org.au/wp-content/uploads/2022/03/event_Blackheath-Playgroup.jpg
END:VEVENT
BEGIN:VEVENT
DTSTART;TZID=Australia/Sydney:20240209T100000
DTEND;TZID=Australia/Sydney:20240209T120000
DTSTAMP:20260421T142639
CREATED:20240205T041125Z
LAST-MODIFIED:20240205T041125Z
UID:6382-1707472800-1707480000@www.thriveservices.org.au
SUMMARY:Parenting Young
DESCRIPTION:A group for young parents\, their children and parents to be. \nRunning every Friday during the school term! \nFor more information visit www.mocs.org.au or call Tanya on 0432 143 452
URL:https://www.thriveservices.org.au/event/parenting-young/
LOCATION:48-50 Oaklands Road Hazelbrook\, Hazelbrook\, NSW\, 2779\, Australia
CATEGORIES:Programs
ATTACH;FMTTYPE=image/png:https://www.thriveservices.org.au/wp-content/uploads/2024/02/Untitled-design-2.png
END:VEVENT
BEGIN:VEVENT
DTSTART;TZID=Australia/Sydney:20240207T100000
DTEND;TZID=Australia/Sydney:20240207T120000
DTSTAMP:20260421T142640
CREATED:20240205T045037Z
LAST-MODIFIED:20240205T045037Z
UID:6416-1707300000-1707307200@www.thriveservices.org.au
SUMMARY:Young Parents Circle
DESCRIPTION:A group for all parents who are pregnant or have children (0-5). The group meets each wednesday during the school term\, at the Queen Elizabeth Park\, Lithgow. Simple snacks are provided for families to enjoy together. \n 
URL:https://www.thriveservices.org.au/event/young-parents-circle/
LOCATION:Queen Elizabeth Park\, 227 Main Street\, Lithgow\, NSW\, 2790\, Australia
CATEGORIES:Programs
ATTACH;FMTTYPE=image/png:https://www.thriveservices.org.au/wp-content/uploads/2024/02/Untitled-design-3.png
END:VEVENT
BEGIN:VEVENT
DTSTART;TZID=Australia/Sydney:20240207T093000
DTEND;TZID=Australia/Sydney:20240207T110000
DTSTAMP:20260421T142640
CREATED:20230816T020412Z
LAST-MODIFIED:20240205T225704Z
UID:6204-1707298200-1707303600@www.thriveservices.org.au
SUMMARY:Blackheath Playgroup [Term 1 2024]
DESCRIPTION:A supported playgroup for 0-5yr olds\, great for creative and social development in a friendly environment. Kids can play whilst parents/carers relax with a cup of tea. \nRunning every Wednesday of the term.
URL:https://www.thriveservices.org.au/event/blackheath-playgroup-term-4-2023-9/
LOCATION:Blackheath Public School\, Leichhardt St\,\, Blackheath\, 2785\, Australia
CATEGORIES:Programs
ATTACH;FMTTYPE=image/jpeg:https://www.thriveservices.org.au/wp-content/uploads/2022/03/event_Blackheath-Playgroup.jpg
END:VEVENT
BEGIN:VEVENT
DTSTART;TZID=Australia/Sydney:20240122T110000
DTEND;TZID=Australia/Sydney:20240122T120000
DTSTAMP:20260421T142640
CREATED:20240109T031725Z
LAST-MODIFIED:20240109T031725Z
UID:6332-1705921200-1705924800@www.thriveservices.org.au
SUMMARY:The Parenting Pod
DESCRIPTION:A parenting group to provide parents with a space for a relaxing chat and coffee\, service information\, discussion topics and guest speakers. \nDate: Monday the 22nd of January 2024  at 11am \nWhere: Lithgow Library- 157 Main St Lithgow \nTopic: Eye screening for children \nGuest speaker: Brad- Lithgow Optical \nFor more information\, please contact our Lithgow Office \nPhone: 02 6351 4055 \nEmail: info@thriveservices.org.au
URL:https://www.thriveservices.org.au/event/the-parenting-pod/
LOCATION:Lithgow Library\, 157 Main Street\, Lithgow\, NSW\, 2790\, Australia
CATEGORIES:Community,Family
ATTACH;FMTTYPE=image/png:https://www.thriveservices.org.au/wp-content/uploads/2024/01/Untitled-design-1-1.png
END:VEVENT
BEGIN:VEVENT
DTSTART;TZID=Australia/Sydney:20240119T113000
DTEND;TZID=Australia/Sydney:20240119T130000
DTSTAMP:20260421T142640
CREATED:20240108T030247Z
LAST-MODIFIED:20240108T030505Z
UID:6324-1705663800-1705669200@www.thriveservices.org.au
SUMMARY:Make a Healthy Lunch Box
DESCRIPTION:Make a healthy lunch box \nOn the 19th of January 2024 we will be funning a fun activity for primary school aged kids to learn how to make their own school lunch and make some new friends! \nWhere: Thrive Services Lithgow\, 11 Railway Parade 2790 \nWhen: Friday the 19th of January 2024\, from 11:30am – 1:00pm \nAges: 5-12 \nCost: Free \nRegister now through the QR code below\, or by calling our Lithgow office number 02 6351 4055 \nFood\, recipe book and a lunch box are included. Limited spaces available\, register to secure your spot. Registrations close on the 17th of January 2024
URL:https://www.thriveservices.org.au/event/make-a-health-lunch-box/
LOCATION:Thrive Lithgow Office\, 174 Landa St\, Bowenfels\, NSW\, 2790\, Australia
CATEGORIES:Children
ATTACH;FMTTYPE=image/png:https://www.thriveservices.org.au/wp-content/uploads/2024/01/Untitled-design.png
END:VEVENT
BEGIN:VEVENT
DTSTART;TZID=Australia/Sydney:20231214T093000
DTEND;TZID=Australia/Sydney:20231214T110000
DTSTAMP:20260421T142640
CREATED:20230816T013644Z
LAST-MODIFIED:20230926T054952Z
UID:6184-1702546200-1702551600@www.thriveservices.org.au
SUMMARY:Kids in Kommon
DESCRIPTION:Cuppa and Chat Parenting Group \nDo you have questions about your child’s development? Would you like to connect with other parents and carers in your local community? \nCome along to kids in Kommon! \nRelax with a cuppa and get answers to your questions. \nNeed to bring the kids? No problem\, we have a play space just for them! \nWhen: Thursdays [During School Terms] 9:30am-11:00am \nStarting: 19.10.2023 \nWhere: 2 Station Street Katoomba [Thrive Services]
URL:https://www.thriveservices.org.au/event/kids-in-kommon-9/
LOCATION:Thrive Katoomba Office\, 2 Station Street\, Katoomba\, NSW\, 2730\, Australia
CATEGORIES:Children,Community,Family
ATTACH;FMTTYPE=image/jpeg:https://www.thriveservices.org.au/wp-content/uploads/2023/08/Untitled-design-1.jpg
END:VEVENT
BEGIN:VEVENT
DTSTART;TZID=Australia/Sydney:20231211T110000
DTEND;TZID=Australia/Sydney:20231211T120000
DTSTAMP:20260421T142640
CREATED:20230912T003624Z
LAST-MODIFIED:20230912T003624Z
UID:6254-1702292400-1702296000@www.thriveservices.org.au
SUMMARY:Parenting Pod
DESCRIPTION:A parenting group to provide parents with a space for a relaxing chat and coffee\, service information\, weekly discussion topics and guest speakers. \nThe Parenting Pod will be held every Monday of the school term from 11:00am – 12:00pm in the Lithgow Library. \nFor more information\, please contact our Lithgow office: \nPhone: 02 6351 4055 \nEmail: info@thriveservices.org.au \n  \n 
URL:https://www.thriveservices.org.au/event/parenting-pod-19/
LOCATION:Lithgow Library\, 157 Main Street\, Lithgow\, NSW\, 2790\, Australia
ATTACH;FMTTYPE=image/jpeg:https://www.thriveservices.org.au/wp-content/uploads/2022/02/thrive_caring.jpg
END:VEVENT
BEGIN:VEVENT
DTSTART;TZID=Australia/Sydney:20231211T093000
DTEND;TZID=Australia/Sydney:20231211T110000
DTSTAMP:20260421T142640
CREATED:20230816T020437Z
LAST-MODIFIED:20230816T020437Z
UID:6205-1702287000-1702292400@www.thriveservices.org.au
SUMMARY:Blackheath Playgroup [Term 4 2023]
DESCRIPTION:A supported playgroup for 0-5yr olds\, great for creative and social development in a friendly environment. Kids can play whilst parents/carers relax with a cup of tea. \nRunning every Monday of the term.
URL:https://www.thriveservices.org.au/event/blackheath-playgroup-term-4-2023-10/
LOCATION:Blackheath Public School\, Leichhardt St\,\, Blackheath\, 2785\, Australia
CATEGORIES:Programs
ATTACH;FMTTYPE=image/jpeg:https://www.thriveservices.org.au/wp-content/uploads/2022/03/event_Blackheath-Playgroup.jpg
END:VEVENT
BEGIN:VEVENT
DTSTART;TZID=Australia/Sydney:20231207T093000
DTEND;TZID=Australia/Sydney:20231207T110000
DTSTAMP:20260421T142640
CREATED:20230816T014121Z
LAST-MODIFIED:20230926T054916Z
UID:6186-1701941400-1701946800@www.thriveservices.org.au
SUMMARY:Kids in Kommon
DESCRIPTION:Cuppa and Chat Parenting Group \nDo you have questions about your child’s development? Would you like to connect with other parents and carers in your local community? \nCome along to kids in Kommon! \nRelax with a cuppa and get answers to your questions. \nNeed to bring the kids? No problem\, we have a play space just for them! \nWhen: Thursdays [During School Terms] 9:30am-11:00am \nStarting: 19.10.2023 \nWhere: 2 Station Street Katoomba [Thrive Services]
URL:https://www.thriveservices.org.au/event/kids-in-kommon-10/
LOCATION:Thrive Katoomba Office\, 2 Station Street\, Katoomba\, NSW\, 2730\, Australia
CATEGORIES:Children,Community,Family
ATTACH;FMTTYPE=image/jpeg:https://www.thriveservices.org.au/wp-content/uploads/2023/08/Untitled-design-1.jpg
END:VEVENT
BEGIN:VEVENT
DTSTART;TZID=Australia/Sydney:20231204T110000
DTEND;TZID=Australia/Sydney:20231204T120000
DTSTAMP:20260421T142640
CREATED:20230912T003525Z
LAST-MODIFIED:20230912T003525Z
UID:6252-1701687600-1701691200@www.thriveservices.org.au
SUMMARY:Parenting Pod
DESCRIPTION:A parenting group to provide parents with a space for a relaxing chat and coffee\, service information\, weekly discussion topics and guest speakers. \nThe Parenting Pod will be held every Monday of the school term from 11:00am – 12:00pm in the Lithgow Library. \nFor more information\, please contact our Lithgow office: \nPhone: 02 6351 4055 \nEmail: info@thriveservices.org.au \n  \n 
URL:https://www.thriveservices.org.au/event/parenting-pod-18/
LOCATION:Lithgow Library\, 157 Main Street\, Lithgow\, NSW\, 2790\, Australia
ATTACH;FMTTYPE=image/jpeg:https://www.thriveservices.org.au/wp-content/uploads/2022/02/thrive_caring.jpg
END:VEVENT
BEGIN:VEVENT
DTSTART;TZID=Australia/Sydney:20231130T093000
DTEND;TZID=Australia/Sydney:20231130T110000
DTSTAMP:20260421T142640
CREATED:20230816T013406Z
LAST-MODIFIED:20230926T054708Z
UID:6182-1701336600-1701342000@www.thriveservices.org.au
SUMMARY:Kids in Kommon
DESCRIPTION:Cuppa and Chat Parenting Group \nDo you have questions about your child’s development? Would you like to connect with other parents and carers in your local community? \nCome along to kids in Kommon! \nRelax with a cuppa and get answers to your questions. \nNeed to bring the kids? No problem\, we have a play space just for them! \nWhen: Thursdays [During School Terms] 9:30am-11:00am \nStarting: 19.10.2023 \nWhere: 2 Station Street Katoomba [Thrive Services]
URL:https://www.thriveservices.org.au/event/kids-in-kommon-8/
LOCATION:Thrive Katoomba Office\, 2 Station Street\, Katoomba\, NSW\, 2730\, Australia
CATEGORIES:Children,Community,Family
ATTACH;FMTTYPE=image/jpeg:https://www.thriveservices.org.au/wp-content/uploads/2023/08/Untitled-design-1.jpg
END:VEVENT
BEGIN:VEVENT
DTSTART;TZID=Australia/Sydney:20231127T110000
DTEND;TZID=Australia/Sydney:20231127T120000
DTSTAMP:20260421T142640
CREATED:20230912T003435Z
LAST-MODIFIED:20230912T003435Z
UID:6250-1701082800-1701086400@www.thriveservices.org.au
SUMMARY:Parenting Pod
DESCRIPTION:A parenting group to provide parents with a space for a relaxing chat and coffee\, service information\, weekly discussion topics and guest speakers. \nThe Parenting Pod will be held every Monday of the school term from 11:00am – 12:00pm in the Lithgow Library. \nFor more information\, please contact our Lithgow office: \nPhone: 02 6351 4055 \nEmail: info@thriveservices.org.au \n  \n 
URL:https://www.thriveservices.org.au/event/parenting-pod-17/
LOCATION:Lithgow Library\, 157 Main Street\, Lithgow\, NSW\, 2790\, Australia
ATTACH;FMTTYPE=image/jpeg:https://www.thriveservices.org.au/wp-content/uploads/2022/02/thrive_caring.jpg
END:VEVENT
BEGIN:VEVENT
DTSTART;TZID=Australia/Sydney:20231127T093000
DTEND;TZID=Australia/Sydney:20231127T110000
DTSTAMP:20260421T142640
CREATED:20230816T020327Z
LAST-MODIFIED:20230816T020327Z
UID:6202-1701077400-1701082800@www.thriveservices.org.au
SUMMARY:Blackheath Playgroup [Term 4 2023]
DESCRIPTION:A supported playgroup for 0-5yr olds\, great for creative and social development in a friendly environment. Kids can play whilst parents/carers relax with a cup of tea. \nRunning every Monday of the term.
URL:https://www.thriveservices.org.au/event/blackheath-playgroup-term-4-2023-8/
LOCATION:Blackheath Public School\, Leichhardt St\,\, Blackheath\, 2785\, Australia
CATEGORIES:Programs
ATTACH;FMTTYPE=image/jpeg:https://www.thriveservices.org.au/wp-content/uploads/2022/03/event_Blackheath-Playgroup.jpg
END:VEVENT
BEGIN:VEVENT
DTSTART;TZID=Australia/Sydney:20231123T093000
DTEND;TZID=Australia/Sydney:20231123T110000
DTSTAMP:20260421T142640
CREATED:20230816T013301Z
LAST-MODIFIED:20230926T054626Z
UID:6180-1700731800-1700737200@www.thriveservices.org.au
SUMMARY:Kids in Kommon
DESCRIPTION:Cuppa and Chat Parenting Group \nDo you have questions about your child’s development? Would you like to connect with other parents and carers in your local community? \nCome along to kids in Kommon! \nRelax with a cuppa and get answers to your questions. \nNeed to bring the kids? No problem\, we have a play space just for them! \nWhen: Thursdays [During School Terms] 9:30am-11:00am \nStarting: 19.10.2023 \nWhere: 2 Station Street Katoomba [Thrive Services]
URL:https://www.thriveservices.org.au/event/kids-in-kommon-7/
LOCATION:Thrive Katoomba Office\, 2 Station Street\, Katoomba\, NSW\, 2730\, Australia
CATEGORIES:Children,Community,Family
ATTACH;FMTTYPE=image/jpeg:https://www.thriveservices.org.au/wp-content/uploads/2023/08/Untitled-design-1.jpg
END:VEVENT
BEGIN:VEVENT
DTSTART;TZID=Australia/Sydney:20231120T110000
DTEND;TZID=Australia/Sydney:20231120T120000
DTSTAMP:20260421T142640
CREATED:20230912T003358Z
LAST-MODIFIED:20230912T003358Z
UID:6248-1700478000-1700481600@www.thriveservices.org.au
SUMMARY:Parenting Pod
DESCRIPTION:A parenting group to provide parents with a space for a relaxing chat and coffee\, service information\, weekly discussion topics and guest speakers. \nThe Parenting Pod will be held every Monday of the school term from 11:00am – 12:00pm in the Lithgow Library. \nFor more information\, please contact our Lithgow office: \nPhone: 02 6351 4055 \nEmail: info@thriveservices.org.au \n  \n 
URL:https://www.thriveservices.org.au/event/parenting-pod-16/
LOCATION:Lithgow Library\, 157 Main Street\, Lithgow\, NSW\, 2790\, Australia
ATTACH;FMTTYPE=image/jpeg:https://www.thriveservices.org.au/wp-content/uploads/2022/02/thrive_caring.jpg
END:VEVENT
BEGIN:VEVENT
DTSTART;TZID=Australia/Sydney:20231120T093000
DTEND;TZID=Australia/Sydney:20231120T110000
DTSTAMP:20260421T142640
CREATED:20230816T015954Z
LAST-MODIFIED:20230816T015954Z
UID:6200-1700472600-1700478000@www.thriveservices.org.au
SUMMARY:Blackheath Playgroup [Term 4 2023]
DESCRIPTION:A supported playgroup for 0-5yr olds\, great for creative and social development in a friendly environment. Kids can play whilst parents/carers relax with a cup of tea. \nRunning every Monday of the term.
URL:https://www.thriveservices.org.au/event/blackheath-playgroup-term-4-2023-7/
LOCATION:Blackheath Public School\, Leichhardt St\,\, Blackheath\, 2785\, Australia
CATEGORIES:Programs
ATTACH;FMTTYPE=image/jpeg:https://www.thriveservices.org.au/wp-content/uploads/2022/03/event_Blackheath-Playgroup.jpg
END:VEVENT
BEGIN:VEVENT
DTSTART;TZID=Australia/Sydney:20231116T093000
DTEND;TZID=Australia/Sydney:20231123T110000
DTSTAMP:20260421T142640
CREATED:20230816T013216Z
LAST-MODIFIED:20230926T054559Z
UID:6178-1700127000-1700737200@www.thriveservices.org.au
SUMMARY:Kids in Kommon
DESCRIPTION:Cuppa and Chat Parenting Group \nDo you have questions about your child’s development? Would you like to connect with other parents and carers in your local community? \nCome along to kids in Kommon! \nRelax with a cuppa and get answers to your questions. \nNeed to bring the kids? No problem\, we have a play space just for them! \nWhen: Thursdays [During School Terms] 9:30am-11:00am \nStarting: 19.10.2023 \nWhere: 2 Station Street Katoomba [Thrive Services]
URL:https://www.thriveservices.org.au/event/kids-in-kommon-6/
LOCATION:Thrive Katoomba Office\, 2 Station Street\, Katoomba\, NSW\, 2730\, Australia
CATEGORIES:Children,Community,Family
ATTACH;FMTTYPE=image/jpeg:https://www.thriveservices.org.au/wp-content/uploads/2023/08/Untitled-design-1.jpg
END:VEVENT
BEGIN:VEVENT
DTSTART;TZID=Australia/Sydney:20231113T110000
DTEND;TZID=Australia/Sydney:20231113T120000
DTSTAMP:20260421T142640
CREATED:20230912T003302Z
LAST-MODIFIED:20230912T003302Z
UID:6246-1699873200-1699876800@www.thriveservices.org.au
SUMMARY:Parenting Pod
DESCRIPTION:A parenting group to provide parents with a space for a relaxing chat and coffee\, service information\, weekly discussion topics and guest speakers. \nThe Parenting Pod will be held every Monday of the school term from 11:00am – 12:00pm in the Lithgow Library. \nFor more information\, please contact our Lithgow office: \nPhone: 02 6351 4055 \nEmail: info@thriveservices.org.au \n  \n 
URL:https://www.thriveservices.org.au/event/parenting-pod-15/
LOCATION:Lithgow Library\, 157 Main Street\, Lithgow\, NSW\, 2790\, Australia
ATTACH;FMTTYPE=image/jpeg:https://www.thriveservices.org.au/wp-content/uploads/2022/02/thrive_caring.jpg
END:VEVENT
END:VCALENDAR