BEGIN:VCALENDAR
VERSION:2.0
PRODID:-//Thrive Services - ECPv5.16.4//NONSGML v1.0//EN
CALSCALE:GREGORIAN
METHOD:PUBLISH
X-WR-CALNAME:Thrive Services
X-ORIGINAL-URL:https://www.thriveservices.org.au
X-WR-CALDESC:Events for Thrive Services
REFRESH-INTERVAL;VALUE=DURATION:PT1H
X-Robots-Tag:noindex
X-PUBLISHED-TTL:PT1H
BEGIN:VTIMEZONE
TZID:Australia/Sydney
BEGIN:STANDARD
TZOFFSETFROM:+1100
TZOFFSETTO:+1000
TZNAME:AEST
DTSTART:20220402T160000
END:STANDARD
BEGIN:DAYLIGHT
TZOFFSETFROM:+1000
TZOFFSETTO:+1100
TZNAME:AEDT
DTSTART:20221001T160000
END:DAYLIGHT
BEGIN:STANDARD
TZOFFSETFROM:+1100
TZOFFSETTO:+1000
TZNAME:AEST
DTSTART:20230401T160000
END:STANDARD
BEGIN:DAYLIGHT
TZOFFSETFROM:+1000
TZOFFSETTO:+1100
TZNAME:AEDT
DTSTART:20230930T160000
END:DAYLIGHT
END:VTIMEZONE
BEGIN:VEVENT
DTSTART;TZID=Australia/Sydney:20230213T093000
DTEND;TZID=Australia/Sydney:20230213T110000
DTSTAMP:20260424T015422
CREATED:20230112T031022Z
LAST-MODIFIED:20230130T031438Z
UID:5897-1676280600-1676286000@www.thriveservices.org.au
SUMMARY:Blackheath Playgroup [Term 1 2023]
DESCRIPTION:A supported playgroup for 0-5yr olds\, great for creative and social development in a friendly environment. Kids can play whilst parents/carers relax with a cup of tea. \nRunning every Monday of the term.
URL:https://www.thriveservices.org.au/event/blackheath-playgroup-term-1-2023/
LOCATION:Blackheath Public School\, Leichhardt St\,\, Blackheath\, 2785\, Australia
CATEGORIES:Programs
ATTACH;FMTTYPE=image/jpeg:https://www.thriveservices.org.au/wp-content/uploads/2022/03/event_Blackheath-Playgroup.jpg
END:VEVENT
BEGIN:VEVENT
DTSTART;TZID=Australia/Sydney:20230206T093000
DTEND;TZID=Australia/Sydney:20230206T110000
DTSTAMP:20260424T015422
CREATED:20230112T024207Z
LAST-MODIFIED:20230130T030948Z
UID:5895-1675675800-1675681200@www.thriveservices.org.au
SUMMARY:Blackheath Playgroup [Term 1 2023]
DESCRIPTION:A supported playgroup for 0-5yr olds\, great for creative and social development in a friendly environment. Kids can play whilst parents/carers relax with a cup of tea. \nRunning every Monday of the term.
URL:https://www.thriveservices.org.au/event/blackheath-playgroup-term-1-2023-1/
LOCATION:Blackheath Public School\, Leichhardt St\,\, Blackheath\, 2785\, Australia
CATEGORIES:Programs
ATTACH;FMTTYPE=image/jpeg:https://www.thriveservices.org.au/wp-content/uploads/2022/03/event_Blackheath-Playgroup.jpg
END:VEVENT
BEGIN:VEVENT
DTSTART;TZID=Australia/Sydney:20230116T100000
DTEND;TZID=Australia/Sydney:20230116T120000
DTSTAMP:20260424T015422
CREATED:20221214T232609Z
LAST-MODIFIED:20221214T232609Z
UID:5872-1673863200-1673870400@www.thriveservices.org.au
SUMMARY:Art and Games
DESCRIPTION:Join us for a fun morning of games\, art\, and craft. \nMorning tea is included \nDate: Monday 16th January 2023 \nTime: 10:00-12:00 \nAge of Kids: 5-12years \nLocation: 2 Station Street\, Katoomba \n  \nPlease RSVP to secure your place. \nRSVP: aga@thriveservices.org.au
URL:https://www.thriveservices.org.au/event/art-and-games/
LOCATION:Thrive Katoomba Office\, 2 Station Street\, Katoomba\, NSW\, 2730\, Australia
CATEGORIES:Children
ATTACH;FMTTYPE=image/jpeg:https://www.thriveservices.org.au/wp-content/uploads/2022/12/ubu-komarova-oiCJZb4Nuq4-unsplash-scaled.jpg
END:VEVENT
BEGIN:VEVENT
DTSTART;TZID=Australia/Sydney:20221221T100000
DTEND;TZID=Australia/Sydney:20221221T120000
DTSTAMP:20260424T015422
CREATED:20221204T231542Z
LAST-MODIFIED:20221204T231542Z
UID:5859-1671616800-1671624000@www.thriveservices.org.au
SUMMARY:Christmas Craft Activity
DESCRIPTION:On Wednesday the 21st of December from 10am – 12pm Thrive – Lithgow will be running a Christmas craft activity for Lithgow LGA school children aged 5-12yrs. \nIt will be held at our Lithgow Office 11 Railway Pde Lithgow. Registration is required as we have a limited number of spots.  If you are interested in attending please register by the 16th of December by emailing \ntracy@thriveservices.org.au or  calling 6351 4055.
URL:https://www.thriveservices.org.au/event/christmas-craft-activity/
LOCATION:Thrive Lithgow Office\, 174 Landa St\, Bowenfels\, NSW\, 2790\, Australia
ATTACH;FMTTYPE=image/jpeg:https://www.thriveservices.org.au/wp-content/uploads/2022/12/ksenia-ya-mY_URgDbQ8U-unsplash.jpg
END:VEVENT
BEGIN:VEVENT
DTSTART;TZID=Australia/Sydney:20221205T093000
DTEND;TZID=Australia/Sydney:20221205T110000
DTSTAMP:20260424T015422
CREATED:20221005T002408Z
LAST-MODIFIED:20221005T002408Z
UID:5765-1670232600-1670238000@www.thriveservices.org.au
SUMMARY:Blackheath Playgroup [Term 4 2022]
DESCRIPTION:A supported playgroup for 0-5yr olds\, great for creative and social development in a friendly environment. Kids can play whilst parents/carers relax with a cup of tea. \nRunning every Monday of the term.
URL:https://www.thriveservices.org.au/event/blackheath-playgroup-term-4-5-12-22/
LOCATION:Blackheath Public School\, Leichhardt St\,\, Blackheath\, 2785\, Australia
CATEGORIES:Programs
ATTACH;FMTTYPE=image/jpeg:https://www.thriveservices.org.au/wp-content/uploads/2022/03/event_Blackheath-Playgroup.jpg
END:VEVENT
BEGIN:VEVENT
DTSTART;TZID=Australia/Sydney:20221128T093000
DTEND;TZID=Australia/Sydney:20221128T110000
DTSTAMP:20260424T015422
CREATED:20221005T002119Z
LAST-MODIFIED:20221005T002119Z
UID:5763-1669627800-1669633200@www.thriveservices.org.au
SUMMARY:Blackheath Playgroup [Term 4 2022]
DESCRIPTION:A supported playgroup for 0-5yr olds\, great for creative and social development in a friendly environment. Kids can play whilst parents/carers relax with a cup of tea. \nRunning every Monday of the term.
URL:https://www.thriveservices.org.au/event/blackheath-playgroup-term-4-28-11-22/
LOCATION:Blackheath Public School\, Leichhardt St\,\, Blackheath\, 2785\, Australia
CATEGORIES:Programs
ATTACH;FMTTYPE=image/jpeg:https://www.thriveservices.org.au/wp-content/uploads/2022/03/event_Blackheath-Playgroup.jpg
END:VEVENT
BEGIN:VEVENT
DTSTART;TZID=Australia/Sydney:20221121T160000
DTEND;TZID=Australia/Sydney:20221121T173000
DTSTAMP:20260424T015422
CREATED:20221024T011701Z
LAST-MODIFIED:20221024T011701Z
UID:5812-1669046400-1669051800@www.thriveservices.org.au
SUMMARY:Thrive Annual General Meeting
DESCRIPTION:Thrive Services invites you to join us for our Annual General Meeting on Monday the 21st of November 2022. The meeting will take place at our Katoomba office – 2 Station Street\, Katoomba and will begin at 4:00pm  \nWe have greatly valued your support over the last year and we hope to see you there. \nPlease RSVP to CEO@thriveservices.org.au by the 18th of November 2022
URL:https://www.thriveservices.org.au/event/thrive-annual-general-meeting/
LOCATION:Thrive Katoomba Office\, 2 Station Street\, Katoomba\, NSW\, 2730\, Australia
CATEGORIES:Community
ATTACH;FMTTYPE=image/png:https://www.thriveservices.org.au/wp-content/uploads/2019/02/ThriveServices_logoBlack.png
END:VEVENT
BEGIN:VEVENT
DTSTART;TZID=Australia/Sydney:20221121T093000
DTEND;TZID=Australia/Sydney:20221121T110000
DTSTAMP:20260424T015422
CREATED:20221005T001953Z
LAST-MODIFIED:20221005T001953Z
UID:5761-1669023000-1669028400@www.thriveservices.org.au
SUMMARY:Blackheath Playgroup [Term 4 2022]
DESCRIPTION:A supported playgroup for 0-5yr olds\, great for creative and social development in a friendly environment. Kids can play whilst parents/carers relax with a cup of tea. \nRunning every Monday of the term.
URL:https://www.thriveservices.org.au/event/blackheath-playgroup-term-4-21-11-22/
LOCATION:Blackheath Public School\, Leichhardt St\,\, Blackheath\, 2785\, Australia
CATEGORIES:Programs
ATTACH;FMTTYPE=image/jpeg:https://www.thriveservices.org.au/wp-content/uploads/2022/03/event_Blackheath-Playgroup.jpg
END:VEVENT
BEGIN:VEVENT
DTSTART;TZID=Australia/Sydney:20221114T093000
DTEND;TZID=Australia/Sydney:20221114T110000
DTSTAMP:20260424T015422
CREATED:20221005T001912Z
LAST-MODIFIED:20221005T001912Z
UID:5759-1668418200-1668423600@www.thriveservices.org.au
SUMMARY:Blackheath Playgroup [Term 4 2022]
DESCRIPTION:A supported playgroup for 0-5yr olds\, great for creative and social development in a friendly environment. Kids can play whilst parents/carers relax with a cup of tea. \nRunning every Monday of the term.
URL:https://www.thriveservices.org.au/event/blackheath-playgroup-term-4-17-11-22/
LOCATION:Blackheath Public School\, Leichhardt St\,\, Blackheath\, 2785\, Australia
CATEGORIES:Programs
ATTACH;FMTTYPE=image/jpeg:https://www.thriveservices.org.au/wp-content/uploads/2022/03/event_Blackheath-Playgroup.jpg
END:VEVENT
BEGIN:VEVENT
DTSTART;TZID=Australia/Sydney:20221107T093000
DTEND;TZID=Australia/Sydney:20221107T110000
DTSTAMP:20260424T015422
CREATED:20221005T001751Z
LAST-MODIFIED:20221005T001751Z
UID:5757-1667813400-1667818800@www.thriveservices.org.au
SUMMARY:Blackheath Playgroup [Term 4 2022]
DESCRIPTION:A supported playgroup for 0-5yr olds\, great for creative and social development in a friendly environment. Kids can play whilst parents/carers relax with a cup of tea. \nRunning every Monday of the term.
URL:https://www.thriveservices.org.au/event/blackheath-playgroup-term-4-7-11-22/
LOCATION:Blackheath Public School\, Leichhardt St\,\, Blackheath\, 2785\, Australia
CATEGORIES:Programs
ATTACH;FMTTYPE=image/jpeg:https://www.thriveservices.org.au/wp-content/uploads/2022/03/event_Blackheath-Playgroup.jpg
END:VEVENT
BEGIN:VEVENT
DTSTART;TZID=Australia/Sydney:20221031T093000
DTEND;TZID=Australia/Sydney:20221031T110000
DTSTAMP:20260424T015422
CREATED:20221005T001643Z
LAST-MODIFIED:20221005T001643Z
UID:5755-1667208600-1667214000@www.thriveservices.org.au
SUMMARY:Blackheath Playgroup [Term 4 2022]
DESCRIPTION:A supported playgroup for 0-5yr olds\, great for creative and social development in a friendly environment. Kids can play whilst parents/carers relax with a cup of tea. \nRunning every Monday of the term.
URL:https://www.thriveservices.org.au/event/blackheath-playgroup-term-4-31-10-22/
LOCATION:Blackheath Public School\, Leichhardt St\,\, Blackheath\, 2785\, Australia
CATEGORIES:Programs
ATTACH;FMTTYPE=image/jpeg:https://www.thriveservices.org.au/wp-content/uploads/2022/03/event_Blackheath-Playgroup.jpg
END:VEVENT
BEGIN:VEVENT
DTSTART;TZID=Australia/Sydney:20221030T150000
DTEND;TZID=Australia/Sydney:20221030T180000
DTSTAMP:20260424T015422
CREATED:20221020T004915Z
LAST-MODIFIED:20221020T004915Z
UID:5792-1667142000-1667152800@www.thriveservices.org.au
SUMMARY:Culture Connect
DESCRIPTION:A free fun day for culturally diverse families living in the Blue Mountains. \nLocated at the Mid Mountains community Centre\, New Street\, Lawson. \nFor more information call MOCS on 47586811 or Thrive Services on 47821555. \n  \n 
URL:https://www.thriveservices.org.au/event/culture-connect/
LOCATION:Mid Mountains Community Centre\, 7 New Street\, Lawson\, NSW\, 2783\, Australia
CATEGORIES:Community,Family
ATTACH;FMTTYPE=image/jpeg:https://www.thriveservices.org.au/wp-content/uploads/2022/10/pexels-عبدالرحمن-الشناوي-11015643-scaled.jpg
END:VEVENT
BEGIN:VEVENT
DTSTART;TZID=Australia/Sydney:20221028T163000
DTEND;TZID=Australia/Sydney:20221028T190000
DTSTAMP:20260424T015422
CREATED:20221020T010108Z
LAST-MODIFIED:20221020T010108Z
UID:5801-1666974600-1666983600@www.thriveservices.org.au
SUMMARY:Mt Vic Community Evening
DESCRIPTION:Gateway\, BANC and Thrive Services present Mt Vic Community evening. \nFun for the whole family including Drumming\, a RFS firetruck\, face painting\, temporary tattoos\, Katoomba women’s shed BBQ\, circus performers and more… \nEntry is Free \n“Event will be cancelled if raining”
URL:https://www.thriveservices.org.au/event/mt-vic-community-evening/
LOCATION:Mt Victoria Public School\, 105-107 Great Western Hwy\, Mount Victoria\, NSW\, 2786\, Australia
CATEGORIES:Community
ATTACH;FMTTYPE=image/jpeg:https://www.thriveservices.org.au/wp-content/uploads/2022/10/pexels-padli-pradana-772478-scaled.jpg
END:VEVENT
BEGIN:VEVENT
DTSTART;TZID=Australia/Sydney:20221026T100000
DTEND;TZID=Australia/Sydney:20221026T130000
DTSTAMP:20260424T015422
CREATED:20221020T005007Z
LAST-MODIFIED:20221020T005007Z
UID:5798-1666778400-1666789200@www.thriveservices.org.au
SUMMARY:Culture Connect
DESCRIPTION:A free fun day for culturally diverse families living in the Blue Mountains. \nLocated at Queen Elizabeth Park\, Lithgow \nFor more information call MOCS on 47586811 or Thrive Services on 47821555. \n  \n 
URL:https://www.thriveservices.org.au/event/culture-connect-2/
LOCATION:Queen Elizabeth Park\, 227 Main Street\, Lithgow\, NSW\, 2790\, Australia
CATEGORIES:Community,Family
ATTACH;FMTTYPE=image/jpeg:https://www.thriveservices.org.au/wp-content/uploads/2022/10/pexels-عبدالرحمن-الشناوي-11015643-scaled.jpg
END:VEVENT
BEGIN:VEVENT
DTSTART;TZID=Australia/Sydney:20221025T111500
DTEND;TZID=Australia/Sydney:20221025T120000
DTSTAMP:20260424T015422
CREATED:20221005T023553Z
LAST-MODIFIED:20221010T224548Z
UID:5771-1666696500-1666699200@www.thriveservices.org.au
SUMMARY:Boot Camp - Mental Health Month
DESCRIPTION:Join us this Mental Health Month for two free boot camp sessions. \n\nThrive Services\, with the support of WayAhead – Mental health Association NSW\, will be running two free boot camp sessions. Come along and enjoy movement in a safe\, supportive environment. The sessions will be followed by a healthy snack box to take home.\n\n\n\n\n\nTo book your spot\, contact Sheree on 6351 4055 or email: Sheree@thriveservices.org.au
URL:https://www.thriveservices.org.au/event/boot-camp-mental-health-week/
LOCATION:Vanguard Fitness\, 13 Gray Street\, Lithgow\, NSW\, 2790\, Australia
ATTACH;FMTTYPE=image/jpeg:https://www.thriveservices.org.au/wp-content/uploads/2022/10/trust-tru-katsande-Pu7BOaYlYGY-unsplash-scaled.jpg
END:VEVENT
BEGIN:VEVENT
DTSTART;TZID=Australia/Sydney:20221024T093000
DTEND;TZID=Australia/Sydney:20221024T110000
DTSTAMP:20260424T015422
CREATED:20221005T001550Z
LAST-MODIFIED:20221005T001550Z
UID:5753-1666603800-1666609200@www.thriveservices.org.au
SUMMARY:Blackheath Playgroup [Term 4 2022]
DESCRIPTION:A supported playgroup for 0-5yr olds\, great for creative and social development in a friendly environment. Kids can play whilst parents/carers relax with a cup of tea. \nRunning every Monday of the term.
URL:https://www.thriveservices.org.au/event/blackheath-playgroup-term-4-24-10-22/
LOCATION:Blackheath Public School\, Leichhardt St\,\, Blackheath\, 2785\, Australia
CATEGORIES:Programs
ATTACH;FMTTYPE=image/jpeg:https://www.thriveservices.org.au/wp-content/uploads/2022/03/event_Blackheath-Playgroup.jpg
END:VEVENT
BEGIN:VEVENT
DTSTART;TZID=Australia/Sydney:20221018T111500
DTEND;TZID=Australia/Sydney:20221018T120000
DTSTAMP:20260424T015422
CREATED:20221005T024847Z
LAST-MODIFIED:20221005T024847Z
UID:5786-1666091700-1666094400@www.thriveservices.org.au
SUMMARY:Boot Camp - Mental Health Month
DESCRIPTION:Join us this Mental Health Month for two free boot camp sessions. \n\nThrive Services\, with the support of WayAhead – Mental health Association NSW\, will be running two free boot camp sessions. Come along and enjoy movement in a safe\, supportive environment. The sessions will be followed by a healthy snack box to take home.\n\n\n\n\n\nTo book your spot\, contact Sheree on 6351 4055 or email: Sheree@thriveservices.org.au
URL:https://www.thriveservices.org.au/event/boot-camp-mental-health-month/
LOCATION:Vanguard Fitness\, 13 Gray Street\, Lithgow\, NSW\, 2790\, Australia
ATTACH;FMTTYPE=image/jpeg:https://www.thriveservices.org.au/wp-content/uploads/2022/10/trust-tru-katsande-Pu7BOaYlYGY-unsplash-scaled.jpg
END:VEVENT
BEGIN:VEVENT
DTSTART;TZID=Australia/Sydney:20221017T093000
DTEND;TZID=Australia/Sydney:20221017T110000
DTSTAMP:20260424T015422
CREATED:20221005T001421Z
LAST-MODIFIED:20221005T001421Z
UID:5751-1665999000-1666004400@www.thriveservices.org.au
SUMMARY:Blackheath Playgroup [Term 4 2022]
DESCRIPTION:A supported playgroup for 0-5yr olds\, great for creative and social development in a friendly environment. Kids can play whilst parents/carers relax with a cup of tea. \nRunning every Monday of the term.
URL:https://www.thriveservices.org.au/event/blackheath-playgroup-term-4-17-10-22/
LOCATION:Blackheath Public School\, Leichhardt St\,\, Blackheath\, 2785\, Australia
CATEGORIES:Programs
ATTACH;FMTTYPE=image/jpeg:https://www.thriveservices.org.au/wp-content/uploads/2022/03/event_Blackheath-Playgroup.jpg
END:VEVENT
BEGIN:VEVENT
DTSTART;TZID=Australia/Sydney:20221010T093000
DTEND;TZID=Australia/Sydney:20221010T110000
DTSTAMP:20260424T015422
CREATED:20220927T040014Z
LAST-MODIFIED:20220927T043432Z
UID:5739-1665394200-1665399600@www.thriveservices.org.au
SUMMARY:Blackheath Playgroup [Term 4 2022]
DESCRIPTION:A supported playgroup for 0-5yr olds\, great for creative and social development in a friendly environment. Kids can play whilst parents/carers relax with a cup of tea. \nRunning every Monday of the term.
URL:https://www.thriveservices.org.au/event/blackheath-playgroup-term-4-2022/
LOCATION:Blackheath Public School\, Leichhardt St\,\, Blackheath\, 2785\, Australia
CATEGORIES:Programs
ATTACH;FMTTYPE=image/jpeg:https://www.thriveservices.org.au/wp-content/uploads/2022/03/event_Blackheath-Playgroup.jpg
END:VEVENT
BEGIN:VEVENT
DTSTART;TZID=Australia/Sydney:20221005T100000
DTEND;TZID=Australia/Sydney:20221005T120000
DTSTAMP:20260424T015422
CREATED:20221005T030804Z
LAST-MODIFIED:20221005T030804Z
UID:5788-1664964000-1664971200@www.thriveservices.org.au
SUMMARY:Get cooking!
DESCRIPTION:Thrive Services at Katoomba is planning a fun school holiday activity for school aged children on the 5th of October 2022. \nJoin us to make pancakes and learn exciting ways to make your own school lunch. \nThis activity is for children aged 5-12 years of age. \nSpaces are limited so don’t forget to register by emailing fiona@thriveservices.org.au
URL:https://www.thriveservices.org.au/event/get-cooking/
LOCATION:Thrive Katoomba Office\, 2 Station Street\, Katoomba\, NSW\, 2730\, Australia
ATTACH;FMTTYPE=image/jpeg:https://www.thriveservices.org.au/wp-content/uploads/2022/10/giorgio-trovato-yU5gbMc12Hc-unsplash-scaled.jpg
END:VEVENT
BEGIN:VEVENT
DTSTART;TZID=Australia/Sydney:20220923T100000
DTEND;TZID=Australia/Sydney:20220923T123000
DTSTAMP:20260424T015422
CREATED:20220922T140000Z
LAST-MODIFIED:20220927T161833Z
UID:5689-1663927200-1663936200@www.thriveservices.org.au
SUMMARY:Parenting Young [Term 3 2022]
DESCRIPTION:A program that involves Blue Mountains agencies networking together to promote the well-being of young parents (up to the age of 24) and their children. Including playgroups and activities. \nRuns every Friday of the term.
URL:https://www.thriveservices.org.au/event/parenting-young-230922/
LOCATION:Bungarrabee Centre\, 48-50 Oaklands Rd\, Hazelbrook\, NSW\, 2779\, Australia
ATTACH;FMTTYPE=image/jpeg:https://www.thriveservices.org.au/wp-content/uploads/2022/04/event_Parenting-Young.jpg
END:VEVENT
BEGIN:VEVENT
DTSTART;TZID=Australia/Sydney:20220922T160000
DTEND;TZID=Australia/Sydney:20220922T180000
DTSTAMP:20260424T015422
CREATED:20220824T014159Z
LAST-MODIFIED:20220826T033559Z
UID:5707-1663862400-1663869600@www.thriveservices.org.au
SUMMARY:No Scaredy Cats [Session 3 of 3]
DESCRIPTION:No Scaredy Cats is a child development course that aims to support you and your child through the ups and downs of life. It is what we call a ‘parent-led’ approach\, meaning that you take on the role of the coach in your child’s life\, and are able to guide them through emotionally distressing episodes. \nAttend all three sessions to complete the course.
URL:https://www.thriveservices.org.au/event/no-scaredy-cats-term-220922/
LOCATION:Kookaburra Kindergarten\, 9-11 Park Ave\, Blackheath\, New South Wales\, 2785\, Australia
CATEGORIES:Family
ATTACH;FMTTYPE=image/jpeg:https://www.thriveservices.org.au/wp-content/uploads/2022/06/event_No-Scaredy-Cats.jpg
END:VEVENT
BEGIN:VEVENT
DTSTART;TZID=Australia/Sydney:20220922T100000
DTEND;TZID=Australia/Sydney:20220922T120000
DTSTAMP:20260424T015422
CREATED:20220921T140000Z
LAST-MODIFIED:20220826T042954Z
UID:5608-1663840800-1663848000@www.thriveservices.org.au
SUMMARY:Katoomba Play Group [Term 3 2022]
DESCRIPTION:Supported playgroups are an informal play session where you can meet other parents and your child can enjoy quality play experiences that support your child to build friendships and develop skills essential for starting school. \nRunning every Thursday during term.
URL:https://www.thriveservices.org.au/event/katoomba-play-group-term-3-220922/
LOCATION:Katoomba Guide Hall\, 17 Station Street\, Katoomba\, NSW\, 2780\, Australia
ATTACH;FMTTYPE=image/jpeg:https://www.thriveservices.org.au/wp-content/uploads/2022/08/Thrive-Services-Play-Group.jpg
END:VEVENT
BEGIN:VEVENT
DTSTART;TZID=Australia/Sydney:20220921T100000
DTEND;TZID=Australia/Sydney:20220921T113000
DTSTAMP:20260424T015422
CREATED:20220824T022837Z
LAST-MODIFIED:20220826T034651Z
UID:5718-1663754400-1663759800@www.thriveservices.org.au
SUMMARY:Parenting Children With ADHD [Session 4 of 4]
DESCRIPTION:Join us for our new ‘Parenting Children with ADHD’ program\, beginning on 13th September. The program runs over 2 weeks and includes 4 sessions to teach you the skills\, and discuss what strategies you can use to mange your child’s behaviour.
URL:https://www.thriveservices.org.au/event/parenting-children-with-adhd-210922/
LOCATION:Thrive Katoomba Office\, 2 Station Street\, Katoomba\, NSW\, 2730\, Australia
ATTACH;FMTTYPE=image/jpeg:https://www.thriveservices.org.au/wp-content/uploads/2022/08/jordan-whitt-KQCXf_zvdaU-unsplash-scaled.jpg
END:VEVENT
BEGIN:VEVENT
DTSTART;TZID=Australia/Sydney:20220920T100000
DTEND;TZID=Australia/Sydney:20220920T113000
DTSTAMP:20260424T015422
CREATED:20220824T022736Z
LAST-MODIFIED:20220826T034553Z
UID:5716-1663668000-1663673400@www.thriveservices.org.au
SUMMARY:Parenting Children With ADHD [Session 3 of 4]
DESCRIPTION:Join us for our new ‘Parenting Children with ADHD’ program\, beginning on 13th September. The program runs over 2 weeks and includes 4 sessions to teach you the skills\, and discuss what strategies you can use to mange your child’s behaviour.
URL:https://www.thriveservices.org.au/event/parenting-children-with-adhd-200922/
LOCATION:Thrive Katoomba Office\, 2 Station Street\, Katoomba\, NSW\, 2730\, Australia
ATTACH;FMTTYPE=image/jpeg:https://www.thriveservices.org.au/wp-content/uploads/2022/08/jordan-whitt-KQCXf_zvdaU-unsplash-scaled.jpg
END:VEVENT
BEGIN:VEVENT
DTSTART;TZID=Australia/Sydney:20220919T093000
DTEND;TZID=Australia/Sydney:20220919T110000
DTSTAMP:20260424T015422
CREATED:20220816T041833Z
LAST-MODIFIED:20220826T041812Z
UID:5650-1663579800-1663585200@www.thriveservices.org.au
SUMMARY:Blackheath Playgroup [Term 3 2022]
DESCRIPTION:A supported playgroup for 0-5yr olds\, great for creative and social development in a friendly environment. Kids can play whilst parents/carers relax with a cup of tea. \nRunning every Monday of the term.
URL:https://www.thriveservices.org.au/event/blackheath-playgroup-term-3-190922/
LOCATION:Blackheath Public School\, Leichhardt St\,\, Blackheath\, 2785\, Australia
ATTACH;FMTTYPE=image/jpeg:https://www.thriveservices.org.au/wp-content/uploads/2022/03/event_Blackheath-Playgroup.jpg
END:VEVENT
BEGIN:VEVENT
DTSTART;TZID=Australia/Sydney:20220916T100000
DTEND;TZID=Australia/Sydney:20220916T123000
DTSTAMP:20260424T015422
CREATED:20220816T045323Z
LAST-MODIFIED:20220826T040301Z
UID:5687-1663322400-1663331400@www.thriveservices.org.au
SUMMARY:Parenting Young [Term 3 2022]
DESCRIPTION:A program that involves Blue Mountains agencies networking together to promote the well-being of young parents (up to the age of 24) and their children. Including playgroups and activities. \nRuns every Friday of the term.
URL:https://www.thriveservices.org.au/event/parenting-young-160922/
LOCATION:Bungarrabee Centre\, 48-50 Oaklands Rd\, Hazelbrook\, NSW\, 2779\, Australia
ATTACH;FMTTYPE=image/jpeg:https://www.thriveservices.org.au/wp-content/uploads/2022/04/event_Parenting-Young.jpg
END:VEVENT
BEGIN:VEVENT
DTSTART;TZID=Australia/Sydney:20220915T160000
DTEND;TZID=Australia/Sydney:20220915T180000
DTSTAMP:20260424T015422
CREATED:20220824T013608Z
LAST-MODIFIED:20220826T032620Z
UID:5705-1663257600-1663264800@www.thriveservices.org.au
SUMMARY:No Scaredy Cats [Session 2 of 3]
DESCRIPTION:No Scaredy Cats is a child development course that aims to support you and your child through the ups and downs of life. It is what we call a ‘parent-led’ approach\, meaning that you take on the role of the coach in your child’s life\, and are able to guide them through emotionally distressing episodes. \nAttend all three sessions to complete the course.
URL:https://www.thriveservices.org.au/event/no-scaredy-cats-150922/
LOCATION:Kookaburra Kindergarten\, 9-11 Park Ave\, Blackheath\, New South Wales\, 2785\, Australia
CATEGORIES:Family
ATTACH;FMTTYPE=image/jpeg:https://www.thriveservices.org.au/wp-content/uploads/2022/06/event_No-Scaredy-Cats.jpg
END:VEVENT
BEGIN:VEVENT
DTSTART;TZID=Australia/Sydney:20220915T100000
DTEND;TZID=Australia/Sydney:20220915T120000
DTSTAMP:20260424T015422
CREATED:20220816T035411Z
LAST-MODIFIED:20220826T042903Z
UID:5606-1663236000-1663243200@www.thriveservices.org.au
SUMMARY:Katoomba Play Group [Term 3 2022]
DESCRIPTION:Supported playgroups are an informal play session where you can meet other parents and your child can enjoy quality play experiences that support your child to build friendships and develop skills essential for starting school. \nRunning every Thursday during term.
URL:https://www.thriveservices.org.au/event/katoomba-play-group-term-3-150922/
LOCATION:Katoomba Guide Hall\, 17 Station Street\, Katoomba\, NSW\, 2780\, Australia
ATTACH;FMTTYPE=image/jpeg:https://www.thriveservices.org.au/wp-content/uploads/2022/08/Thrive-Services-Play-Group.jpg
END:VEVENT
BEGIN:VEVENT
DTSTART;TZID=Australia/Sydney:20220914T100000
DTEND;TZID=Australia/Sydney:20220914T113000
DTSTAMP:20260424T015422
CREATED:20220824T022606Z
LAST-MODIFIED:20220826T034743Z
UID:5714-1663149600-1663155000@www.thriveservices.org.au
SUMMARY:Parenting Children With ADHD [Session 2 of 4]
DESCRIPTION:Join us for our new ‘Parenting Children with ADHD’ program\, beginning on 13th September. The program runs over 2 weeks and includes 4 sessions to teach you the skills\, and discuss what strategies you can use to mange your child’s behaviour.
URL:https://www.thriveservices.org.au/event/parenting-children-with-adhd-140922/
LOCATION:Thrive Katoomba Office\, 2 Station Street\, Katoomba\, NSW\, 2730\, Australia
ATTACH;FMTTYPE=image/jpeg:https://www.thriveservices.org.au/wp-content/uploads/2022/08/jordan-whitt-KQCXf_zvdaU-unsplash-scaled.jpg
END:VEVENT
END:VCALENDAR