BEGIN:VCALENDAR
VERSION:2.0
PRODID:-//Thrive Services - ECPv5.16.4//NONSGML v1.0//EN
CALSCALE:GREGORIAN
METHOD:PUBLISH
X-WR-CALNAME:Thrive Services
X-ORIGINAL-URL:https://www.thriveservices.org.au
X-WR-CALDESC:Events for Thrive Services
REFRESH-INTERVAL;VALUE=DURATION:PT1H
X-Robots-Tag:noindex
X-PUBLISHED-TTL:PT1H
BEGIN:VTIMEZONE
TZID:Australia/Sydney
BEGIN:STANDARD
TZOFFSETFROM:+1100
TZOFFSETTO:+1000
TZNAME:AEST
DTSTART:20230401T160000
END:STANDARD
BEGIN:DAYLIGHT
TZOFFSETFROM:+1000
TZOFFSETTO:+1100
TZNAME:AEDT
DTSTART:20230930T160000
END:DAYLIGHT
END:VTIMEZONE
BEGIN:VEVENT
DTSTART;TZID=Australia/Sydney:20230821T093000
DTEND;TZID=Australia/Sydney:20230821T110000
DTSTAMP:20260423T152402
CREATED:20230712T012919Z
LAST-MODIFIED:20230712T012919Z
UID:6112-1692610200-1692615600@www.thriveservices.org.au
SUMMARY:Blackheath Playgroup [Term 3 2023]
DESCRIPTION:A supported playgroup for 0-5yr olds\, great for creative and social development in a friendly environment. Kids can play whilst parents/carers relax with a cup of tea. \nRunning every Monday of the term.
URL:https://www.thriveservices.org.au/event/blackheath-playgroup-term-3-2023-5/
LOCATION:Blackheath Public School\, Leichhardt St\,\, Blackheath\, 2785\, Australia
CATEGORIES:Programs
ATTACH;FMTTYPE=image/jpeg:https://www.thriveservices.org.au/wp-content/uploads/2022/03/event_Blackheath-Playgroup.jpg
END:VEVENT
BEGIN:VEVENT
DTSTART;TZID=Australia/Sydney:20230814T110000
DTEND;TZID=Australia/Sydney:20230814T120000
DTSTAMP:20260423T152402
CREATED:20230717T005127Z
LAST-MODIFIED:20230717T005127Z
UID:6137-1692010800-1692014400@www.thriveservices.org.au
SUMMARY:Parenting Pod
DESCRIPTION:A parenting group to provide parents with a space for a relaxing chat and coffee\, service information\, weekly discussion topics and guest speakers. \nThe Parenting Pod will be held every Monday of the school term from 11:00am – 12:00pm in the Lithgow Library. \nFor more information\, please contact our Lithgow office: \nPhone: 02 6351 4055 \nEmail: info@thriveservices.org.au
URL:https://www.thriveservices.org.au/event/parenting-pod-5/
LOCATION:Lithgow Library\, 157 Main Street\, Lithgow\, NSW\, 2790\, Australia
ATTACH;FMTTYPE=image/jpeg:https://www.thriveservices.org.au/wp-content/uploads/2022/02/thrive_caring.jpg
END:VEVENT
BEGIN:VEVENT
DTSTART;TZID=Australia/Sydney:20230814T093000
DTEND;TZID=Australia/Sydney:20230814T110000
DTSTAMP:20260423T152402
CREATED:20230712T012825Z
LAST-MODIFIED:20230712T012825Z
UID:6110-1692005400-1692010800@www.thriveservices.org.au
SUMMARY:Blackheath Playgroup [Term 3 2023]
DESCRIPTION:A supported playgroup for 0-5yr olds\, great for creative and social development in a friendly environment. Kids can play whilst parents/carers relax with a cup of tea. \nRunning every Monday of the term.
URL:https://www.thriveservices.org.au/event/blackheath-playgroup-term-3-2023-4/
LOCATION:Blackheath Public School\, Leichhardt St\,\, Blackheath\, 2785\, Australia
CATEGORIES:Programs
ATTACH;FMTTYPE=image/jpeg:https://www.thriveservices.org.au/wp-content/uploads/2022/03/event_Blackheath-Playgroup.jpg
END:VEVENT
BEGIN:VEVENT
DTSTART;TZID=Australia/Sydney:20230807T110000
DTEND;TZID=Australia/Sydney:20230807T120000
DTSTAMP:20260423T152402
CREATED:20230717T005044Z
LAST-MODIFIED:20230717T005044Z
UID:6135-1691406000-1691409600@www.thriveservices.org.au
SUMMARY:Parenting Pod
DESCRIPTION:A parenting group to provide parents with a space for a relaxing chat and coffee\, service information\, weekly discussion topics and guest speakers. \nThe Parenting Pod will be held every Monday of the school term from 11:00am – 12:00pm in the Lithgow Library. \nFor more information\, please contact our Lithgow office: \nPhone: 02 6351 4055 \nEmail: info@thriveservices.org.au
URL:https://www.thriveservices.org.au/event/parenting-pod-4/
LOCATION:Lithgow Library\, 157 Main Street\, Lithgow\, NSW\, 2790\, Australia
ATTACH;FMTTYPE=image/jpeg:https://www.thriveservices.org.au/wp-content/uploads/2022/02/thrive_caring.jpg
END:VEVENT
BEGIN:VEVENT
DTSTART;TZID=Australia/Sydney:20230807T093000
DTEND;TZID=Australia/Sydney:20230807T110000
DTSTAMP:20260423T152402
CREATED:20230712T012757Z
LAST-MODIFIED:20230712T012757Z
UID:6108-1691400600-1691406000@www.thriveservices.org.au
SUMMARY:Blackheath Playgroup [Term 3 2023]
DESCRIPTION:A supported playgroup for 0-5yr olds\, great for creative and social development in a friendly environment. Kids can play whilst parents/carers relax with a cup of tea. \nRunning every Monday of the term.
URL:https://www.thriveservices.org.au/event/blackheath-playgroup-term-3-2023-3/
LOCATION:Blackheath Public School\, Leichhardt St\,\, Blackheath\, 2785\, Australia
CATEGORIES:Programs
ATTACH;FMTTYPE=image/jpeg:https://www.thriveservices.org.au/wp-content/uploads/2022/03/event_Blackheath-Playgroup.jpg
END:VEVENT
BEGIN:VEVENT
DTSTART;TZID=Australia/Sydney:20230731T110000
DTEND;TZID=Australia/Sydney:20230731T120000
DTSTAMP:20260423T152402
CREATED:20230717T004950Z
LAST-MODIFIED:20230717T004950Z
UID:6133-1690801200-1690804800@www.thriveservices.org.au
SUMMARY:Parenting Pod
DESCRIPTION:A parenting group to provide parents with a space for a relaxing chat and coffee\, service information\, weekly discussion topics and guest speakers. \nThe Parenting Pod will be held every Monday of the school term from 11:00am – 12:00pm in the Lithgow Library. \nFor more information\, please contact our Lithgow office: \nPhone: 02 6351 4055 \nEmail: info@thriveservices.org.au
URL:https://www.thriveservices.org.au/event/parenting-pod-3/
LOCATION:Lithgow Library\, 157 Main Street\, Lithgow\, NSW\, 2790\, Australia
ATTACH;FMTTYPE=image/jpeg:https://www.thriveservices.org.au/wp-content/uploads/2022/02/thrive_caring.jpg
END:VEVENT
BEGIN:VEVENT
DTSTART;TZID=Australia/Sydney:20230731T093000
DTEND;TZID=Australia/Sydney:20230731T110000
DTSTAMP:20260423T152402
CREATED:20230712T012344Z
LAST-MODIFIED:20230712T012706Z
UID:6106-1690795800-1690801200@www.thriveservices.org.au
SUMMARY:Blackheath Playgroup [Term 3 2023]
DESCRIPTION:A supported playgroup for 0-5yr olds\, great for creative and social development in a friendly environment. Kids can play whilst parents/carers relax with a cup of tea. \nRunning every Monday of the term.
URL:https://www.thriveservices.org.au/event/blackheath-playgroup-term-3-2023-2/
LOCATION:Blackheath Public School\, Leichhardt St\,\, Blackheath\, 2785\, Australia
CATEGORIES:Programs
ATTACH;FMTTYPE=image/jpeg:https://www.thriveservices.org.au/wp-content/uploads/2022/03/event_Blackheath-Playgroup.jpg
END:VEVENT
BEGIN:VEVENT
DTSTART;TZID=Australia/Sydney:20230724T110000
DTEND;TZID=Australia/Sydney:20230724T120000
DTSTAMP:20260423T152402
CREATED:20230717T004908Z
LAST-MODIFIED:20230717T004908Z
UID:6131-1690196400-1690200000@www.thriveservices.org.au
SUMMARY:Parenting Pod
DESCRIPTION:A parenting group to provide parents with a space for a relaxing chat and coffee\, service information\, weekly discussion topics and guest speakers. \nThe Parenting Pod will be held every Monday of the school term from 11:00am – 12:00pm in the Lithgow Library. \nFor more information\, please contact our Lithgow office: \nPhone: 02 6351 4055 \nEmail: info@thriveservices.org.au
URL:https://www.thriveservices.org.au/event/parenting-pod-2/
LOCATION:Lithgow Library\, 157 Main Street\, Lithgow\, NSW\, 2790\, Australia
ATTACH;FMTTYPE=image/jpeg:https://www.thriveservices.org.au/wp-content/uploads/2022/02/thrive_caring.jpg
END:VEVENT
BEGIN:VEVENT
DTSTART;TZID=Australia/Sydney:20230724T093000
DTEND;TZID=Australia/Sydney:20230724T110000
DTSTAMP:20260423T152402
CREATED:20230712T012135Z
LAST-MODIFIED:20230712T012135Z
UID:6104-1690191000-1690196400@www.thriveservices.org.au
SUMMARY:Blackheath Playgroup [Term 3 2023]
DESCRIPTION:A supported playgroup for 0-5yr olds\, great for creative and social development in a friendly environment. Kids can play whilst parents/carers relax with a cup of tea. \nRunning every Monday of the term.
URL:https://www.thriveservices.org.au/event/blackheath-playgroup-term-3-2023/
LOCATION:Blackheath Public School\, Leichhardt St\,\, Blackheath\, 2785\, Australia
CATEGORIES:Programs
ATTACH;FMTTYPE=image/jpeg:https://www.thriveservices.org.au/wp-content/uploads/2022/03/event_Blackheath-Playgroup.jpg
END:VEVENT
BEGIN:VEVENT
DTSTART;TZID=Australia/Sydney:20230717T110000
DTEND;TZID=Australia/Sydney:20230717T120000
DTSTAMP:20260423T152402
CREATED:20230716T230025Z
LAST-MODIFIED:20230716T230025Z
UID:6123-1689591600-1689595200@www.thriveservices.org.au
SUMMARY:Parenting Pod
DESCRIPTION:A parenting group to provide parents with a space for a relaxing chat and coffee\, service information\, weekly discussion topics and guest speakers. \nThe Parenting Pod will be held every Monday of the school term from 11:00am – 12:00pm in the Lithgow Library. \nFor more information\, please contact our Lithgow office: \nPhone: 02 6351 4055 \nEmail: info@thriveservices.org.au
URL:https://www.thriveservices.org.au/event/parenting-pod/
LOCATION:Lithgow Library\, 157 Main Street\, Lithgow\, NSW\, 2790\, Australia
ATTACH;FMTTYPE=image/jpeg:https://www.thriveservices.org.au/wp-content/uploads/2022/02/thrive_caring.jpg
END:VEVENT
BEGIN:VEVENT
DTSTART;TZID=Australia/Sydney:20230711T094500
DTEND;TZID=Australia/Sydney:20230711T123000
DTSTAMP:20260423T152402
CREATED:20230703T055924Z
LAST-MODIFIED:20230703T055924Z
UID:6097-1689068700-1689078600@www.thriveservices.org.au
SUMMARY:Pinocchio
DESCRIPTION:School holiday- movie & craft activity \nThrive Services- Katoomba is planning a movie and craft day on Tuesday the 11th of July 2023. \n\nCome along and join in the fun of Pinocchio and his adventure!\n\nAges: 5 – 12 years old [primary school] \nContact us at info@thriveservices.org.au to register*! \n*registrations close 07.07.2023
URL:https://www.thriveservices.org.au/event/pinocchio/
LOCATION:Thrive Katoomba Office\, 2 Station Street\, Katoomba\, NSW\, 2730\, Australia
CATEGORIES:Children
ATTACH;FMTTYPE=image/png:https://www.thriveservices.org.au/wp-content/uploads/2023/07/Untitled-Instagram-Post-Square.png
END:VEVENT
BEGIN:VEVENT
DTSTART;TZID=Australia/Sydney:20230626T093000
DTEND;TZID=Australia/Sydney:20230626T110000
DTSTAMP:20260423T152402
CREATED:20230328T011807Z
LAST-MODIFIED:20230328T011807Z
UID:6043-1687771800-1687777200@www.thriveservices.org.au
SUMMARY:Blackheath Playgroup [Term 2 2023]
DESCRIPTION:A supported playgroup for 0-5yr olds\, great for creative and social development in a friendly environment. Kids can play whilst parents/carers relax with a cup of tea. \nRunning every Monday of the term.
URL:https://www.thriveservices.org.au/event/blackheath-playgroup-term-2-2023-8/
LOCATION:Blackheath Public School\, Leichhardt St\,\, Blackheath\, 2785\, Australia
CATEGORIES:Programs
ATTACH;FMTTYPE=image/jpeg:https://www.thriveservices.org.au/wp-content/uploads/2022/03/event_Blackheath-Playgroup.jpg
END:VEVENT
BEGIN:VEVENT
DTSTART;TZID=Australia/Sydney:20230619T093000
DTEND;TZID=Australia/Sydney:20230619T110000
DTSTAMP:20260423T152402
CREATED:20230328T011519Z
LAST-MODIFIED:20230328T011519Z
UID:6041-1687167000-1687172400@www.thriveservices.org.au
SUMMARY:Blackheath Playgroup [Term 2 2023]
DESCRIPTION:A supported playgroup for 0-5yr olds\, great for creative and social development in a friendly environment. Kids can play whilst parents/carers relax with a cup of tea. \nRunning every Monday of the term.
URL:https://www.thriveservices.org.au/event/blackheath-playgroup-term-2-2023-7/
LOCATION:Blackheath Public School\, Leichhardt St\,\, Blackheath\, 2785\, Australia
CATEGORIES:Programs
ATTACH;FMTTYPE=image/jpeg:https://www.thriveservices.org.au/wp-content/uploads/2022/03/event_Blackheath-Playgroup.jpg
END:VEVENT
BEGIN:VEVENT
DTSTART;TZID=Australia/Sydney:20230612T093000
DTEND;TZID=Australia/Sydney:20230612T110000
DTSTAMP:20260423T152402
CREATED:20230328T011328Z
LAST-MODIFIED:20230328T011328Z
UID:6039-1686562200-1686567600@www.thriveservices.org.au
SUMMARY:Blackheath Playgroup [Term 2 2023]
DESCRIPTION:A supported playgroup for 0-5yr olds\, great for creative and social development in a friendly environment. Kids can play whilst parents/carers relax with a cup of tea. \nRunning every Monday of the term.
URL:https://www.thriveservices.org.au/event/blackheath-playgroup-term-2-2023-6/
LOCATION:Blackheath Public School\, Leichhardt St\,\, Blackheath\, 2785\, Australia
CATEGORIES:Programs
ATTACH;FMTTYPE=image/jpeg:https://www.thriveservices.org.au/wp-content/uploads/2022/03/event_Blackheath-Playgroup.jpg
END:VEVENT
BEGIN:VEVENT
DTSTART;TZID=Australia/Sydney:20230605T093000
DTEND;TZID=Australia/Sydney:20230605T110000
DTSTAMP:20260423T152403
CREATED:20230328T011223Z
LAST-MODIFIED:20230328T011223Z
UID:6037-1685957400-1685962800@www.thriveservices.org.au
SUMMARY:Blackheath Playgroup [Term 2 2023]
DESCRIPTION:A supported playgroup for 0-5yr olds\, great for creative and social development in a friendly environment. Kids can play whilst parents/carers relax with a cup of tea. \nRunning every Monday of the term.
URL:https://www.thriveservices.org.au/event/blackheath-playgroup-term-2-2023-5/
LOCATION:Blackheath Public School\, Leichhardt St\,\, Blackheath\, 2785\, Australia
CATEGORIES:Programs
ATTACH;FMTTYPE=image/jpeg:https://www.thriveservices.org.au/wp-content/uploads/2022/03/event_Blackheath-Playgroup.jpg
END:VEVENT
BEGIN:VEVENT
DTSTART;TZID=Australia/Sydney:20230529T093000
DTEND;TZID=Australia/Sydney:20230529T110000
DTSTAMP:20260423T152403
CREATED:20230328T011138Z
LAST-MODIFIED:20230328T011138Z
UID:6035-1685352600-1685358000@www.thriveservices.org.au
SUMMARY:Blackheath Playgroup [Term 2 2023]
DESCRIPTION:A supported playgroup for 0-5yr olds\, great for creative and social development in a friendly environment. Kids can play whilst parents/carers relax with a cup of tea. \nRunning every Monday of the term.
URL:https://www.thriveservices.org.au/event/blackheath-playgroup-term-2-2023-4/
LOCATION:Blackheath Public School\, Leichhardt St\,\, Blackheath\, 2785\, Australia
CATEGORIES:Programs
ATTACH;FMTTYPE=image/jpeg:https://www.thriveservices.org.au/wp-content/uploads/2022/03/event_Blackheath-Playgroup.jpg
END:VEVENT
BEGIN:VEVENT
DTSTART;TZID=Australia/Sydney:20230524T153000
DTEND;TZID=Australia/Sydney:20230524T173000
DTSTAMP:20260423T152403
CREATED:20230510T054153Z
LAST-MODIFIED:20230510T054153Z
UID:6075-1684942200-1684949400@www.thriveservices.org.au
SUMMARY:Art\, Fun and Feelings
DESCRIPTION:Art\, Fun\, Feelings\n\n\nA free workshop for children aged 7-10yrs and their carers to learn simple and effective strategies to manage emotions.\n\n\nWed 17th and 24th May from 3:30pm- 5:30pm\nFor information and bookings contact Christy on 0422 733 224
URL:https://www.thriveservices.org.au/event/art-fun-and-feelings-2/
LOCATION:Lawson Public School\, Adelaide Street\, Lawson\, NSW\, 2783\, Australia
CATEGORIES:Children
ATTACH;FMTTYPE=image/jpeg:https://www.thriveservices.org.au/wp-content/uploads/2023/05/Art-Brushes.jpg
END:VEVENT
BEGIN:VEVENT
DTSTART;TZID=Australia/Sydney:20230522T093000
DTEND;TZID=Australia/Sydney:20230522T110000
DTSTAMP:20260423T152403
CREATED:20230328T011029Z
LAST-MODIFIED:20230328T011029Z
UID:6033-1684747800-1684753200@www.thriveservices.org.au
SUMMARY:Blackheath Playgroup [Term 2 2023]
DESCRIPTION:A supported playgroup for 0-5yr olds\, great for creative and social development in a friendly environment. Kids can play whilst parents/carers relax with a cup of tea. \nRunning every Monday of the term.
URL:https://www.thriveservices.org.au/event/blackheath-playgroup-term-2-2023-3/
LOCATION:Blackheath Public School\, Leichhardt St\,\, Blackheath\, 2785\, Australia
CATEGORIES:Programs
ATTACH;FMTTYPE=image/jpeg:https://www.thriveservices.org.au/wp-content/uploads/2022/03/event_Blackheath-Playgroup.jpg
END:VEVENT
BEGIN:VEVENT
DTSTART;TZID=Australia/Sydney:20230520T120000
DTEND;TZID=Australia/Sydney:20230520T160000
DTSTAMP:20260423T152403
CREATED:20230510T061725Z
LAST-MODIFIED:20230510T061725Z
UID:6078-1684584000-1684598400@www.thriveservices.org.au
SUMMARY:Family Fun Day
DESCRIPTION:Mountains Youth Services Team is running a family fun day on the 20th of May. Get your family together\, bring a picnic rug and chairs and come along for a fun filled afternoon. \nThrive will be there with a stall and there will also be food trucks\, entertainment and rides.  \nEntry is free \nThe event will be running form 12pm – 4pm at Melrose Park
URL:https://www.thriveservices.org.au/event/family-fun-day/
LOCATION:Melrose Park\, Albion Street\, Katoomba\, NSW\, 2780\, Australia
CATEGORIES:Community,Family
ATTACH;FMTTYPE=image/jpeg:https://www.thriveservices.org.au/wp-content/uploads/2022/10/pexels-padli-pradana-772478-scaled.jpg
END:VEVENT
BEGIN:VEVENT
DTSTART;TZID=Australia/Sydney:20230517T153000
DTEND;TZID=Australia/Sydney:20230517T173000
DTSTAMP:20260423T152403
CREATED:20230510T054027Z
LAST-MODIFIED:20230510T054027Z
UID:6064-1684337400-1684344600@www.thriveservices.org.au
SUMMARY:Art\, Fun and Feelings
DESCRIPTION:Art\, Fun\, Feelings\n\n\nA free workshop for children aged 7-10yrs and their carers to learn simple and effective strategies to manage emotions.\n\n\nWed 17th and 24th May from 3:30pm- 5:30pm\nFor information and bookings contact Christy on 0422 733 224
URL:https://www.thriveservices.org.au/event/art-fun-and-feelings/
LOCATION:Lawson Public School\, Adelaide Street\, Lawson\, NSW\, 2783\, Australia
CATEGORIES:Children
ATTACH;FMTTYPE=image/jpeg:https://www.thriveservices.org.au/wp-content/uploads/2023/05/Art-Brushes.jpg
END:VEVENT
BEGIN:VEVENT
DTSTART;TZID=Australia/Sydney:20230515T093000
DTEND;TZID=Australia/Sydney:20230515T110000
DTSTAMP:20260423T152403
CREATED:20230328T010938Z
LAST-MODIFIED:20230328T010938Z
UID:6031-1684143000-1684148400@www.thriveservices.org.au
SUMMARY:Blackheath Playgroup [Term 2 2023]
DESCRIPTION:A supported playgroup for 0-5yr olds\, great for creative and social development in a friendly environment. Kids can play whilst parents/carers relax with a cup of tea. \nRunning every Monday of the term.
URL:https://www.thriveservices.org.au/event/blackheath-playgroup-term-2-2023-2/
LOCATION:Blackheath Public School\, Leichhardt St\,\, Blackheath\, 2785\, Australia
CATEGORIES:Programs
ATTACH;FMTTYPE=image/jpeg:https://www.thriveservices.org.au/wp-content/uploads/2022/03/event_Blackheath-Playgroup.jpg
END:VEVENT
BEGIN:VEVENT
DTSTART;TZID=Australia/Sydney:20230508T093000
DTEND;TZID=Australia/Sydney:20230508T110000
DTSTAMP:20260423T152403
CREATED:20230328T010519Z
LAST-MODIFIED:20230328T010734Z
UID:6029-1683538200-1683543600@www.thriveservices.org.au
SUMMARY:Blackheath Playgroup [Term 2 2023]
DESCRIPTION:A supported playgroup for 0-5yr olds\, great for creative and social development in a friendly environment. Kids can play whilst parents/carers relax with a cup of tea. \nRunning every Monday of the term.
URL:https://www.thriveservices.org.au/event/blackheath-playgroup-term-2-2023/
LOCATION:Blackheath Public School\, Leichhardt St\,\, Blackheath\, 2785\, Australia
CATEGORIES:Programs
ATTACH;FMTTYPE=image/jpeg:https://www.thriveservices.org.au/wp-content/uploads/2022/03/event_Blackheath-Playgroup.jpg
END:VEVENT
BEGIN:VEVENT
DTSTART;TZID=Australia/Sydney:20230501T093000
DTEND;TZID=Australia/Sydney:20230501T110000
DTSTAMP:20260423T152403
CREATED:20230328T010359Z
LAST-MODIFIED:20230328T010359Z
UID:6027-1682933400-1682938800@www.thriveservices.org.au
SUMMARY:Blackheath Playgroup [Term 2 2023]
DESCRIPTION:A supported playgroup for 0-5yr olds\, great for creative and social development in a friendly environment. Kids can play whilst parents/carers relax with a cup of tea. \nRunning every Monday of the term.
URL:https://www.thriveservices.org.au/event/blackheath-playgroup-term-2-2023-1/
LOCATION:Blackheath Public School\, Leichhardt St\,\, Blackheath\, 2785\, Australia
CATEGORIES:Programs
ATTACH;FMTTYPE=image/jpeg:https://www.thriveservices.org.au/wp-content/uploads/2022/03/event_Blackheath-Playgroup.jpg
END:VEVENT
BEGIN:VEVENT
DTSTART;TZID=Australia/Sydney:20230419T100000
DTEND;TZID=Australia/Sydney:20230419T120000
DTSTAMP:20260423T152403
CREATED:20230328T004109Z
LAST-MODIFIED:20230328T004109Z
UID:6022-1681898400-1681905600@www.thriveservices.org.au
SUMMARY:Art and Craft Morning
DESCRIPTION:Come and join us for a morning of art and craft  \nIncluding decorating things\, you can eat and a chocolate egg hunt \nDate: Wednesday 19th April\nTime: 10am-12pm\nAges:  5–12-year-old (primary school)\nLocation: Thrive Services\, 2 Station St Katoomba \nRSVP by Monday the 17th of April: aga@thriveservices.org.au
URL:https://www.thriveservices.org.au/event/art-and-craft-morning/
LOCATION:Thrive Katoomba Office\, 2 Station Street\, Katoomba\, NSW\, 2730\, Australia
CATEGORIES:Children
ATTACH;FMTTYPE=image/jpeg:https://www.thriveservices.org.au/wp-content/uploads/2022/12/ubu-komarova-oiCJZb4Nuq4-unsplash-scaled.jpg
END:VEVENT
BEGIN:VEVENT
DTSTART;TZID=Australia/Sydney:20230403T093000
DTEND;TZID=Australia/Sydney:20230403T110000
DTSTAMP:20260423T152403
CREATED:20230112T032304Z
LAST-MODIFIED:20230130T031942Z
UID:5911-1680514200-1680519600@www.thriveservices.org.au
SUMMARY:Blackheath Playgroup [Term 1 2023]
DESCRIPTION:A supported playgroup for 0-5yr olds\, great for creative and social development in a friendly environment. Kids can play whilst parents/carers relax with a cup of tea. \nRunning every Monday of the term.
URL:https://www.thriveservices.org.au/event/blackheath-playgroup-term-1-2023-8/
LOCATION:Blackheath Public School\, Leichhardt St\,\, Blackheath\, 2785\, Australia
CATEGORIES:Programs
ATTACH;FMTTYPE=image/jpeg:https://www.thriveservices.org.au/wp-content/uploads/2022/03/event_Blackheath-Playgroup.jpg
END:VEVENT
BEGIN:VEVENT
DTSTART;TZID=Australia/Sydney:20230327T093000
DTEND;TZID=Australia/Sydney:20230327T110000
DTSTAMP:20260423T152403
CREATED:20230112T031442Z
LAST-MODIFIED:20230130T031904Z
UID:5909-1679909400-1679914800@www.thriveservices.org.au
SUMMARY:Blackheath Playgroup [Term 1 2023]
DESCRIPTION:A supported playgroup for 0-5yr olds\, great for creative and social development in a friendly environment. Kids can play whilst parents/carers relax with a cup of tea. \nRunning every Monday of the term.
URL:https://www.thriveservices.org.au/event/blackheath-playgroup-term-1-2023-7/
LOCATION:Blackheath Public School\, Leichhardt St\,\, Blackheath\, 2785\, Australia
CATEGORIES:Programs
ATTACH;FMTTYPE=image/jpeg:https://www.thriveservices.org.au/wp-content/uploads/2022/03/event_Blackheath-Playgroup.jpg
END:VEVENT
BEGIN:VEVENT
DTSTART;TZID=Australia/Sydney:20230320T093000
DTEND;TZID=Australia/Sydney:20230320T110000
DTSTAMP:20260423T152403
CREATED:20230112T031355Z
LAST-MODIFIED:20230130T031836Z
UID:5907-1679304600-1679310000@www.thriveservices.org.au
SUMMARY:Blackheath Playgroup [Term 1 2023]
DESCRIPTION:A supported playgroup for 0-5yr olds\, great for creative and social development in a friendly environment. Kids can play whilst parents/carers relax with a cup of tea. \nRunning every Monday of the term.
URL:https://www.thriveservices.org.au/event/blackheath-playgroup-term-1-2023-6/
LOCATION:Blackheath Public School\, Leichhardt St\,\, Blackheath\, 2785\, Australia
CATEGORIES:Programs
ATTACH;FMTTYPE=image/jpeg:https://www.thriveservices.org.au/wp-content/uploads/2022/03/event_Blackheath-Playgroup.jpg
END:VEVENT
BEGIN:VEVENT
DTSTART;TZID=Australia/Sydney:20230313T093000
DTEND;TZID=Australia/Sydney:20230313T110000
DTSTAMP:20260423T152403
CREATED:20230112T031319Z
LAST-MODIFIED:20230130T031805Z
UID:5905-1678699800-1678705200@www.thriveservices.org.au
SUMMARY:Blackheath Playgroup [Term 1 2023]
DESCRIPTION:A supported playgroup for 0-5yr olds\, great for creative and social development in a friendly environment. Kids can play whilst parents/carers relax with a cup of tea. \nRunning every Monday of the term.
URL:https://www.thriveservices.org.au/event/blackheath-playgroup-term-1-2023-5/
LOCATION:Blackheath Public School\, Leichhardt St\,\, Blackheath\, 2785\, Australia
CATEGORIES:Programs
ATTACH;FMTTYPE=image/jpeg:https://www.thriveservices.org.au/wp-content/uploads/2022/03/event_Blackheath-Playgroup.jpg
END:VEVENT
BEGIN:VEVENT
DTSTART;TZID=Australia/Sydney:20230306T110000
DTEND;TZID=Australia/Sydney:20230306T150000
DTSTAMP:20260423T152403
CREATED:20230214T041819Z
LAST-MODIFIED:20230214T043338Z
UID:5953-1678100400-1678114800@www.thriveservices.org.au
SUMMARY:International Women's Day Walk
DESCRIPTION:Join us on the 6th of March to celebrate International Women’s Day \nThrive Services will be hosting a walk around Wentworth Falls Lake starting at 11:15am. Registration will begin from 11am. This will be followed by a BBQ lunch. \nAll proceeds from the BBQ with go towards our DRIVE program\, which supports women living in the Blue Mountains\, who have experienced domestic violence and/or are financially or socially disadvantaged\, to obtain their driver’s licence.
URL:https://www.thriveservices.org.au/event/international-womens-day-walk/
LOCATION:wentworth falls lake\, Sinclair Crescent\, Wentworth Falls\, NSW\, 2782
ATTACH;FMTTYPE=image/jpeg:https://www.thriveservices.org.au/wp-content/uploads/2023/02/pexels-yan-krukau-8837170-scaled.jpg
END:VEVENT
BEGIN:VEVENT
DTSTART;TZID=Australia/Sydney:20230306T093000
DTEND;TZID=Australia/Sydney:20230306T110000
DTSTAMP:20260423T152403
CREATED:20230112T031228Z
LAST-MODIFIED:20230130T031745Z
UID:5903-1678095000-1678100400@www.thriveservices.org.au
SUMMARY:Blackheath Playgroup [Term 1 2023]
DESCRIPTION:A supported playgroup for 0-5yr olds\, great for creative and social development in a friendly environment. Kids can play whilst parents/carers relax with a cup of tea. \nRunning every Monday of the term.
URL:https://www.thriveservices.org.au/event/blackheath-playgroup-term-1-2023-4/
LOCATION:Blackheath Public School\, Leichhardt St\,\, Blackheath\, 2785\, Australia
CATEGORIES:Programs
ATTACH;FMTTYPE=image/jpeg:https://www.thriveservices.org.au/wp-content/uploads/2022/03/event_Blackheath-Playgroup.jpg
END:VEVENT
END:VCALENDAR