BEGIN:VCALENDAR
VERSION:2.0
PRODID:-//Thrive Services - ECPv5.16.4//NONSGML v1.0//EN
CALSCALE:GREGORIAN
METHOD:PUBLISH
X-WR-CALNAME:Thrive Services
X-ORIGINAL-URL:https://www.thriveservices.org.au
X-WR-CALDESC:Events for Thrive Services
REFRESH-INTERVAL;VALUE=DURATION:PT1H
X-Robots-Tag:noindex
X-PUBLISHED-TTL:PT1H
BEGIN:VTIMEZONE
TZID:Australia/Sydney
BEGIN:STANDARD
TZOFFSETFROM:+1100
TZOFFSETTO:+1000
TZNAME:AEST
DTSTART:20220402T160000
END:STANDARD
BEGIN:DAYLIGHT
TZOFFSETFROM:+1000
TZOFFSETTO:+1100
TZNAME:AEDT
DTSTART:20221001T160000
END:DAYLIGHT
END:VTIMEZONE
BEGIN:VEVENT
DTSTART;TZID=Australia/Sydney:20220829T093000
DTEND;TZID=Australia/Sydney:20220829T110000
DTSTAMP:20260423T032636
CREATED:20220816T041526Z
LAST-MODIFIED:20220826T041530Z
UID:5644-1661765400-1661770800@www.thriveservices.org.au
SUMMARY:Blackheath Playgroup [Term 3 2022]
DESCRIPTION:A supported playgroup for 0-5yr olds\, great for creative and social development in a friendly environment. Kids can play whilst parents/carers relax with a cup of tea. \nRunning every Monday of the term.
URL:https://www.thriveservices.org.au/event/blackheath-playgroup-term-3-290822/
LOCATION:Blackheath Public School\, Leichhardt St\,\, Blackheath\, 2785\, Australia
ATTACH;FMTTYPE=image/jpeg:https://www.thriveservices.org.au/wp-content/uploads/2022/03/event_Blackheath-Playgroup.jpg
END:VEVENT
BEGIN:VEVENT
DTSTART;TZID=Australia/Sydney:20220826T100000
DTEND;TZID=Australia/Sydney:20220826T123000
DTSTAMP:20260423T032636
CREATED:20220816T045114Z
LAST-MODIFIED:20220826T040029Z
UID:5681-1661508000-1661517000@www.thriveservices.org.au
SUMMARY:Parenting Young [Term 3 2022]
DESCRIPTION:A program that involves Blue Mountains agencies networking together to promote the well-being of young parents (up to the age of 24) and their children. Including playgroups and activities. \nRuns every Friday of the term.
URL:https://www.thriveservices.org.au/event/parenting-young-260822/
LOCATION:Bungarrabee Centre\, 48-50 Oaklands Rd\, Hazelbrook\, NSW\, 2779\, Australia
ATTACH;FMTTYPE=image/jpeg:https://www.thriveservices.org.au/wp-content/uploads/2022/04/event_Parenting-Young.jpg
END:VEVENT
BEGIN:VEVENT
DTSTART;TZID=Australia/Sydney:20220825T100000
DTEND;TZID=Australia/Sydney:20220825T120000
DTSTAMP:20260423T032636
CREATED:20220816T035112Z
LAST-MODIFIED:20220826T042622Z
UID:5600-1661421600-1661428800@www.thriveservices.org.au
SUMMARY:Katoomba Play Group [Term 3 2022]
DESCRIPTION:Supported playgroups are an informal play session where you can meet other parents and your child can enjoy quality play experiences that support your child to build friendships and develop skills essential for starting school. \nRunning every Thursday during term.
URL:https://www.thriveservices.org.au/event/katoomba-play-group-term-3-250822/
LOCATION:Katoomba Guide Hall\, 17 Station Street\, Katoomba\, NSW\, 2780\, Australia
ATTACH;FMTTYPE=image/jpeg:https://www.thriveservices.org.au/wp-content/uploads/2022/08/Thrive-Services-Play-Group.jpg
END:VEVENT
BEGIN:VEVENT
DTSTART;TZID=Australia/Sydney:20220822T093000
DTEND;TZID=Australia/Sydney:20220822T110000
DTSTAMP:20260423T032636
CREATED:20220816T041343Z
LAST-MODIFIED:20220824T001911Z
UID:5641-1661160600-1661166000@www.thriveservices.org.au
SUMMARY:Blackheath Playgroup [Term 3 2022]
DESCRIPTION:A supported playgroup for 0-5yr olds\, great for creative and social development in a friendly environment. Kids can play whilst parents/carers relax with a cup of tea. \nRunning every Monday of the term.
URL:https://www.thriveservices.org.au/event/blackheath-playgroup-term-3-2022-6/
LOCATION:Blackheath Public School\, Leichhardt St\,\, Blackheath\, 2785\, Australia
ATTACH;FMTTYPE=image/jpeg:https://www.thriveservices.org.au/wp-content/uploads/2022/03/event_Blackheath-Playgroup.jpg
END:VEVENT
BEGIN:VEVENT
DTSTART;TZID=Australia/Sydney:20220819T100000
DTEND;TZID=Australia/Sydney:20220819T123000
DTSTAMP:20260423T032636
CREATED:20220816T045025Z
LAST-MODIFIED:20220826T035933Z
UID:5679-1660903200-1660912200@www.thriveservices.org.au
SUMMARY:Parenting Young [Term 3 2022]
DESCRIPTION:A program that involves Blue Mountains agencies networking together to promote the well-being of young parents (up to the age of 24) and their children. Including playgroups and activities. \nRuns every Friday of the term.
URL:https://www.thriveservices.org.au/event/parenting-young-190822/
LOCATION:Bungarrabee Centre\, 48-50 Oaklands Rd\, Hazelbrook\, NSW\, 2779\, Australia
ATTACH;FMTTYPE=image/jpeg:https://www.thriveservices.org.au/wp-content/uploads/2022/04/event_Parenting-Young.jpg
END:VEVENT
BEGIN:VEVENT
DTSTART;TZID=Australia/Sydney:20220818T100000
DTEND;TZID=Australia/Sydney:20220818T120000
DTSTAMP:20260423T032636
CREATED:20220816T034937Z
LAST-MODIFIED:20220826T042530Z
UID:5598-1660816800-1660824000@www.thriveservices.org.au
SUMMARY:Katoomba Play Group [Term 3 2022]
DESCRIPTION:Supported playgroups are an informal play session where you can meet other parents and your child can enjoy quality play experiences that support your child to build friendships and develop skills essential for starting school. \nRunning every Thursday during term.
URL:https://www.thriveservices.org.au/event/katoomba-play-group-term-3-180822/
LOCATION:Katoomba Guide Hall\, 17 Station Street\, Katoomba\, NSW\, 2780\, Australia
ATTACH;FMTTYPE=image/jpeg:https://www.thriveservices.org.au/wp-content/uploads/2022/08/Thrive-Services-Play-Group.jpg
END:VEVENT
BEGIN:VEVENT
DTSTART;TZID=Australia/Sydney:20220815T093000
DTEND;TZID=Australia/Sydney:20220815T110000
DTSTAMP:20260423T032636
CREATED:20220816T041300Z
LAST-MODIFIED:20220826T041319Z
UID:5639-1660555800-1660561200@www.thriveservices.org.au
SUMMARY:Blackheath Playgroup [Term 3 2022]
DESCRIPTION:A supported playgroup for 0-5yr olds\, great for creative and social development in a friendly environment. Kids can play whilst parents/carers relax with a cup of tea. \nRunning every Monday of the term.
URL:https://www.thriveservices.org.au/event/blackheath-playgroup-term-3-150822/
LOCATION:Blackheath Public School\, Leichhardt St\,\, Blackheath\, 2785\, Australia
ATTACH;FMTTYPE=image/jpeg:https://www.thriveservices.org.au/wp-content/uploads/2022/03/event_Blackheath-Playgroup.jpg
END:VEVENT
BEGIN:VEVENT
DTSTART;TZID=Australia/Sydney:20220812T100000
DTEND;TZID=Australia/Sydney:20220812T123000
DTSTAMP:20260423T032636
CREATED:20220816T044904Z
LAST-MODIFIED:20220826T035800Z
UID:5677-1660298400-1660307400@www.thriveservices.org.au
SUMMARY:Parenting Young [Term 3 2022]
DESCRIPTION:A program that involves Blue Mountains agencies networking together to promote the well-being of young parents (up to the age of 24) and their children. Including playgroups and activities. \nRuns every Friday of the term.
URL:https://www.thriveservices.org.au/event/parenting-young-120822/
LOCATION:Bungarrabee Centre\, 48-50 Oaklands Rd\, Hazelbrook\, NSW\, 2779\, Australia
ATTACH;FMTTYPE=image/jpeg:https://www.thriveservices.org.au/wp-content/uploads/2022/04/event_Parenting-Young.jpg
END:VEVENT
BEGIN:VEVENT
DTSTART;TZID=Australia/Sydney:20220811T100000
DTEND;TZID=Australia/Sydney:20220811T120000
DTSTAMP:20260423T032636
CREATED:20220816T034821Z
LAST-MODIFIED:20220826T042443Z
UID:5596-1660212000-1660219200@www.thriveservices.org.au
SUMMARY:Katoomba Play Group [Term 3 2022]
DESCRIPTION:Supported playgroups are an informal play session where you can meet other parents and your child can enjoy quality play experiences that support your child to build friendships and develop skills essential for starting school. \nRunning every Thursday during term.
URL:https://www.thriveservices.org.au/event/katoomba-play-group-term-3-110822/
LOCATION:Katoomba Guide Hall\, 17 Station Street\, Katoomba\, NSW\, 2780\, Australia
ATTACH;FMTTYPE=image/jpeg:https://www.thriveservices.org.au/wp-content/uploads/2022/08/Thrive-Services-Play-Group.jpg
END:VEVENT
BEGIN:VEVENT
DTSTART;TZID=Australia/Sydney:20220808T093000
DTEND;TZID=Australia/Sydney:20220808T110000
DTSTAMP:20260423T032636
CREATED:20220816T041215Z
LAST-MODIFIED:20220826T041216Z
UID:5637-1659951000-1659956400@www.thriveservices.org.au
SUMMARY:Blackheath Playgroup [Term 3 2022]
DESCRIPTION:A supported playgroup for 0-5yr olds\, great for creative and social development in a friendly environment. Kids can play whilst parents/carers relax with a cup of tea. \nRunning every Monday of the term.
URL:https://www.thriveservices.org.au/event/blackheath-playgroup-term-3-080822/
LOCATION:Blackheath Public School\, Leichhardt St\,\, Blackheath\, 2785\, Australia
ATTACH;FMTTYPE=image/jpeg:https://www.thriveservices.org.au/wp-content/uploads/2022/03/event_Blackheath-Playgroup.jpg
END:VEVENT
BEGIN:VEVENT
DTSTART;TZID=Australia/Sydney:20220805T100000
DTEND;TZID=Australia/Sydney:20220805T123000
DTSTAMP:20260423T032636
CREATED:20220816T044810Z
LAST-MODIFIED:20220826T035653Z
UID:5675-1659693600-1659702600@www.thriveservices.org.au
SUMMARY:Parenting Young [Term 3 2022]
DESCRIPTION:A program that involves Blue Mountains agencies networking together to promote the well-being of young parents (up to the age of 24) and their children. Including playgroups and activities. \nRuns every Friday of the term.
URL:https://www.thriveservices.org.au/event/parenting-young-050822/
LOCATION:Bungarrabee Centre\, 48-50 Oaklands Rd\, Hazelbrook\, NSW\, 2779\, Australia
ATTACH;FMTTYPE=image/jpeg:https://www.thriveservices.org.au/wp-content/uploads/2022/04/event_Parenting-Young.jpg
END:VEVENT
BEGIN:VEVENT
DTSTART;TZID=Australia/Sydney:20220804T100000
DTEND;TZID=Australia/Sydney:20220804T120000
DTSTAMP:20260423T032636
CREATED:20220816T034552Z
LAST-MODIFIED:20220826T042349Z
UID:5594-1659607200-1659614400@www.thriveservices.org.au
SUMMARY:Katoomba Play Group [Term 3 2022]
DESCRIPTION:Supported playgroups are an informal play session where you can meet other parents and your child can enjoy quality play experiences that support your child to build friendships and develop skills essential for starting school. \nRunning every Thursday during term.
URL:https://www.thriveservices.org.au/event/katoomba-play-group-term-3-040822/
LOCATION:Katoomba Guide Hall\, 17 Station Street\, Katoomba\, NSW\, 2780\, Australia
ATTACH;FMTTYPE=image/jpeg:https://www.thriveservices.org.au/wp-content/uploads/2022/08/Thrive-Services-Play-Group.jpg
END:VEVENT
BEGIN:VEVENT
DTSTART;TZID=Australia/Sydney:20220801T093000
DTEND;TZID=Australia/Sydney:20220801T110000
DTSTAMP:20260423T032636
CREATED:20220816T041127Z
LAST-MODIFIED:20220826T041113Z
UID:5635-1659346200-1659351600@www.thriveservices.org.au
SUMMARY:Blackheath Playgroup [Term 3 2022]
DESCRIPTION:A supported playgroup for 0-5yr olds\, great for creative and social development in a friendly environment. Kids can play whilst parents/carers relax with a cup of tea. \nRunning every Monday of the term.
URL:https://www.thriveservices.org.au/event/blackheath-playgroup-term-3-010822/
LOCATION:Blackheath Public School\, Leichhardt St\,\, Blackheath\, 2785\, Australia
ATTACH;FMTTYPE=image/jpeg:https://www.thriveservices.org.au/wp-content/uploads/2022/03/event_Blackheath-Playgroup.jpg
END:VEVENT
BEGIN:VEVENT
DTSTART;TZID=Australia/Sydney:20220729T100000
DTEND;TZID=Australia/Sydney:20220729T123000
DTSTAMP:20260423T032636
CREATED:20220816T044703Z
LAST-MODIFIED:20220826T035458Z
UID:5673-1659088800-1659097800@www.thriveservices.org.au
SUMMARY:Parenting Young [Term 3 2022]
DESCRIPTION:A program that involves Blue Mountains agencies networking together to promote the well-being of young parents (up to the age of 24) and their children. Including playgroups and activities. \nRuns every Friday of the term.
URL:https://www.thriveservices.org.au/event/parenting-young-290722/
LOCATION:Bungarrabee Centre\, 48-50 Oaklands Rd\, Hazelbrook\, NSW\, 2779\, Australia
ATTACH;FMTTYPE=image/jpeg:https://www.thriveservices.org.au/wp-content/uploads/2022/04/event_Parenting-Young.jpg
END:VEVENT
BEGIN:VEVENT
DTSTART;TZID=Australia/Sydney:20220728T100000
DTEND;TZID=Australia/Sydney:20220728T120000
DTSTAMP:20260423T032636
CREATED:20220816T034305Z
LAST-MODIFIED:20220826T042259Z
UID:5592-1659002400-1659009600@www.thriveservices.org.au
SUMMARY:Katoomba Play Group [Term 3 2022]
DESCRIPTION:Supported playgroups are an informal play session where you can meet other parents and your child can enjoy quality play experiences that support your child to build friendships and develop skills essential for starting school. \nRunning every Thursday during term.
URL:https://www.thriveservices.org.au/event/katoomba-play-group-term-3-280722/
LOCATION:Katoomba Guide Hall\, 17 Station Street\, Katoomba\, NSW\, 2780\, Australia
ATTACH;FMTTYPE=image/jpeg:https://www.thriveservices.org.au/wp-content/uploads/2022/08/Thrive-Services-Play-Group.jpg
END:VEVENT
BEGIN:VEVENT
DTSTART;TZID=Australia/Sydney:20220725T093000
DTEND;TZID=Australia/Sydney:20220725T110000
DTSTAMP:20260423T032636
CREATED:20220816T041023Z
LAST-MODIFIED:20220826T041005Z
UID:5633-1658741400-1658746800@www.thriveservices.org.au
SUMMARY:Blackheath Playgroup [Term 3 2022]
DESCRIPTION:A supported playgroup for 0-5yr olds\, great for creative and social development in a friendly environment. Kids can play whilst parents/carers relax with a cup of tea. \nRunning every Monday of the term.
URL:https://www.thriveservices.org.au/event/blackheath-playgroup-term-3-250722/
LOCATION:Blackheath Public School\, Leichhardt St\,\, Blackheath\, 2785\, Australia
ATTACH;FMTTYPE=image/jpeg:https://www.thriveservices.org.au/wp-content/uploads/2022/03/event_Blackheath-Playgroup.jpg
END:VEVENT
BEGIN:VEVENT
DTSTART;TZID=Australia/Sydney:20220722T100000
DTEND;TZID=Australia/Sydney:20220722T123000
DTSTAMP:20260423T032636
CREATED:20220816T044126Z
LAST-MODIFIED:20220824T002622Z
UID:5652-1658484000-1658493000@www.thriveservices.org.au
SUMMARY:Parenting Young [Term 3 2022]
DESCRIPTION:A program that involves Blue Mountains agencies networking together to promote the well-being of young parents (up to the age of 24) and their children. Including playgroups and activities. \nRuns every Friday of the term.
URL:https://www.thriveservices.org.au/event/parenting-young-term-3-2022/
LOCATION:Bungarrabee Centre\, 48-50 Oaklands Rd\, Hazelbrook\, NSW\, 2779\, Australia
ATTACH;FMTTYPE=image/jpeg:https://www.thriveservices.org.au/wp-content/uploads/2022/04/event_Parenting-Young.jpg
END:VEVENT
BEGIN:VEVENT
DTSTART;TZID=Australia/Sydney:20220721T100000
DTEND;TZID=Australia/Sydney:20220721T120000
DTSTAMP:20260423T032636
CREATED:20220816T034053Z
LAST-MODIFIED:20220826T042208Z
UID:5578-1658397600-1658404800@www.thriveservices.org.au
SUMMARY:Katoomba Play Group [Term 3 2022]
DESCRIPTION:Supported playgroups are an informal play session where you can meet other parents and your child can enjoy quality play experiences that support your child to build friendships and develop skills essential for starting school. \nRunning every Thursday during term.
URL:https://www.thriveservices.org.au/event/katoomba-play-group-term-3-210722/
LOCATION:Katoomba Guide Hall\, 17 Station Street\, Katoomba\, NSW\, 2780\, Australia
ATTACH;FMTTYPE=image/jpeg:https://www.thriveservices.org.au/wp-content/uploads/2022/08/Thrive-Services-Play-Group.jpg
END:VEVENT
BEGIN:VEVENT
DTSTART;TZID=Australia/Sydney:20220718T093000
DTEND;TZID=Australia/Sydney:20220718T110000
DTSTAMP:20260423T032636
CREATED:20220816T040732Z
LAST-MODIFIED:20220824T001228Z
UID:5616-1658136600-1658142000@www.thriveservices.org.au
SUMMARY:Blackheath Playgroup [Term 3 2022]
DESCRIPTION:A supported playgroup for 0-5yr olds\, great for creative and social development in a friendly environment. Kids can play whilst parents/carers relax with a cup of tea. \nRunning every Monday of the term.
URL:https://www.thriveservices.org.au/event/blackheath-playgroup-term-3-2022/
LOCATION:Blackheath Public School\, Leichhardt St\,\, Blackheath\, 2785\, Australia
ATTACH;FMTTYPE=image/jpeg:https://www.thriveservices.org.au/wp-content/uploads/2022/03/event_Blackheath-Playgroup.jpg
END:VEVENT
BEGIN:VEVENT
DTSTART;TZID=Australia/Sydney:20220623T093000
DTEND;TZID=Australia/Sydney:20220623T123000
DTSTAMP:20260423T032636
CREATED:20220622T133000Z
LAST-MODIFIED:20220808T043622Z
UID:4839-1655976600-1655987400@www.thriveservices.org.au
SUMMARY:MoneyMinded – Budgeting Session 2 [Term 2 2022]
DESCRIPTION:General financial advice to help you create a budget\, reduce your debt and save more regularly.
URL:https://www.thriveservices.org.au/event/moneyminded-budgeting-session-2-term-2-2022/
LOCATION:Blackheath Community Hall\, Blackheath Community Hall\, Blackheath\, 2785\, Australia
CATEGORIES:Community
ATTACH;FMTTYPE=image/jpeg:https://www.thriveservices.org.au/wp-content/uploads/2022/06/event_MoneyMinded.jpg
END:VEVENT
BEGIN:VEVENT
DTSTART;TZID=Australia/Sydney:20220621T130000
DTEND;TZID=Australia/Sydney:20220621T160000
DTSTAMP:20260423T032636
CREATED:20220620T170000Z
LAST-MODIFIED:20220808T043623Z
UID:4795-1655816400-1655827200@www.thriveservices.org.au
SUMMARY:MoneyMinded – Budgeting Session 1 [Term 2 2022]
DESCRIPTION:General financial advice to help you create a budget\, reduce your debt and save more regularly.
URL:https://www.thriveservices.org.au/event/moneyminded-budgeting-session-1-term-2-2022/
LOCATION:Blackheath Community Hall\, Blackheath Community Hall\, Blackheath\, 2785\, Australia
CATEGORIES:Community
ATTACH;FMTTYPE=image/jpeg:https://www.thriveservices.org.au/wp-content/uploads/2022/06/event_MoneyMinded.jpg
END:VEVENT
BEGIN:VEVENT
DTSTART;TZID=Australia/Sydney:20220619T100000
DTEND;TZID=Australia/Sydney:20220619T120000
DTSTAMP:20260423T032636
CREATED:20220618T140000Z
LAST-MODIFIED:20220808T043623Z
UID:4902-1655632800-1655640000@www.thriveservices.org.au
SUMMARY:National Families Week Event [Term 2 2022]
DESCRIPTION:To celebrate\, Thrive Services will be hosting a stall at a public venue to be confirmed to connect with local families and promote the important role families play within our community.
URL:https://www.thriveservices.org.au/event/national-families-week-event-term-2-2022/
CATEGORIES:Family
ATTACH;FMTTYPE=image/jpeg:https://www.thriveservices.org.au/wp-content/uploads/2022/06/event_National-Families.jpg
END:VEVENT
BEGIN:VEVENT
DTSTART;TZID=Australia/Sydney:20220609T093000
DTEND;TZID=Australia/Sydney:20220616T123000
DTSTAMP:20260423T032636
CREATED:20220608T133000Z
LAST-MODIFIED:20220808T043623Z
UID:4901-1654767000-1655382600@www.thriveservices.org.au
SUMMARY:No Scaredy Cats - Blackheath [Term 2 2022]
DESCRIPTION:No Scaredy Cats is a child development course that aims to support you and your child through the ups and downs of life. It is what we call a ‘parent-led’ approach\, meaning that you take on the role of the coach in your child’s life\, and are able to guide them through emotionally distressing episodes.
URL:https://www.thriveservices.org.au/event/no-scaredy-cats-blackheath-term-2-2022-2022-06-09/
LOCATION:Blackheath Community Hall\, Blackheath Community Hall\, Blackheath\, 2785\, Australia
CATEGORIES:Family
ATTACH;FMTTYPE=image/jpeg:https://www.thriveservices.org.au/wp-content/uploads/2022/06/event_No-Scaredy-Cats.jpg
END:VEVENT
BEGIN:VEVENT
DTSTART;TZID=Australia/Sydney:20220608T093000
DTEND;TZID=Australia/Sydney:20220615T123000
DTSTAMP:20260423T032636
CREATED:20220607T133000Z
LAST-MODIFIED:20220808T043624Z
UID:4900-1654680600-1655296200@www.thriveservices.org.au
SUMMARY:No Scaredy Cats - Blackheath [Term 2 2022]
DESCRIPTION:No Scaredy Cats is a child development course that aims to support you and your child through the ups and downs of life. It is what we call a ‘parent-led’ approach\, meaning that you take on the role of the coach in your child’s life\, and are able to guide them through emotionally distressing episodes.
URL:https://www.thriveservices.org.au/event/no-scaredy-cats-blackheath-term-2-2022-2022-06-08/
LOCATION:Blackheath Community Hall\, Blackheath Community Hall\, Blackheath\, 2785\, Australia
CATEGORIES:Family
ATTACH;FMTTYPE=image/jpeg:https://www.thriveservices.org.au/wp-content/uploads/2022/06/event_No-Scaredy-Cats.jpg
END:VEVENT
BEGIN:VEVENT
DTSTART;TZID=Australia/Sydney:20220607T093000
DTEND;TZID=Australia/Sydney:20220621T110000
DTSTAMP:20260423T032636
CREATED:20220606T133000Z
LAST-MODIFIED:20220808T043624Z
UID:4893-1654594200-1655809200@www.thriveservices.org.au
SUMMARY:No Scaredy Cats - Winmalee [Term 2 2022]
DESCRIPTION:No Scaredy Cats is a child development course that aims to support you and your child through the ups and downs of life. It is what we call a ‘parent-led’ approach\, meaning that you take on the role of the coach in your child’s life\, and are able to guide them through emotionally distressing episodes.
URL:https://www.thriveservices.org.au/event/no-scaredy-cats-winmalee-term-2-2022-2022-06-07/
LOCATION:WinCAMP Building\, 56 White Cross Rd\, Winmalee\, 2777\, Australia
CATEGORIES:Family
ATTACH;FMTTYPE=image/jpeg:https://www.thriveservices.org.au/wp-content/uploads/2022/03/No-Scaredy-Cats-1.jpg
END:VEVENT
BEGIN:VEVENT
DTSTART;TZID=Australia/Sydney:20220607T093000
DTEND;TZID=Australia/Sydney:20220614T123000
DTSTAMP:20260423T032636
CREATED:20220606T133000Z
LAST-MODIFIED:20220808T043624Z
UID:4899-1654594200-1655209800@www.thriveservices.org.au
SUMMARY:No Scaredy Cats - Blackheath [Term 2 2022]
DESCRIPTION:No Scaredy Cats is a child development course that aims to support you and your child through the ups and downs of life. It is what we call a ‘parent-led’ approach\, meaning that you take on the role of the coach in your child’s life\, and are able to guide them through emotionally distressing episodes.
URL:https://www.thriveservices.org.au/event/no-scaredy-cats-blackheath-term-2-2022-2022-06-07/
LOCATION:Blackheath Community Hall\, Blackheath Community Hall\, Blackheath\, 2785\, Australia
CATEGORIES:Family
ATTACH;FMTTYPE=image/jpeg:https://www.thriveservices.org.au/wp-content/uploads/2022/06/event_No-Scaredy-Cats.jpg
END:VEVENT
BEGIN:VEVENT
DTSTART;TZID=Australia/Sydney:20220606T093000
DTEND;TZID=Australia/Sydney:20220620T110000
DTSTAMP:20260423T032636
CREATED:20220605T133000Z
LAST-MODIFIED:20220808T043624Z
UID:4892-1654507800-1655722800@www.thriveservices.org.au
SUMMARY:No Scaredy Cats - Winmalee [Term 2 2022]
DESCRIPTION:No Scaredy Cats is a child development course that aims to support you and your child through the ups and downs of life. It is what we call a ‘parent-led’ approach\, meaning that you take on the role of the coach in your child’s life\, and are able to guide them through emotionally distressing episodes.
URL:https://www.thriveservices.org.au/event/no-scaredy-cats-winmalee-term-2-2022-2022-06-06/
LOCATION:WinCAMP Building\, 56 White Cross Rd\, Winmalee\, 2777\, Australia
CATEGORIES:Family
ATTACH;FMTTYPE=image/jpeg:https://www.thriveservices.org.au/wp-content/uploads/2022/03/No-Scaredy-Cats-1.jpg
END:VEVENT
BEGIN:VEVENT
DTSTART;TZID=Australia/Sydney:20220606T093000
DTEND;TZID=Australia/Sydney:20220613T123000
DTSTAMP:20260423T032636
CREATED:20220605T133000Z
LAST-MODIFIED:20220808T043624Z
UID:4898-1654507800-1655123400@www.thriveservices.org.au
SUMMARY:No Scaredy Cats - Blackheath [Term 2 2022]
DESCRIPTION:No Scaredy Cats is a child development course that aims to support you and your child through the ups and downs of life. It is what we call a ‘parent-led’ approach\, meaning that you take on the role of the coach in your child’s life\, and are able to guide them through emotionally distressing episodes.
URL:https://www.thriveservices.org.au/event/no-scaredy-cats-blackheath-term-2-2022-2022-06-06/
LOCATION:Blackheath Community Hall\, Blackheath Community Hall\, Blackheath\, 2785\, Australia
CATEGORIES:Family
ATTACH;FMTTYPE=image/jpeg:https://www.thriveservices.org.au/wp-content/uploads/2022/06/event_No-Scaredy-Cats.jpg
END:VEVENT
BEGIN:VEVENT
DTSTART;TZID=Australia/Sydney:20220603T093000
DTEND;TZID=Australia/Sydney:20220617T110000
DTSTAMP:20260423T032636
CREATED:20220602T133000Z
LAST-MODIFIED:20220808T043625Z
UID:4891-1654248600-1655463600@www.thriveservices.org.au
SUMMARY:No Scaredy Cats - Winmalee [Term 2 2022]
DESCRIPTION:No Scaredy Cats is a child development course that aims to support you and your child through the ups and downs of life. It is what we call a ‘parent-led’ approach\, meaning that you take on the role of the coach in your child’s life\, and are able to guide them through emotionally distressing episodes.
URL:https://www.thriveservices.org.au/event/no-scaredy-cats-winmalee-term-2-2022-2022-06-03/
LOCATION:WinCAMP Building\, 56 White Cross Rd\, Winmalee\, 2777\, Australia
CATEGORIES:Family
ATTACH;FMTTYPE=image/jpeg:https://www.thriveservices.org.au/wp-content/uploads/2022/03/No-Scaredy-Cats-1.jpg
END:VEVENT
BEGIN:VEVENT
DTSTART;TZID=Australia/Sydney:20220603T093000
DTEND;TZID=Australia/Sydney:20220610T123000
DTSTAMP:20260423T032636
CREATED:20220602T133000Z
LAST-MODIFIED:20220808T043625Z
UID:4897-1654248600-1654864200@www.thriveservices.org.au
SUMMARY:No Scaredy Cats - Blackheath [Term 2 2022]
DESCRIPTION:No Scaredy Cats is a child development course that aims to support you and your child through the ups and downs of life. It is what we call a ‘parent-led’ approach\, meaning that you take on the role of the coach in your child’s life\, and are able to guide them through emotionally distressing episodes.
URL:https://www.thriveservices.org.au/event/no-scaredy-cats-blackheath-term-2-2022-2022-06-03/
LOCATION:Blackheath Community Hall\, Blackheath Community Hall\, Blackheath\, 2785\, Australia
CATEGORIES:Family
ATTACH;FMTTYPE=image/jpeg:https://www.thriveservices.org.au/wp-content/uploads/2022/06/event_No-Scaredy-Cats.jpg
END:VEVENT
END:VCALENDAR