BEGIN:VCALENDAR
VERSION:2.0
PRODID:-//Thrive Services - ECPv5.16.4//NONSGML v1.0//EN
CALSCALE:GREGORIAN
METHOD:PUBLISH
X-WR-CALNAME:Thrive Services
X-ORIGINAL-URL:https://www.thriveservices.org.au
X-WR-CALDESC:Events for Thrive Services
REFRESH-INTERVAL;VALUE=DURATION:PT1H
X-Robots-Tag:noindex
X-PUBLISHED-TTL:PT1H
BEGIN:VTIMEZONE
TZID:Australia/Sydney
BEGIN:STANDARD
TZOFFSETFROM:+1100
TZOFFSETTO:+1000
TZNAME:AEST
DTSTART:20240406T160000
END:STANDARD
BEGIN:DAYLIGHT
TZOFFSETFROM:+1000
TZOFFSETTO:+1100
TZNAME:AEDT
DTSTART:20241005T160000
END:DAYLIGHT
END:VTIMEZONE
BEGIN:VEVENT
DTSTART;TZID=Australia/Sydney:20240807T130000
DTEND;TZID=Australia/Sydney:20240807T150000
DTSTAMP:20260421T093221
CREATED:20240626T044459Z
LAST-MODIFIED:20240626T044459Z
UID:6684-1723035600-1723042800@www.thriveservices.org.au
SUMMARY:Blackheath Cockatoo Playgroup [Term 3 2024]
DESCRIPTION:A supported playgroup for 0-5yr olds\, great for creative and social development in a friendly environment. Kids can play whilst parents/carers relax with a cup of tea. \nRunning every Wednesday of the term. \n 
URL:https://www.thriveservices.org.au/event/blackheath-cockatoo-playgroup-term-3-2024-3/
LOCATION:Blackheath\, 123-125 Wentworth St\, Blackheath\, NSW\, 2785
CATEGORIES:Programs
ATTACH;FMTTYPE=image/png:https://www.thriveservices.org.au/wp-content/uploads/2024/01/Untitled-design-1.png
END:VEVENT
BEGIN:VEVENT
DTSTART;TZID=Australia/Sydney:20240802T100000
DTEND;TZID=Australia/Sydney:20240802T120000
DTSTAMP:20260421T093221
CREATED:20240626T050103Z
LAST-MODIFIED:20240626T050103Z
UID:6702-1722592800-1722600000@www.thriveservices.org.au
SUMMARY:Parenting Young
DESCRIPTION:A group for young parents\, their children and parents to be. \nRunning every Friday during the school term! \nFor more information visit www.mocs.org.au or call Tanya on 0432 143 452
URL:https://www.thriveservices.org.au/event/parenting-young-20/
LOCATION:48-50 Oaklands Road Hazelbrook\, Hazelbrook\, NSW\, 2779\, Australia
CATEGORIES:Programs
ATTACH;FMTTYPE=image/jpeg:https://www.thriveservices.org.au/wp-content/uploads/2024/05/Untitled-design.jpg
END:VEVENT
BEGIN:VEVENT
DTSTART;TZID=Australia/Sydney:20240731T130000
DTEND;TZID=Australia/Sydney:20240731T150000
DTSTAMP:20260421T093221
CREATED:20240626T044416Z
LAST-MODIFIED:20240626T044416Z
UID:6682-1722430800-1722438000@www.thriveservices.org.au
SUMMARY:Blackheath Cockatoo Playgroup [Term 3 2024]
DESCRIPTION:A supported playgroup for 0-5yr olds\, great for creative and social development in a friendly environment. Kids can play whilst parents/carers relax with a cup of tea. \nRunning every Wednesday of the term. \n 
URL:https://www.thriveservices.org.au/event/blackheath-cockatoo-playgroup-term-3-2024-2/
LOCATION:Blackheath\, 123-125 Wentworth St\, Blackheath\, NSW\, 2785
CATEGORIES:Programs
ATTACH;FMTTYPE=image/png:https://www.thriveservices.org.au/wp-content/uploads/2024/01/Untitled-design-1.png
END:VEVENT
BEGIN:VEVENT
DTSTART;TZID=Australia/Sydney:20240726T100000
DTEND;TZID=Australia/Sydney:20240726T120000
DTSTAMP:20260421T093221
CREATED:20240626T050024Z
LAST-MODIFIED:20240626T050024Z
UID:6700-1721988000-1721995200@www.thriveservices.org.au
SUMMARY:Parenting Young
DESCRIPTION:A group for young parents\, their children and parents to be. \nRunning every Friday during the school term! \nFor more information visit www.mocs.org.au or call Tanya on 0432 143 452
URL:https://www.thriveservices.org.au/event/parenting-young-19/
LOCATION:48-50 Oaklands Road Hazelbrook\, Hazelbrook\, NSW\, 2779\, Australia
CATEGORIES:Programs
ATTACH;FMTTYPE=image/jpeg:https://www.thriveservices.org.au/wp-content/uploads/2024/05/Untitled-design.jpg
END:VEVENT
BEGIN:VEVENT
DTSTART;TZID=Australia/Sydney:20240724T130000
DTEND;TZID=Australia/Sydney:20240724T150000
DTSTAMP:20260421T093221
CREATED:20240626T044252Z
LAST-MODIFIED:20240626T044252Z
UID:6680-1721826000-1721833200@www.thriveservices.org.au
SUMMARY:Blackheath Cockatoo Playgroup [Term 3 2024]
DESCRIPTION:A supported playgroup for 0-5yr olds\, great for creative and social development in a friendly environment. Kids can play whilst parents/carers relax with a cup of tea. \nRunning every Wednesday of the term. \n 
URL:https://www.thriveservices.org.au/event/blackheath-cockatoo-playgroup-term-3-2024/
LOCATION:Blackheath\, 123-125 Wentworth St\, Blackheath\, NSW\, 2785
CATEGORIES:Programs
ATTACH;FMTTYPE=image/png:https://www.thriveservices.org.au/wp-content/uploads/2024/01/Untitled-design-1.png
END:VEVENT
BEGIN:VEVENT
DTSTART;TZID=Australia/Sydney:20240724T100000
DTEND;TZID=Australia/Sydney:20240724T120000
DTSTAMP:20260421T093221
CREATED:20240626T050722Z
LAST-MODIFIED:20240626T050722Z
UID:6720-1721815200-1721822400@www.thriveservices.org.au
SUMMARY:Young Parents Circle
DESCRIPTION:A group for all parents who are pregnant or have children (0-5). The group meets each Wednesday during the school term\, at the Queen Elizabeth Park\, Lithgow. Simple snacks are provided for families to enjoy together. \n 
URL:https://www.thriveservices.org.au/event/young-parents-circle-20/
LOCATION:Queen Elizabeth Park\, 227 Main Street\, Lithgow\, NSW\, 2790\, Australia
CATEGORIES:Programs
ATTACH;FMTTYPE=image/jpeg:https://www.thriveservices.org.au/wp-content/uploads/2024/05/Untitled-design-1.jpg
END:VEVENT
BEGIN:VEVENT
DTSTART;TZID=Australia/Sydney:20240722T110000
DTEND;TZID=Australia/Sydney:20240722T120000
DTSTAMP:20260421T093221
CREATED:20240430T023721Z
LAST-MODIFIED:20240430T023721Z
UID:6557-1721646000-1721649600@www.thriveservices.org.au
SUMMARY:The Parenting Pod Term 2
DESCRIPTION:A parenting group to provide parents with a space for a relaxing chat and coffee\, service information\, discussion topics and guest speakers. \nDate: Monday the 22nd of July 2024 \nWhen: 11am – 12pm \nWhere: Lithgow Library- 157 Main St Lithgow \nTopic: Early Childhood Approach \nGuest speaker: Catherine- Lifestart \nFor more information\, please contact our Lithgow Office \nPhone: 02 6351 4055 \nEmail: info@thriveservices.org.au
URL:https://www.thriveservices.org.au/event/the-parenting-pod-term-2-3/
LOCATION:Lithgow Library\, 157 Main Street\, Lithgow\, NSW\, 2790\, Australia
CATEGORIES:Community,Family
ATTACH;FMTTYPE=image/png:https://www.thriveservices.org.au/wp-content/uploads/2024/01/Untitled-design-1-1.png
END:VEVENT
BEGIN:VEVENT
DTSTART;TZID=Australia/Sydney:20240717T173000
DTEND;TZID=Australia/Sydney:20240717T200000
DTSTAMP:20260421T093221
CREATED:20240703T051311Z
LAST-MODIFIED:20240703T052506Z
UID:6755-1721237400-1721246400@www.thriveservices.org.au
SUMMARY:Family Movie Night
DESCRIPTION:Join us this school holidays for our family movie night. Bring along your blankets and cushions for a cosy evening. \nSausage sizzle kicks off from 5.30pm \nRSVP below \n\n                    RSVP Form        \n            \n                \n                    Subscribe                \n            \n            \n                \n            \n        \n        First NameLast NamePhone/MobileEmailNumber of AdultsNumber of ChildrenDietary Requirements Vegetarian Vegan Gluten-free Please add me to your newsletter. Send
URL:https://www.thriveservices.org.au/event/familymovienight/
LOCATION:125-127 Wentworth St\, 125-127 Wentworth Street\, Blackheath\, NSW\, 2785
CATEGORIES:Programs
ATTACH;FMTTYPE=image/png:https://www.thriveservices.org.au/wp-content/uploads/2024/07/Orange-and-Cream-Retro-Movie-Night-Poster.png
END:VEVENT
BEGIN:VEVENT
DTSTART;TZID=Australia/Sydney:20240705T100000
DTEND;TZID=Australia/Sydney:20240705T120000
DTSTAMP:20260421T093221
CREATED:20240506T002853Z
LAST-MODIFIED:20240506T004046Z
UID:6585-1720173600-1720180800@www.thriveservices.org.au
SUMMARY:Parenting Young
DESCRIPTION:A group for young parents\, their children and parents to be. \nRunning every Friday during the school term! \nFor more information visit www.mocs.org.au or call Tanya on 0432 143 452
URL:https://www.thriveservices.org.au/event/parenting-young-18/
LOCATION:48-50 Oaklands Road Hazelbrook\, Hazelbrook\, NSW\, 2779\, Australia
CATEGORIES:Programs
ATTACH;FMTTYPE=image/jpeg:https://www.thriveservices.org.au/wp-content/uploads/2024/05/Untitled-design.jpg
END:VEVENT
BEGIN:VEVENT
DTSTART;TZID=Australia/Sydney:20240703T130000
DTEND;TZID=Australia/Sydney:20240703T150000
DTSTAMP:20260421T093221
CREATED:20240212T221731Z
LAST-MODIFIED:20240430T001058Z
UID:6471-1720011600-1720018800@www.thriveservices.org.au
SUMMARY:Blackheath Cockatoo Playgroup [Term 2 2024]
DESCRIPTION:A supported playgroup for 0-5yr olds\, great for creative and social development in a friendly environment. Kids can play whilst parents/carers relax with a cup of tea. \nRunning every Wednesday of the term. \n 
URL:https://www.thriveservices.org.au/event/blackheath-playgroup-term-2-2024-9/
LOCATION:Blackheath\, 123-125 Wentworth St\, Blackheath\, NSW\, 2785
CATEGORIES:Programs
ATTACH;FMTTYPE=image/png:https://www.thriveservices.org.au/wp-content/uploads/2024/01/Untitled-design-1.png
END:VEVENT
BEGIN:VEVENT
DTSTART;TZID=Australia/Sydney:20240703T100000
DTEND;TZID=Australia/Sydney:20240703T120000
DTSTAMP:20260421T093221
CREATED:20240506T010358Z
LAST-MODIFIED:20240506T010358Z
UID:6606-1720000800-1720008000@www.thriveservices.org.au
SUMMARY:Young Parents Circle
DESCRIPTION:A group for all parents who are pregnant or have children (0-5). The group meets each Wednesday during the school term\, at the Queen Elizabeth Park\, Lithgow. Simple snacks are provided for families to enjoy together. \n 
URL:https://www.thriveservices.org.au/event/young-parents-circle-19/
LOCATION:Queen Elizabeth Park\, 227 Main Street\, Lithgow\, NSW\, 2790\, Australia
CATEGORIES:Programs
ATTACH;FMTTYPE=image/jpeg:https://www.thriveservices.org.au/wp-content/uploads/2024/05/Untitled-design-1.jpg
END:VEVENT
BEGIN:VEVENT
DTSTART;TZID=Australia/Sydney:20240628T100000
DTEND;TZID=Australia/Sydney:20240628T120000
DTSTAMP:20260421T093221
CREATED:20240506T002252Z
LAST-MODIFIED:20240506T004010Z
UID:6583-1719568800-1719576000@www.thriveservices.org.au
SUMMARY:Parenting Young
DESCRIPTION:A group for young parents\, their children and parents to be. \nRunning every Friday during the school term! \nFor more information visit www.mocs.org.au or call Tanya on 0432 143 452
URL:https://www.thriveservices.org.au/event/parenting-young-17/
LOCATION:48-50 Oaklands Road Hazelbrook\, Hazelbrook\, NSW\, 2779\, Australia
CATEGORIES:Programs
ATTACH;FMTTYPE=image/jpeg:https://www.thriveservices.org.au/wp-content/uploads/2024/05/Untitled-design.jpg
END:VEVENT
BEGIN:VEVENT
DTSTART;TZID=Australia/Sydney:20240626T130000
DTEND;TZID=Australia/Sydney:20240626T150000
DTSTAMP:20260421T093221
CREATED:20240212T221705Z
LAST-MODIFIED:20240430T001026Z
UID:6469-1719406800-1719414000@www.thriveservices.org.au
SUMMARY:Blackheath Cockatoo Playgroup [Term 2 2024]
DESCRIPTION:A supported playgroup for 0-5yr olds\, great for creative and social development in a friendly environment. Kids can play whilst parents/carers relax with a cup of tea. \nRunning every Wednesday of the term. \n 
URL:https://www.thriveservices.org.au/event/blackheath-playgroup-term-2-2024-8/
LOCATION:Blackheath\, 123-125 Wentworth St\, Blackheath\, NSW\, 2785
CATEGORIES:Programs
ATTACH;FMTTYPE=image/png:https://www.thriveservices.org.au/wp-content/uploads/2024/01/Untitled-design-1.png
END:VEVENT
BEGIN:VEVENT
DTSTART;TZID=Australia/Sydney:20240626T100000
DTEND;TZID=Australia/Sydney:20240626T120000
DTSTAMP:20260421T093221
CREATED:20240506T010315Z
LAST-MODIFIED:20240506T010315Z
UID:6604-1719396000-1719403200@www.thriveservices.org.au
SUMMARY:Young Parents Circle
DESCRIPTION:A group for all parents who are pregnant or have children (0-5). The group meets each Wednesday during the school term\, at the Queen Elizabeth Park\, Lithgow. Simple snacks are provided for families to enjoy together. \n 
URL:https://www.thriveservices.org.au/event/young-parents-circle-18/
LOCATION:Queen Elizabeth Park\, 227 Main Street\, Lithgow\, NSW\, 2790\, Australia
CATEGORIES:Programs
ATTACH;FMTTYPE=image/jpeg:https://www.thriveservices.org.au/wp-content/uploads/2024/05/Untitled-design-1.jpg
END:VEVENT
BEGIN:VEVENT
DTSTART;TZID=Australia/Sydney:20240621T100000
DTEND;TZID=Australia/Sydney:20240621T120000
DTSTAMP:20260421T093221
CREATED:20240506T002009Z
LAST-MODIFIED:20240506T003936Z
UID:6581-1718964000-1718971200@www.thriveservices.org.au
SUMMARY:Parenting Young
DESCRIPTION:A group for young parents\, their children and parents to be. \nRunning every Friday during the school term! \nFor more information visit www.mocs.org.au or call Tanya on 0432 143 452
URL:https://www.thriveservices.org.au/event/parenting-young-16/
LOCATION:48-50 Oaklands Road Hazelbrook\, Hazelbrook\, NSW\, 2779\, Australia
CATEGORIES:Programs
ATTACH;FMTTYPE=image/jpeg:https://www.thriveservices.org.au/wp-content/uploads/2024/05/Untitled-design.jpg
END:VEVENT
BEGIN:VEVENT
DTSTART;TZID=Australia/Sydney:20240619T130000
DTEND;TZID=Australia/Sydney:20240619T150000
DTSTAMP:20260421T093221
CREATED:20240212T221636Z
LAST-MODIFIED:20240430T000950Z
UID:6467-1718802000-1718809200@www.thriveservices.org.au
SUMMARY:Blackheath Cockatoo Playgroup [Term 2 2024]
DESCRIPTION:A supported playgroup for 0-5yr olds\, great for creative and social development in a friendly environment. Kids can play whilst parents/carers relax with a cup of tea. \nRunning every Wednesday of the term. \n 
URL:https://www.thriveservices.org.au/event/blackheath-playgroup-term-2-2024-7/
LOCATION:Blackheath\, 123-125 Wentworth St\, Blackheath\, NSW\, 2785
CATEGORIES:Programs
ATTACH;FMTTYPE=image/png:https://www.thriveservices.org.au/wp-content/uploads/2024/01/Untitled-design-1.png
END:VEVENT
BEGIN:VEVENT
DTSTART;TZID=Australia/Sydney:20240619T100000
DTEND;TZID=Australia/Sydney:20240619T120000
DTSTAMP:20260421T093221
CREATED:20240506T010246Z
LAST-MODIFIED:20240506T010246Z
UID:6602-1718791200-1718798400@www.thriveservices.org.au
SUMMARY:Young Parents Circle
DESCRIPTION:A group for all parents who are pregnant or have children (0-5). The group meets each Wednesday during the school term\, at the Queen Elizabeth Park\, Lithgow. Simple snacks are provided for families to enjoy together. \n 
URL:https://www.thriveservices.org.au/event/young-parents-circle-17/
LOCATION:Queen Elizabeth Park\, 227 Main Street\, Lithgow\, NSW\, 2790\, Australia
CATEGORIES:Programs
ATTACH;FMTTYPE=image/jpeg:https://www.thriveservices.org.au/wp-content/uploads/2024/05/Untitled-design-1.jpg
END:VEVENT
BEGIN:VEVENT
DTSTART;TZID=Australia/Sydney:20240617T110000
DTEND;TZID=Australia/Sydney:20240617T120000
DTSTAMP:20260421T093221
CREATED:20240430T023241Z
LAST-MODIFIED:20240430T023241Z
UID:6554-1718622000-1718625600@www.thriveservices.org.au
SUMMARY:The Parenting Pod Term 2
DESCRIPTION:A parenting group to provide parents with a space for a relaxing chat and coffee\, service information\, discussion topics and guest speakers. \nDate: Monday the 17th of June 2024 \nWhen: 11am – 12pm \nWhere: Lithgow Library- 157 Main St Lithgow \nTopic: Child Language Development \nGuest speaker: Lurene – Speech Pathology \nFor more information\, please contact our Lithgow Office \nPhone: 02 6351 4055 \nEmail: info@thriveservices.org.au
URL:https://www.thriveservices.org.au/event/the-parenting-pod-term-2-2/
LOCATION:Lithgow Library\, 157 Main Street\, Lithgow\, NSW\, 2790\, Australia
CATEGORIES:Community,Family
ATTACH;FMTTYPE=image/png:https://www.thriveservices.org.au/wp-content/uploads/2024/01/Untitled-design-1-1.png
END:VEVENT
BEGIN:VEVENT
DTSTART;TZID=Australia/Sydney:20240614T100000
DTEND;TZID=Australia/Sydney:20240614T120000
DTSTAMP:20260421T093221
CREATED:20240506T001934Z
LAST-MODIFIED:20240506T003850Z
UID:6579-1718359200-1718366400@www.thriveservices.org.au
SUMMARY:Parenting Young
DESCRIPTION:A group for young parents\, their children and parents to be. \nRunning every Friday during the school term! \nFor more information visit www.mocs.org.au or call Tanya on 0432 143 452
URL:https://www.thriveservices.org.au/event/parenting-young-15/
LOCATION:48-50 Oaklands Road Hazelbrook\, Hazelbrook\, NSW\, 2779\, Australia
CATEGORIES:Programs
ATTACH;FMTTYPE=image/jpeg:https://www.thriveservices.org.au/wp-content/uploads/2024/05/Untitled-design.jpg
END:VEVENT
BEGIN:VEVENT
DTSTART;TZID=Australia/Sydney:20240612T130000
DTEND;TZID=Australia/Sydney:20240612T150000
DTSTAMP:20260421T093221
CREATED:20240212T221524Z
LAST-MODIFIED:20240430T000901Z
UID:6465-1718197200-1718204400@www.thriveservices.org.au
SUMMARY:Blackheath Cockatoo Playgroup [Term 2 2024]
DESCRIPTION:A supported playgroup for 0-5yr olds\, great for creative and social development in a friendly environment. Kids can play whilst parents/carers relax with a cup of tea. \nRunning every Wednesday of the term. \n  \n 
URL:https://www.thriveservices.org.au/event/blackheath-playgroup-term-2-2024-6/
LOCATION:Blackheath\, 123-125 Wentworth St\, Blackheath\, NSW\, 2785
CATEGORIES:Programs
ATTACH;FMTTYPE=image/png:https://www.thriveservices.org.au/wp-content/uploads/2024/01/Untitled-design-1.png
END:VEVENT
BEGIN:VEVENT
DTSTART;TZID=Australia/Sydney:20240612T100000
DTEND;TZID=Australia/Sydney:20240612T120000
DTSTAMP:20260421T093221
CREATED:20240506T010202Z
LAST-MODIFIED:20240506T010202Z
UID:6600-1718186400-1718193600@www.thriveservices.org.au
SUMMARY:Young Parents Circle
DESCRIPTION:A group for all parents who are pregnant or have children (0-5). The group meets each Wednesday during the school term\, at the Queen Elizabeth Park\, Lithgow. Simple snacks are provided for families to enjoy together. \n 
URL:https://www.thriveservices.org.au/event/young-parents-circle-16/
LOCATION:Queen Elizabeth Park\, 227 Main Street\, Lithgow\, NSW\, 2790\, Australia
CATEGORIES:Programs
ATTACH;FMTTYPE=image/jpeg:https://www.thriveservices.org.au/wp-content/uploads/2024/05/Untitled-design-1.jpg
END:VEVENT
BEGIN:VEVENT
DTSTART;TZID=Australia/Sydney:20240607T100000
DTEND;TZID=Australia/Sydney:20240607T120000
DTSTAMP:20260421T093221
CREATED:20240506T001900Z
LAST-MODIFIED:20240506T003704Z
UID:6577-1717754400-1717761600@www.thriveservices.org.au
SUMMARY:Parenting Young
DESCRIPTION:A group for young parents\, their children and parents to be. \nRunning every Friday during the school term! \nFor more information visit www.mocs.org.au or call Tanya on 0432 143 452
URL:https://www.thriveservices.org.au/event/parenting-young-14/
LOCATION:48-50 Oaklands Road Hazelbrook\, Hazelbrook\, NSW\, 2779\, Australia
CATEGORIES:Programs
ATTACH;FMTTYPE=image/jpeg:https://www.thriveservices.org.au/wp-content/uploads/2024/05/Untitled-design.jpg
END:VEVENT
BEGIN:VEVENT
DTSTART;TZID=Australia/Sydney:20240605T130000
DTEND;TZID=Australia/Sydney:20240605T150000
DTSTAMP:20260421T093221
CREATED:20240212T221441Z
LAST-MODIFIED:20240430T000821Z
UID:6463-1717592400-1717599600@www.thriveservices.org.au
SUMMARY:Blackheath Cockatoo Playgroup [Term 2 2024]
DESCRIPTION:A supported playgroup for 0-5yr olds\, great for creative and social development in a friendly environment. Kids can play whilst parents/carers relax with a cup of tea. \nRunning every Wednesday of the term. \n 
URL:https://www.thriveservices.org.au/event/blackheath-playgroup-term-2-2024-5/
LOCATION:Blackheath\, 123-125 Wentworth St\, Blackheath\, NSW\, 2785
CATEGORIES:Programs
ATTACH;FMTTYPE=image/png:https://www.thriveservices.org.au/wp-content/uploads/2024/01/Untitled-design-1.png
END:VEVENT
BEGIN:VEVENT
DTSTART;TZID=Australia/Sydney:20240605T100000
DTEND;TZID=Australia/Sydney:20240605T120000
DTSTAMP:20260421T093221
CREATED:20240506T005947Z
LAST-MODIFIED:20240506T005947Z
UID:6598-1717581600-1717588800@www.thriveservices.org.au
SUMMARY:Young Parents Circle
DESCRIPTION:A group for all parents who are pregnant or have children (0-5). The group meets each Wednesday during the school term\, at the Queen Elizabeth Park\, Lithgow. Simple snacks are provided for families to enjoy together. \n 
URL:https://www.thriveservices.org.au/event/young-parents-circle-15/
LOCATION:Queen Elizabeth Park\, 227 Main Street\, Lithgow\, NSW\, 2790\, Australia
CATEGORIES:Programs
ATTACH;FMTTYPE=image/jpeg:https://www.thriveservices.org.au/wp-content/uploads/2024/05/Untitled-design-1.jpg
END:VEVENT
BEGIN:VEVENT
DTSTART;TZID=Australia/Sydney:20240531T100000
DTEND;TZID=Australia/Sydney:20240531T120000
DTSTAMP:20260421T093221
CREATED:20240506T001512Z
LAST-MODIFIED:20240506T003634Z
UID:6575-1717149600-1717156800@www.thriveservices.org.au
SUMMARY:Parenting Young
DESCRIPTION:A group for young parents\, their children and parents to be. \nRunning every Friday during the school term! \nFor more information visit www.mocs.org.au or call Tanya on 0432 143 452
URL:https://www.thriveservices.org.au/event/parenting-young-13/
LOCATION:48-50 Oaklands Road Hazelbrook\, Hazelbrook\, NSW\, 2779\, Australia
CATEGORIES:Programs
ATTACH;FMTTYPE=image/jpeg:https://www.thriveservices.org.au/wp-content/uploads/2024/05/Untitled-design.jpg
END:VEVENT
BEGIN:VEVENT
DTSTART;TZID=Australia/Sydney:20240529T130000
DTEND;TZID=Australia/Sydney:20240529T150000
DTSTAMP:20260421T093221
CREATED:20240212T221350Z
LAST-MODIFIED:20240430T000732Z
UID:6461-1716987600-1716994800@www.thriveservices.org.au
SUMMARY:Blackheath Cockatoo Playgroup [Term 2 2024]
DESCRIPTION:A supported playgroup for 0-5yr olds\, great for creative and social development in a friendly environment. Kids can play whilst parents/carers relax with a cup of tea. \nRunning every Wednesday of the term. \n 
URL:https://www.thriveservices.org.au/event/blackheath-playgroup-term-2-2024-4/
LOCATION:Blackheath\, 123-125 Wentworth St\, Blackheath\, NSW\, 2785
CATEGORIES:Programs
ATTACH;FMTTYPE=image/png:https://www.thriveservices.org.au/wp-content/uploads/2024/01/Untitled-design-1.png
END:VEVENT
BEGIN:VEVENT
DTSTART;TZID=Australia/Sydney:20240529T100000
DTEND;TZID=Australia/Sydney:20240529T120000
DTSTAMP:20260421T093221
CREATED:20240506T005747Z
LAST-MODIFIED:20240506T005747Z
UID:6596-1716976800-1716984000@www.thriveservices.org.au
SUMMARY:Young Parents Circle
DESCRIPTION:A group for all parents who are pregnant or have children (0-5). The group meets each Wednesday during the school term\, at the Queen Elizabeth Park\, Lithgow. Simple snacks are provided for families to enjoy together. \n 
URL:https://www.thriveservices.org.au/event/young-parents-circle-14/
LOCATION:Queen Elizabeth Park\, 227 Main Street\, Lithgow\, NSW\, 2790\, Australia
CATEGORIES:Programs
ATTACH;FMTTYPE=image/jpeg:https://www.thriveservices.org.au/wp-content/uploads/2024/05/Untitled-design-1.jpg
END:VEVENT
BEGIN:VEVENT
DTSTART;TZID=Australia/Sydney:20240524T100000
DTEND;TZID=Australia/Sydney:20240524T120000
DTSTAMP:20260421T093221
CREATED:20240506T001312Z
LAST-MODIFIED:20240506T003318Z
UID:6573-1716544800-1716552000@www.thriveservices.org.au
SUMMARY:Parenting Young
DESCRIPTION:A group for young parents\, their children and parents to be. \nRunning every Friday during the school term! \nFor more information visit www.mocs.org.au or call Tanya on 0432 143 452
URL:https://www.thriveservices.org.au/event/parenting-young-12/
LOCATION:48-50 Oaklands Road Hazelbrook\, Hazelbrook\, NSW\, 2779\, Australia
CATEGORIES:Programs
ATTACH;FMTTYPE=image/jpeg:https://www.thriveservices.org.au/wp-content/uploads/2024/05/Untitled-design.jpg
END:VEVENT
BEGIN:VEVENT
DTSTART;TZID=Australia/Sydney:20240522T130000
DTEND;TZID=Australia/Sydney:20240522T150000
DTSTAMP:20260421T093221
CREATED:20240212T221312Z
LAST-MODIFIED:20240430T000646Z
UID:6459-1716382800-1716390000@www.thriveservices.org.au
SUMMARY:Blackheath Cockatoo Playgroup [Term 2 2024]
DESCRIPTION:A supported playgroup for 0-5yr olds\, great for creative and social development in a friendly environment. Kids can play whilst parents/carers relax with a cup of tea. \nRunning every Wednesday of the term.
URL:https://www.thriveservices.org.au/event/blackheath-playgroup-term-2-2024-3/
LOCATION:Blackheath\, 123-125 Wentworth St\, Blackheath\, NSW\, 2785
CATEGORIES:Programs
ATTACH;FMTTYPE=image/png:https://www.thriveservices.org.au/wp-content/uploads/2024/01/Untitled-design-1.png
END:VEVENT
BEGIN:VEVENT
DTSTART;TZID=Australia/Sydney:20240522T100000
DTEND;TZID=Australia/Sydney:20240522T120000
DTSTAMP:20260421T093221
CREATED:20240506T005714Z
LAST-MODIFIED:20240506T005714Z
UID:6594-1716372000-1716379200@www.thriveservices.org.au
SUMMARY:Young Parents Circle
DESCRIPTION:A group for all parents who are pregnant or have children (0-5). The group meets each Wednesday during the school term\, at the Queen Elizabeth Park\, Lithgow. Simple snacks are provided for families to enjoy together. \n 
URL:https://www.thriveservices.org.au/event/young-parents-circle-13/
LOCATION:Queen Elizabeth Park\, 227 Main Street\, Lithgow\, NSW\, 2790\, Australia
CATEGORIES:Programs
ATTACH;FMTTYPE=image/jpeg:https://www.thriveservices.org.au/wp-content/uploads/2024/05/Untitled-design-1.jpg
END:VEVENT
END:VCALENDAR