BEGIN:VCALENDAR
VERSION:2.0
PRODID:-//Thrive Services - ECPv5.16.4//NONSGML v1.0//EN
CALSCALE:GREGORIAN
METHOD:PUBLISH
X-WR-CALNAME:Thrive Services
X-ORIGINAL-URL:https://www.thriveservices.org.au
X-WR-CALDESC:Events for Thrive Services
REFRESH-INTERVAL;VALUE=DURATION:PT1H
X-Robots-Tag:noindex
X-PUBLISHED-TTL:PT1H
BEGIN:VTIMEZONE
TZID:Australia/Sydney
BEGIN:STANDARD
TZOFFSETFROM:+1100
TZOFFSETTO:+1000
TZNAME:AEST
DTSTART:20240406T160000
END:STANDARD
BEGIN:DAYLIGHT
TZOFFSETFROM:+1000
TZOFFSETTO:+1100
TZNAME:AEDT
DTSTART:20241005T160000
END:DAYLIGHT
END:VTIMEZONE
BEGIN:VEVENT
DTSTART;TZID=Australia/Sydney:20240524T100000
DTEND;TZID=Australia/Sydney:20240524T120000
DTSTAMP:20260421T102017
CREATED:20240506T001312Z
LAST-MODIFIED:20240506T003318Z
UID:6573-1716544800-1716552000@www.thriveservices.org.au
SUMMARY:Parenting Young
DESCRIPTION:A group for young parents\, their children and parents to be. \nRunning every Friday during the school term! \nFor more information visit www.mocs.org.au or call Tanya on 0432 143 452
URL:https://www.thriveservices.org.au/event/parenting-young-12/
LOCATION:48-50 Oaklands Road Hazelbrook\, Hazelbrook\, NSW\, 2779\, Australia
CATEGORIES:Programs
ATTACH;FMTTYPE=image/jpeg:https://www.thriveservices.org.au/wp-content/uploads/2024/05/Untitled-design.jpg
END:VEVENT
BEGIN:VEVENT
DTSTART;TZID=Australia/Sydney:20240522T130000
DTEND;TZID=Australia/Sydney:20240522T150000
DTSTAMP:20260421T102017
CREATED:20240212T221312Z
LAST-MODIFIED:20240430T000646Z
UID:6459-1716382800-1716390000@www.thriveservices.org.au
SUMMARY:Blackheath Cockatoo Playgroup [Term 2 2024]
DESCRIPTION:A supported playgroup for 0-5yr olds\, great for creative and social development in a friendly environment. Kids can play whilst parents/carers relax with a cup of tea. \nRunning every Wednesday of the term.
URL:https://www.thriveservices.org.au/event/blackheath-playgroup-term-2-2024-3/
LOCATION:Blackheath\, 123-125 Wentworth St\, Blackheath\, NSW\, 2785
CATEGORIES:Programs
ATTACH;FMTTYPE=image/png:https://www.thriveservices.org.au/wp-content/uploads/2024/01/Untitled-design-1.png
END:VEVENT
BEGIN:VEVENT
DTSTART;TZID=Australia/Sydney:20240522T100000
DTEND;TZID=Australia/Sydney:20240522T120000
DTSTAMP:20260421T102017
CREATED:20240506T005714Z
LAST-MODIFIED:20240506T005714Z
UID:6594-1716372000-1716379200@www.thriveservices.org.au
SUMMARY:Young Parents Circle
DESCRIPTION:A group for all parents who are pregnant or have children (0-5). The group meets each Wednesday during the school term\, at the Queen Elizabeth Park\, Lithgow. Simple snacks are provided for families to enjoy together. \n 
URL:https://www.thriveservices.org.au/event/young-parents-circle-13/
LOCATION:Queen Elizabeth Park\, 227 Main Street\, Lithgow\, NSW\, 2790\, Australia
CATEGORIES:Programs
ATTACH;FMTTYPE=image/jpeg:https://www.thriveservices.org.au/wp-content/uploads/2024/05/Untitled-design-1.jpg
END:VEVENT
BEGIN:VEVENT
DTSTART;TZID=Australia/Sydney:20240520T110000
DTEND;TZID=Australia/Sydney:20240520T120000
DTSTAMP:20260421T102017
CREATED:20240430T022929Z
LAST-MODIFIED:20240430T022929Z
UID:6550-1716202800-1716206400@www.thriveservices.org.au
SUMMARY:The Parenting Pod Term 2
DESCRIPTION:A parenting group to provide parents with a space for a relaxing chat and coffee\, service information\, discussion topics and guest speakers. \nDate: Monday the 2oth of May 2024 \nWhen: 11am – 12pm \nWhere: Lithgow Library- 157 Main St Lithgow \nTopic: HIPPY Bowenfels Program \nGuest speaker: Natasha- Centacare Central West and Orana \nFor more information\, please contact our Lithgow Office \nPhone: 02 6351 4055 \nEmail: info@thriveservices.org.au
URL:https://www.thriveservices.org.au/event/the-parenting-pod-term-2/
LOCATION:Lithgow Library\, 157 Main Street\, Lithgow\, NSW\, 2790\, Australia
CATEGORIES:Community,Family
ATTACH;FMTTYPE=image/png:https://www.thriveservices.org.au/wp-content/uploads/2024/01/Untitled-design-1-1.png
END:VEVENT
BEGIN:VEVENT
DTSTART;TZID=Australia/Sydney:20240517T150000
DTEND;TZID=Australia/Sydney:20240517T180000
DTSTAMP:20260421T102017
CREATED:20240430T032746Z
LAST-MODIFIED:20240507T042803Z
UID:6519-1715958000-1715968800@www.thriveservices.org.au
SUMMARY:Thrive Family Games Night
DESCRIPTION:Come and join us to celebrate National Families Week (13th-19th of May). \nDate: Friday 17th May \nWhere: Phillips Hall\, Blackheath \nwhen: 3pm – 6pm \nWhat: Family games night (think giant Jenga\, connect 4\, corn hole) \nFood: Free Pizza!
URL:https://www.thriveservices.org.au/event/thrive-family-games-night/
LOCATION:Phillips Hall\, 41 Gardiner Cres\, Blackheath\, NSW\, 2785\, Australia
CATEGORIES:Community,Family
ATTACH;FMTTYPE=image/png:https://www.thriveservices.org.au/wp-content/uploads/2024/04/Untitled-design-2.png
END:VEVENT
BEGIN:VEVENT
DTSTART;TZID=Australia/Sydney:20240517T100000
DTEND;TZID=Australia/Sydney:20240517T120000
DTSTAMP:20260421T102017
CREATED:20240506T001115Z
LAST-MODIFIED:20240506T003252Z
UID:6571-1715940000-1715947200@www.thriveservices.org.au
SUMMARY:Parenting Young
DESCRIPTION:A group for young parents\, their children and parents to be. \nRunning every Friday during the school term! \nFor more information visit www.mocs.org.au or call Tanya on 0432 143 452
URL:https://www.thriveservices.org.au/event/parenting-young-11/
LOCATION:48-50 Oaklands Road Hazelbrook\, Hazelbrook\, NSW\, 2779\, Australia
CATEGORIES:Programs
ATTACH;FMTTYPE=image/jpeg:https://www.thriveservices.org.au/wp-content/uploads/2024/05/Untitled-design.jpg
END:VEVENT
BEGIN:VEVENT
DTSTART;TZID=Australia/Sydney:20240515T130000
DTEND;TZID=Australia/Sydney:20240515T150000
DTSTAMP:20260421T102017
CREATED:20240212T221233Z
LAST-MODIFIED:20240430T000549Z
UID:6457-1715778000-1715785200@www.thriveservices.org.au
SUMMARY:Blackheath Cockatoo Playgroup [Term 2 2024]
DESCRIPTION:A supported playgroup for 0-5yr olds\, great for creative and social development in a friendly environment. Kids can play whilst parents/carers relax with a cup of tea. \nRunning every Wednesday of the term.
URL:https://www.thriveservices.org.au/event/blackheath-playgroup-term-2-2024-2/
LOCATION:Blackheath\, 123-125 Wentworth St\, Blackheath\, NSW\, 2785
CATEGORIES:Programs
ATTACH;FMTTYPE=image/png:https://www.thriveservices.org.au/wp-content/uploads/2024/01/Untitled-design-1.png
END:VEVENT
BEGIN:VEVENT
DTSTART;TZID=Australia/Sydney:20240515T100000
DTEND;TZID=Australia/Sydney:20240515T120000
DTSTAMP:20260421T102017
CREATED:20240506T005637Z
LAST-MODIFIED:20240506T005637Z
UID:6592-1715767200-1715774400@www.thriveservices.org.au
SUMMARY:Young Parents Circle
DESCRIPTION:A group for all parents who are pregnant or have children (0-5). The group meets each Wednesday during the school term\, at the Queen Elizabeth Park\, Lithgow. Simple snacks are provided for families to enjoy together. \n 
URL:https://www.thriveservices.org.au/event/young-parents-circle-12/
LOCATION:Queen Elizabeth Park\, 227 Main Street\, Lithgow\, NSW\, 2790\, Australia
CATEGORIES:Programs
ATTACH;FMTTYPE=image/jpeg:https://www.thriveservices.org.au/wp-content/uploads/2024/05/Untitled-design-1.jpg
END:VEVENT
BEGIN:VEVENT
DTSTART;TZID=Australia/Sydney:20240510T100000
DTEND;TZID=Australia/Sydney:20240510T120000
DTSTAMP:20260421T102017
CREATED:20240506T001003Z
LAST-MODIFIED:20240506T003150Z
UID:6549-1715335200-1715342400@www.thriveservices.org.au
SUMMARY:Parenting Young
DESCRIPTION:A group for young parents\, their children and parents to be. \nRunning every Friday during the school term! \nFor more information visit www.mocs.org.au or call Tanya on 0432 143 452
URL:https://www.thriveservices.org.au/event/parenting-young-10/
LOCATION:48-50 Oaklands Road Hazelbrook\, Hazelbrook\, NSW\, 2779\, Australia
CATEGORIES:Programs
ATTACH;FMTTYPE=image/jpeg:https://www.thriveservices.org.au/wp-content/uploads/2024/05/Untitled-design.jpg
END:VEVENT
BEGIN:VEVENT
DTSTART;TZID=Australia/Sydney:20240508T130000
DTEND;TZID=Australia/Sydney:20240508T150000
DTSTAMP:20260421T102017
CREATED:20240212T221155Z
LAST-MODIFIED:20240430T000509Z
UID:6381-1715173200-1715180400@www.thriveservices.org.au
SUMMARY:Blackheath Cockatoo Playgroup [Term 2 2024]
DESCRIPTION:A supported playgroup for 0-5yr olds\, great for creative and social development in a friendly environment. Kids can play whilst parents/carers relax with a cup of tea. \nRunning every Wednesday of the term. \n 
URL:https://www.thriveservices.org.au/event/blackheath-playgroup-term-2-2024/
LOCATION:Blackheath\, 123-125 Wentworth St\, Blackheath\, NSW\, 2785
CATEGORIES:Programs
ATTACH;FMTTYPE=image/png:https://www.thriveservices.org.au/wp-content/uploads/2024/01/Untitled-design-1.png
END:VEVENT
BEGIN:VEVENT
DTSTART;TZID=Australia/Sydney:20240508T100000
DTEND;TZID=Australia/Sydney:20240508T120000
DTSTAMP:20260421T102017
CREATED:20240506T005512Z
LAST-MODIFIED:20240506T005512Z
UID:6570-1715162400-1715169600@www.thriveservices.org.au
SUMMARY:Young Parents Circle
DESCRIPTION:A group for all parents who are pregnant or have children (0-5). The group meets each Wednesday during the school term\, at the Queen Elizabeth Park\, Lithgow. Simple snacks are provided for families to enjoy together. \n 
URL:https://www.thriveservices.org.au/event/young-parents-circle-11/
LOCATION:Queen Elizabeth Park\, 227 Main Street\, Lithgow\, NSW\, 2790\, Australia
CATEGORIES:Programs
ATTACH;FMTTYPE=image/jpeg:https://www.thriveservices.org.au/wp-content/uploads/2024/05/Untitled-design-1.jpg
END:VEVENT
BEGIN:VEVENT
DTSTART;TZID=Australia/Sydney:20240501T130000
DTEND;TZID=Australia/Sydney:20240501T150000
DTSTAMP:20260421T102017
CREATED:20240429T235643Z
LAST-MODIFIED:20240430T000001Z
UID:6523-1714568400-1714575600@www.thriveservices.org.au
SUMMARY:Blackheath Cockatoo Playgroup [Term 2 2024]
DESCRIPTION:A supported playgroup for 0-5yr olds\, great for creative and social development in a friendly environment. Kids can play whilst parents/carers relax with a cup of tea. \nRunning every Wednesday of the term. \n 
URL:https://www.thriveservices.org.au/event/blackheath-cockatoo-playgroup-term-2-2024/
LOCATION:Blackheath\, 123-125 Wentworth St\, Blackheath\, NSW\, 2785
CATEGORIES:Programs
ATTACH;FMTTYPE=image/png:https://www.thriveservices.org.au/wp-content/uploads/2024/01/Untitled-design-1.png
END:VEVENT
BEGIN:VEVENT
DTSTART;TZID=Australia/Sydney:20240424T130000
DTEND;TZID=Australia/Sydney:20240424T150000
DTSTAMP:20260421T102017
CREATED:20240419T035629Z
LAST-MODIFIED:20240419T052901Z
UID:6508-1713963600-1713970800@www.thriveservices.org.au
SUMMARY:Blackheath Cockatoo Play Space
DESCRIPTION:Come along to this special event where you can have your say on the future of our supported Play Group! \nJoin BANC and Thrive and enjoy a BBQ\, meet other families and let us know what you’d like to see happen at play group from next term onwards. \nWe will have fun\, sensory activities (both indoor and outdoor) for children and families to engage with. Bring the whole family! Call 4787 7770 or 47821555 for more info. \n 
URL:https://www.thriveservices.org.au/event/blackheath-cockatoo-play-space/
LOCATION:125 Wentworth St\, Blackheath\, 125 Wentworth Street\, Blackheath\, NSW\, 2785\, Australia
CATEGORIES:Programs
ATTACH;FMTTYPE=image/png:https://www.thriveservices.org.au/wp-content/uploads/2024/04/Untitled-design-1.png
END:VEVENT
BEGIN:VEVENT
DTSTART;TZID=Australia/Sydney:20240422T110000
DTEND;TZID=Australia/Sydney:20240422T120000
DTSTAMP:20260421T102017
CREATED:20240109T040619Z
LAST-MODIFIED:20240109T040619Z
UID:6346-1713783600-1713787200@www.thriveservices.org.au
SUMMARY:The Parenting Pod
DESCRIPTION:A parenting group to provide parents with a space for a relaxing chat and coffee\, service information\, discussion topics and guest speakers. \nDate: Monday the 22nd of April 2024 \, at 11am \nWhere: Lithgow Library- 157 Main St Lithgow \nTopic: Health and Development checks for children \nGuest speaker: Lithgow Health and Community Centre \nFor more information\, please contact our Lithgow Office \nPhone: 02 6351 4055 \nEmail: info@thriveservices.org.au
URL:https://www.thriveservices.org.au/event/the-parenting-pod-4/
LOCATION:Lithgow Library\, 157 Main Street\, Lithgow\, NSW\, 2790\, Australia
CATEGORIES:Community,Family
ATTACH;FMTTYPE=image/png:https://www.thriveservices.org.au/wp-content/uploads/2024/01/Untitled-design-1-1.png
END:VEVENT
BEGIN:VEVENT
DTSTART;TZID=Australia/Sydney:20240412T100000
DTEND;TZID=Australia/Sydney:20240412T120000
DTSTAMP:20260421T102017
CREATED:20240205T042422Z
LAST-MODIFIED:20240205T042718Z
UID:6410-1712916000-1712923200@www.thriveservices.org.au
SUMMARY:Parenting Young
DESCRIPTION:A group for young parents\, their children and parents to be. \nRunning every Friday during the school term! \nFor more information visit www.mocs.org.au or call Tanya on 0432 143 452
URL:https://www.thriveservices.org.au/event/parenting-young-8/
LOCATION:48-50 Oaklands Road Hazelbrook\, Hazelbrook\, NSW\, 2779\, Australia
CATEGORIES:Programs
ATTACH;FMTTYPE=image/png:https://www.thriveservices.org.au/wp-content/uploads/2024/02/Untitled-design-2.png
END:VEVENT
BEGIN:VEVENT
DTSTART;TZID=Australia/Sydney:20240410T100000
DTEND;TZID=Australia/Sydney:20240410T120000
DTSTAMP:20260421T102017
CREATED:20240205T050057Z
LAST-MODIFIED:20240205T050057Z
UID:6439-1712743200-1712750400@www.thriveservices.org.au
SUMMARY:Young Parents Circle
DESCRIPTION:A group for all parents who are pregnant or have children (0-5). The group meets each wednesday during the school term\, at the Queen Elizabeth Park\, Lithgow. Simple snacks are provided for families to enjoy together. \n 
URL:https://www.thriveservices.org.au/event/young-parents-circle-10/
LOCATION:Queen Elizabeth Park\, 227 Main Street\, Lithgow\, NSW\, 2790\, Australia
CATEGORIES:Programs
ATTACH;FMTTYPE=image/png:https://www.thriveservices.org.au/wp-content/uploads/2024/02/Untitled-design-3.png
END:VEVENT
BEGIN:VEVENT
DTSTART;TZID=Australia/Sydney:20240410T093000
DTEND;TZID=Australia/Sydney:20240410T110000
DTSTAMP:20260421T102017
CREATED:20240205T031443Z
LAST-MODIFIED:20240205T231945Z
UID:6376-1712741400-1712746800@www.thriveservices.org.au
SUMMARY:Blackheath Playgroup [Term 1 2024]
DESCRIPTION:A supported playgroup for 0-5yr olds\, great for creative and social development in a friendly environment. Kids can play whilst parents/carers relax with a cup of tea. \nRunning every Wednesday of the term.
URL:https://www.thriveservices.org.au/event/blackheath-playgroup-term-1-2024-9/
LOCATION:Blackheath Public School\, Leichhardt St\,\, Blackheath\, 2785\, Australia
CATEGORIES:Programs
ATTACH;FMTTYPE=image/jpeg:https://www.thriveservices.org.au/wp-content/uploads/2022/03/event_Blackheath-Playgroup.jpg
END:VEVENT
BEGIN:VEVENT
DTSTART;TZID=Australia/Sydney:20240405T100000
DTEND;TZID=Australia/Sydney:20240405T120000
DTSTAMP:20260421T102017
CREATED:20240205T042550Z
LAST-MODIFIED:20240205T042550Z
UID:6412-1712311200-1712318400@www.thriveservices.org.au
SUMMARY:Parenting Young
DESCRIPTION:A group for young parents\, their children and parents to be. \nRunning every Friday during the school term! \nFor more information visit www.mocs.org.au or call Tanya on 0432 143 452
URL:https://www.thriveservices.org.au/event/parenting-young-9/
LOCATION:48-50 Oaklands Road Hazelbrook\, Hazelbrook\, NSW\, 2779\, Australia
CATEGORIES:Programs
ATTACH;FMTTYPE=image/png:https://www.thriveservices.org.au/wp-content/uploads/2024/02/Untitled-design-2.png
END:VEVENT
BEGIN:VEVENT
DTSTART;TZID=Australia/Sydney:20240403T100000
DTEND;TZID=Australia/Sydney:20240403T120000
DTSTAMP:20260421T102017
CREATED:20240205T050013Z
LAST-MODIFIED:20240205T050013Z
UID:6437-1712138400-1712145600@www.thriveservices.org.au
SUMMARY:Young Parents Circle
DESCRIPTION:A group for all parents who are pregnant or have children (0-5). The group meets each wednesday during the school term\, at the Queen Elizabeth Park\, Lithgow. Simple snacks are provided for families to enjoy together. \n 
URL:https://www.thriveservices.org.au/event/young-parents-circle-9/
LOCATION:Queen Elizabeth Park\, 227 Main Street\, Lithgow\, NSW\, 2790\, Australia
CATEGORIES:Programs
ATTACH;FMTTYPE=image/png:https://www.thriveservices.org.au/wp-content/uploads/2024/02/Untitled-design-3.png
END:VEVENT
BEGIN:VEVENT
DTSTART;TZID=Australia/Sydney:20240403T093000
DTEND;TZID=Australia/Sydney:20240403T110000
DTSTAMP:20260421T102017
CREATED:20240205T031356Z
LAST-MODIFIED:20240205T231910Z
UID:6374-1712136600-1712142000@www.thriveservices.org.au
SUMMARY:Blackheath Playgroup [Term 1 2024]
DESCRIPTION:A supported playgroup for 0-5yr olds\, great for creative and social development in a friendly environment. Kids can play whilst parents/carers relax with a cup of tea. \nRunning every Wednesday of the term.
URL:https://www.thriveservices.org.au/event/blackheath-playgroup-term-1-2024-8/
LOCATION:Blackheath Public School\, Leichhardt St\,\, Blackheath\, 2785\, Australia
CATEGORIES:Programs
ATTACH;FMTTYPE=image/jpeg:https://www.thriveservices.org.au/wp-content/uploads/2022/03/event_Blackheath-Playgroup.jpg
END:VEVENT
BEGIN:VEVENT
DTSTART;TZID=Australia/Sydney:20240327T100000
DTEND;TZID=Australia/Sydney:20240327T120000
DTSTAMP:20260421T102017
CREATED:20240205T045919Z
LAST-MODIFIED:20240205T045919Z
UID:6435-1711533600-1711540800@www.thriveservices.org.au
SUMMARY:Young Parents Circle
DESCRIPTION:A group for all parents who are pregnant or have children (0-5). The group meets each wednesday during the school term\, at the Queen Elizabeth Park\, Lithgow. Simple snacks are provided for families to enjoy together. \n 
URL:https://www.thriveservices.org.au/event/young-parents-circle-8/
LOCATION:Queen Elizabeth Park\, 227 Main Street\, Lithgow\, NSW\, 2790\, Australia
CATEGORIES:Programs
ATTACH;FMTTYPE=image/png:https://www.thriveservices.org.au/wp-content/uploads/2024/02/Untitled-design-3.png
END:VEVENT
BEGIN:VEVENT
DTSTART;TZID=Australia/Sydney:20240327T093000
DTEND;TZID=Australia/Sydney:20240327T110000
DTSTAMP:20260421T102017
CREATED:20240205T031322Z
LAST-MODIFIED:20240205T230254Z
UID:6372-1711531800-1711537200@www.thriveservices.org.au
SUMMARY:Blackheath Playgroup [Term 1 2024]
DESCRIPTION:A supported playgroup for 0-5yr olds\, great for creative and social development in a friendly environment. Kids can play whilst parents/carers relax with a cup of tea. \nRunning every Wednesday of the term.
URL:https://www.thriveservices.org.au/event/blackheath-playgroup-term-1-2024-7/
LOCATION:Blackheath Public School\, Leichhardt St\,\, Blackheath\, 2785\, Australia
CATEGORIES:Programs
ATTACH;FMTTYPE=image/jpeg:https://www.thriveservices.org.au/wp-content/uploads/2022/03/event_Blackheath-Playgroup.jpg
END:VEVENT
BEGIN:VEVENT
DTSTART;TZID=Australia/Sydney:20240322T100000
DTEND;TZID=Australia/Sydney:20240322T120000
DTSTAMP:20260421T102017
CREATED:20240205T042326Z
LAST-MODIFIED:20240205T042326Z
UID:6408-1711101600-1711108800@www.thriveservices.org.au
SUMMARY:Parenting Young
DESCRIPTION:A group for young parents\, their children and parents to be. \nRunning every Friday during the school term! \nFor more information visit www.mocs.org.au or call Tanya on 0432 143 452
URL:https://www.thriveservices.org.au/event/parenting-young-7/
LOCATION:48-50 Oaklands Road Hazelbrook\, Hazelbrook\, NSW\, 2779\, Australia
CATEGORIES:Programs
ATTACH;FMTTYPE=image/png:https://www.thriveservices.org.au/wp-content/uploads/2024/02/Untitled-design-2.png
END:VEVENT
BEGIN:VEVENT
DTSTART;TZID=Australia/Sydney:20240320T100000
DTEND;TZID=Australia/Sydney:20240320T120000
DTSTAMP:20260421T102017
CREATED:20240205T045840Z
LAST-MODIFIED:20240205T045840Z
UID:6433-1710928800-1710936000@www.thriveservices.org.au
SUMMARY:Young Parents Circle
DESCRIPTION:A group for all parents who are pregnant or have children (0-5). The group meets each wednesday during the school term\, at the Queen Elizabeth Park\, Lithgow. Simple snacks are provided for families to enjoy together. \n 
URL:https://www.thriveservices.org.au/event/young-parents-circle-7/
LOCATION:Queen Elizabeth Park\, 227 Main Street\, Lithgow\, NSW\, 2790\, Australia
CATEGORIES:Programs
ATTACH;FMTTYPE=image/png:https://www.thriveservices.org.au/wp-content/uploads/2024/02/Untitled-design-3.png
END:VEVENT
BEGIN:VEVENT
DTSTART;TZID=Australia/Sydney:20240320T093000
DTEND;TZID=Australia/Sydney:20240320T110000
DTSTAMP:20260421T102017
CREATED:20240205T031245Z
LAST-MODIFIED:20240205T230107Z
UID:6370-1710927000-1710932400@www.thriveservices.org.au
SUMMARY:Blackheath Playgroup [Term 1 2024]
DESCRIPTION:A supported playgroup for 0-5yr olds\, great for creative and social development in a friendly environment. Kids can play whilst parents/carers relax with a cup of tea. \nRunning every Wednesday of the term.
URL:https://www.thriveservices.org.au/event/blackheath-playgroup-term-1-2024-6/
LOCATION:Blackheath Public School\, Leichhardt St\,\, Blackheath\, 2785\, Australia
CATEGORIES:Programs
ATTACH;FMTTYPE=image/jpeg:https://www.thriveservices.org.au/wp-content/uploads/2022/03/event_Blackheath-Playgroup.jpg
END:VEVENT
BEGIN:VEVENT
DTSTART;TZID=Australia/Sydney:20240318T110000
DTEND;TZID=Australia/Sydney:20240318T120000
DTSTAMP:20260421T102017
CREATED:20240109T035002Z
LAST-MODIFIED:20240109T035002Z
UID:6343-1710759600-1710763200@www.thriveservices.org.au
SUMMARY:The Parenting Pod
DESCRIPTION:A parenting group to provide parents with a space for a relaxing chat and coffee\, service information\, discussion topics and guest speakers. \nDate: Monday the 18th of March 2024 \, at 11am \nWhere: Lithgow Library- 157 Main St Lithgow \nTopic: Dental check ups for children \nGuest speaker: Katrina- Lithgow Community Dental Clinic \nFor more information\, please contact our Lithgow Office \nPhone: 02 6351 4055 \nEmail: info@thriveservices.org.au
URL:https://www.thriveservices.org.au/event/the-parenting-pod-3/
LOCATION:Lithgow Library\, 157 Main Street\, Lithgow\, NSW\, 2790\, Australia
CATEGORIES:Community,Family
ATTACH;FMTTYPE=image/png:https://www.thriveservices.org.au/wp-content/uploads/2024/01/Untitled-design-1-1.png
END:VEVENT
BEGIN:VEVENT
DTSTART;TZID=Australia/Sydney:20240315T100000
DTEND;TZID=Australia/Sydney:20240315T120000
DTSTAMP:20260421T102017
CREATED:20240205T042106Z
LAST-MODIFIED:20240205T042106Z
UID:6406-1710496800-1710504000@www.thriveservices.org.au
SUMMARY:Parenting Young
DESCRIPTION:A group for young parents\, their children and parents to be. \nRunning every Friday during the school term! \nFor more information visit www.mocs.org.au or call Tanya on 0432 143 452
URL:https://www.thriveservices.org.au/event/parenting-young-6/
LOCATION:48-50 Oaklands Road Hazelbrook\, Hazelbrook\, NSW\, 2779\, Australia
CATEGORIES:Programs
ATTACH;FMTTYPE=image/png:https://www.thriveservices.org.au/wp-content/uploads/2024/02/Untitled-design-2.png
END:VEVENT
BEGIN:VEVENT
DTSTART;TZID=Australia/Sydney:20240313T100000
DTEND;TZID=Australia/Sydney:20240313T120000
DTSTAMP:20260421T102017
CREATED:20240205T045748Z
LAST-MODIFIED:20240205T045748Z
UID:6431-1710324000-1710331200@www.thriveservices.org.au
SUMMARY:Young Parents Circle
DESCRIPTION:A group for all parents who are pregnant or have children (0-5). The group meets each wednesday during the school term\, at the Queen Elizabeth Park\, Lithgow. Simple snacks are provided for families to enjoy together. \n 
URL:https://www.thriveservices.org.au/event/young-parents-circle-6/
LOCATION:Queen Elizabeth Park\, 227 Main Street\, Lithgow\, NSW\, 2790\, Australia
CATEGORIES:Programs
ATTACH;FMTTYPE=image/png:https://www.thriveservices.org.au/wp-content/uploads/2024/02/Untitled-design-3.png
END:VEVENT
BEGIN:VEVENT
DTSTART;TZID=Australia/Sydney:20240313T093000
DTEND;TZID=Australia/Sydney:20240313T110000
DTSTAMP:20260421T102017
CREATED:20240205T031210Z
LAST-MODIFIED:20240205T230017Z
UID:6368-1710322200-1710327600@www.thriveservices.org.au
SUMMARY:Blackheath Playgroup [Term 1 2024]
DESCRIPTION:A supported playgroup for 0-5yr olds\, great for creative and social development in a friendly environment. Kids can play whilst parents/carers relax with a cup of tea. \nRunning every Wednesday of the term.
URL:https://www.thriveservices.org.au/event/blackheath-playgroup-term-1-2024-5/
LOCATION:Blackheath Public School\, Leichhardt St\,\, Blackheath\, 2785\, Australia
CATEGORIES:Programs
ATTACH;FMTTYPE=image/jpeg:https://www.thriveservices.org.au/wp-content/uploads/2022/03/event_Blackheath-Playgroup.jpg
END:VEVENT
BEGIN:VEVENT
DTSTART;TZID=Australia/Sydney:20240308T100000
DTEND;TZID=Australia/Sydney:20240308T120000
DTSTAMP:20260421T102017
CREATED:20240205T042002Z
LAST-MODIFIED:20240205T042002Z
UID:6404-1709892000-1709899200@www.thriveservices.org.au
SUMMARY:Parenting Young
DESCRIPTION:A group for young parents\, their children and parents to be. \nRunning every Friday during the school term! \nFor more information visit www.mocs.org.au or call Tanya on 0432 143 452
URL:https://www.thriveservices.org.au/event/parenting-young-5/
LOCATION:48-50 Oaklands Road Hazelbrook\, Hazelbrook\, NSW\, 2779\, Australia
CATEGORIES:Programs
ATTACH;FMTTYPE=image/png:https://www.thriveservices.org.au/wp-content/uploads/2024/02/Untitled-design-2.png
END:VEVENT
END:VCALENDAR