BEGIN:VCALENDAR
VERSION:2.0
PRODID:-//Thrive Services - ECPv5.16.4//NONSGML v1.0//EN
CALSCALE:GREGORIAN
METHOD:PUBLISH
X-ORIGINAL-URL:https://www.thriveservices.org.au
X-WR-CALDESC:Events for Thrive Services
REFRESH-INTERVAL;VALUE=DURATION:PT1H
X-Robots-Tag:noindex
X-PUBLISHED-TTL:PT1H
BEGIN:VTIMEZONE
TZID:Australia/Sydney
BEGIN:STANDARD
TZOFFSETFROM:+1100
TZOFFSETTO:+1000
TZNAME:AEST
DTSTART:20250405T160000
END:STANDARD
BEGIN:DAYLIGHT
TZOFFSETFROM:+1000
TZOFFSETTO:+1100
TZNAME:AEDT
DTSTART:20251004T160000
END:DAYLIGHT
END:VTIMEZONE
BEGIN:VEVENT
DTSTART;TZID=Australia/Sydney:20250120T110000
DTEND;TZID=Australia/Sydney:20250120T120000
DTSTAMP:20260421T192728
CREATED:20241218T004141Z
LAST-MODIFIED:20250112T220718Z
UID:6938-1737370800-1737374400@www.thriveservices.org.au
SUMMARY:The Parent Pod Term 1 2025
DESCRIPTION:A parenting group to provide parents with a space for a relaxing chat and coffee\, service information\, discussion topics and guest speakers. \nDate: Monday 20th January 2025 \nWhen: 11am – 12pm \nWhere: Lithgow Library- 157 Main St Lithgow \nTopic: HIPPY Program \nGuest speaker: Natasha\, Centacare Central West & Orana \nFor more information\, please contact our Lithgow Office \nPhone: 02 6351 4055 \nEmail: info@thriveservices.org.au
URL:https://www.thriveservices.org.au/event/the-parent-pod-term-1-2025/
LOCATION:Lithgow Library\, 157 Main Street\, Lithgow\, NSW\, 2790\, Australia
CATEGORIES:Community,Family
ATTACH;FMTTYPE=image/png:https://www.thriveservices.org.au/wp-content/uploads/2024/01/Untitled-design-1-1.png
END:VEVENT
END:VCALENDAR