BEGIN:VCALENDAR
VERSION:2.0
PRODID:-//Thrive Services - ECPv5.16.4//NONSGML v1.0//EN
CALSCALE:GREGORIAN
METHOD:PUBLISH
X-WR-CALNAME:Thrive Services
X-ORIGINAL-URL:https://www.thriveservices.org.au
X-WR-CALDESC:Events for Thrive Services
REFRESH-INTERVAL;VALUE=DURATION:PT1H
X-Robots-Tag:noindex
X-PUBLISHED-TTL:PT1H
BEGIN:VTIMEZONE
TZID:Australia/Sydney
BEGIN:STANDARD
TZOFFSETFROM:+1100
TZOFFSETTO:+1000
TZNAME:AEST
DTSTART:20250405T160000
END:STANDARD
BEGIN:DAYLIGHT
TZOFFSETFROM:+1000
TZOFFSETTO:+1100
TZNAME:AEDT
DTSTART:20251004T160000
END:DAYLIGHT
END:VTIMEZONE
BEGIN:VEVENT
DTSTART;TZID=Australia/Sydney:20250212T110000
DTEND;TZID=Australia/Sydney:20250409T130000
DTSTAMP:20260421T152344
CREATED:20241212T020904Z
LAST-MODIFIED:20250206T024850Z
UID:6926-1739358000-1744203600@www.thriveservices.org.au
SUMMARY:Black Box - 5 Week Parenting Program 2025 Term 1 ONLINE - REGISTRATIONS NOW CLOSED
DESCRIPTION:Thrive Services are pleased to facilitate The Black Box Parenting Program is an innovative program developed specifically for the challenges after trauma. The program is a great\, non – blaming way to get parents thinking about how they interact with their children and how to manage some of the challenges of parenting after experiencing family violence. \nProgram Outline \n\nDeveloped specifically for caregivers who may be facing challenges in addition to their parenting support needs\nThe focus of the group is about understanding how past experiences might affect how you get along as a family today\nParticipants will learn about their relational patterns and develop skills in emotion coaching and limit setting.\n\nThis program is available for Blue Mountains and Lithgow residents only. \nWhere: Online via Microsoft Teams \nWhen:  Wednesdays Fortnightly 12th February – 9th April 2025\, 11.00am – 12.00pm \nAll 5 sessions must be attended to complete the course. \n  \n  \nCertificate of attainment will only be awarded to participants who complete all 5 sessions. Unfortunately due to staffing capacity\, catch up sessions are not available.
URL:https://www.thriveservices.org.au/event/black-box-5-week-parenting-program-2025-term-1/
LOCATION:Online
CATEGORIES:Programs
ATTACH;FMTTYPE=image/png:https://www.thriveservices.org.au/wp-content/uploads/2024/09/Peregrine-Centre.png
END:VEVENT
END:VCALENDAR