BEGIN:VCALENDAR
VERSION:2.0
PRODID:-//Thrive Services - ECPv5.16.4//NONSGML v1.0//EN
CALSCALE:GREGORIAN
METHOD:PUBLISH
X-ORIGINAL-URL:https://www.thriveservices.org.au
X-WR-CALDESC:Events for Thrive Services
REFRESH-INTERVAL;VALUE=DURATION:PT1H
X-Robots-Tag:noindex
X-PUBLISHED-TTL:PT1H
BEGIN:VTIMEZONE
TZID:Australia/Sydney
BEGIN:STANDARD
TZOFFSETFROM:+1100
TZOFFSETTO:+1000
TZNAME:AEST
DTSTART:20250405T160000
END:STANDARD
BEGIN:DAYLIGHT
TZOFFSETFROM:+1000
TZOFFSETTO:+1100
TZNAME:AEDT
DTSTART:20251004T160000
END:DAYLIGHT
END:VTIMEZONE
BEGIN:VEVENT
DTSTART;TZID=Australia/Sydney:20250508T130000
DTEND;TZID=Australia/Sydney:20250612T140000
DTSTAMP:20260420T234059
CREATED:20250217T013654Z
LAST-MODIFIED:20250507T045106Z
UID:6984-1746709200-1749736800@www.thriveservices.org.au
SUMMARY:Anxiety Coach - 6 Week Parenting Program 2025 Term 2 ONLINE - REGISTRATIONS CLOSED
DESCRIPTION:Developed by The Parent Shop\, Anxiety Coach is a free of charge parenting program developed to aid parents in understanding how to manage their children’s anxious behaviours and support them to build resilience. \nThis program is available for Blue Mountains and Lithgow residents only. \nWhere: Online via Microsoft Teams \nWhen:  Thursdays weekly 8th May – 12th June 2025\, 1.00pm – 2.00pm \nAll 6 sessions must be attended to complete the course. \nRegistrations close 24th April 2025\, unless all spots filled beforehand. \n  \n  \nCertificate of attainment will only be awarded to participants who complete all 6 sessions. Unfortunately due to staffing capacity\, catch up sessions are not available.
URL:https://www.thriveservices.org.au/event/anxiety-coach-6-week-parenting-program-2025-term-2-online-registrations-open/
LOCATION:Online
CATEGORIES:Programs
ATTACH;FMTTYPE=image/png:https://www.thriveservices.org.au/wp-content/uploads/2025/02/Anxiety-Coach-Logo.png
END:VEVENT
BEGIN:VEVENT
DTSTART;TZID=Australia/Sydney:20250623T110000
DTEND;TZID=Australia/Sydney:20250623T120000
DTSTAMP:20260420T234059
CREATED:20250619T044331Z
LAST-MODIFIED:20250619T044503Z
UID:7135-1750676400-1750680000@www.thriveservices.org.au
SUMMARY:The Parent Pod Term 2 June 23 2025
DESCRIPTION:A parenting group to provide parents with a space for a relaxing chat and coffee\, service information\, discussion topics and guest speakers. \nDate: Monday 23rd June 2025 \nWhen: 11am – 12pm \nWhere: Lithgow Library- 157 Main St Lithgow \nTopic: Parent Pathways Service [Supporting parents/carers in planning their future] \nGuest speaker: Lily Parent Pathways Mentor Verto \nFor more information\, please contact our Lithgow Office \nPhone: 02 6351 4055 \nEmail: info@thriveservices.org.au
URL:https://www.thriveservices.org.au/event/the-parent-pod-term-2-june-23-2025/
LOCATION:Lithgow Library\, 157 Main Street\, Lithgow\, NSW\, 2790\, Australia
CATEGORIES:Community,Family
ATTACH;FMTTYPE=image/png:https://www.thriveservices.org.au/wp-content/uploads/2024/01/Untitled-design-1-1.png
END:VEVENT
BEGIN:VEVENT
DTSTART;TZID=Australia/Sydney:20250626T103000
DTEND;TZID=Australia/Sydney:20250626T113000
DTSTAMP:20260420T234059
CREATED:20250605T054155Z
LAST-MODIFIED:20250605T055328Z
UID:7114-1750933800-1750937400@www.thriveservices.org.au
SUMMARY:Cyber Security Learning Hub Free Workshop
DESCRIPTION:FREE Cyber Security Workshop!\n\n\nAre you aware of daily cyber threats and how to protect your devices?\n\n\nJoin Winmalee Neighbourhood Centre Inc. at Thrive Services for a FREE Cyber Security Learning Hub Workshop.\n\n\n Thursday 26th June\n From 10:30am\n 2 Station Street\, Katoomba NSW 2780\n\n\nBook your spot now by calling 4754 4050\nDon’t forget to bring your computer\, phone or device!\n\n 
URL:https://www.thriveservices.org.au/event/cyber-security-learning-hub-free-workshop/
LOCATION:Thrive Services\, 2 Station Street\, Katoomba\, New South Wales\, 2780\, Australia
CATEGORIES:Programs
END:VEVENT
END:VCALENDAR