BEGIN:VCALENDAR
VERSION:2.0
PRODID:-//Thrive Services - ECPv5.16.4//NONSGML v1.0//EN
CALSCALE:GREGORIAN
METHOD:PUBLISH
X-WR-CALNAME:Thrive Services
X-ORIGINAL-URL:https://www.thriveservices.org.au
X-WR-CALDESC:Events for Thrive Services
REFRESH-INTERVAL;VALUE=DURATION:PT1H
X-Robots-Tag:noindex
X-PUBLISHED-TTL:PT1H
BEGIN:VTIMEZONE
TZID:Australia/Sydney
BEGIN:STANDARD
TZOFFSETFROM:+1100
TZOFFSETTO:+1000
TZNAME:AEST
DTSTART:20250405T160000
END:STANDARD
BEGIN:DAYLIGHT
TZOFFSETFROM:+1000
TZOFFSETTO:+1100
TZNAME:AEDT
DTSTART:20251004T160000
END:DAYLIGHT
END:VTIMEZONE
BEGIN:VEVENT
DTSTART;TZID=Australia/Sydney:20251003T110000
DTEND;TZID=Australia/Sydney:20251003T123000
DTSTAMP:20260421T012507
CREATED:20250915T041430Z
LAST-MODIFIED:20250915T050238Z
UID:7288-1759489200-1759494600@www.thriveservices.org.au
SUMMARY:Paint a Money Box - Katoomba
DESCRIPTION:Get creative and learn the value of saving! \nIn this fun-filled activity\, kids will decorate their very own ceramic piggy money box using colorful paints\, brushes\, and imagination each child can make it truly their own. Perfect for encouraging creativity and smart saving habits — a hands-on craft with a money-wise twist! \nSuitable for primary school age 5 – 12yrs. \n  \n\n                    Children Activity Registration Form        \n            \n                \n                    Subscribe                \n            \n            \n                \n            \n        \n        First NameFamily NameGenderDate of birthEmailPhoneResidential AddressPost CodeDo you identify as: Aboriginal Torres Strait Islander CALD N/ACountry of birthMain language spoken at homeHousehold DetailsNumber of adults living in your household:Family Composition Single parent with dependent/s Couple with dependent/sChildren Details\nPlease include all children's details\, add more children by clicking the '+' symbol         \n            Children            \n                \n                    \n                    \n                                                    First Name\n                                                    Family Name\n                                                    Date of birth
URL:https://www.thriveservices.org.au/event/paint-a-money-box-katoomba/
LOCATION:Thrive Katoomba Office\, 2 Station Street\, Katoomba\, NSW\, 2730\, Australia
ATTACH;FMTTYPE=image/jpeg:https://www.thriveservices.org.au/wp-content/uploads/2025/09/Template-for-website-Event-Featured-Image-1.jpg
END:VEVENT
BEGIN:VEVENT
DTSTART;TZID=Australia/Sydney:20251010T110000
DTEND;TZID=Australia/Sydney:20251010T130000
DTSTAMP:20260421T012507
CREATED:20250908T045057Z
LAST-MODIFIED:20250910T101624Z
UID:7272-1760094000-1760101200@www.thriveservices.org.au
SUMMARY:Teddy Bears' Picnic
DESCRIPTION:If you go down to the woods today\, you’re in for a big suprise! \nJoin us for a magical Teddy Bears’ Picnic at Wentworth Falls Lake! Pack your snacks\, grab your teddy and get ready for a beary special day \nWhen: 11am Friday 10th October 2025Where: Wentworth Falls Lake️ Cost: FREE! (Just bring your favourite teddy) \nParents must stay with their little adventurers \nRegistrations essential\, please compete registration form below. \nWe can’t wait to see you and your teddy there! \n  \n\n                    Children Activity Registration Form        \n            \n                \n                    Subscribe                \n            \n            \n                \n            \n        \n        First NameFamily NameGenderDate of birthEmailPhoneResidential AddressPost CodeDo you identify as: Aboriginal Torres Strait Islander CALD N/ACountry of birthMain language spoken at homeHousehold DetailsNumber of adults living in your household:Family Composition Single parent with dependent/s Couple with dependent/sChildren Details\nPlease include all children's details\, add more children by clicking the '+' symbol         \n            Children            \n                \n                    \n                    \n                                                    First Name\n                                                    Family Name\n                                                    Date of birth
URL:https://www.thriveservices.org.au/event/teddy-bears-picnic/
LOCATION:wentworth falls lake\, Sinclair Crescent\, Wentworth Falls\, NSW\, 2782
ATTACH;FMTTYPE=image/jpeg:https://www.thriveservices.org.au/wp-content/uploads/2025/09/Copy-of-BUGK-FEATURE-IMAGE-EVENT-PAGE.jpg
END:VEVENT
BEGIN:VEVENT
DTSTART;TZID=Australia/Sydney:20251029T130000
DTEND;TZID=Australia/Sydney:20251112T143000
DTSTAMP:20260421T012507
CREATED:20250828T025514Z
LAST-MODIFIED:20251029T002821Z
UID:7247-1761742800-1762957800@www.thriveservices.org.au
SUMMARY:Bringing Up Great Kids - 3 Week Parenting Program 2025 Term 4 ONLINE - REGISTRATIONS CLOSED
DESCRIPTION:Developed by the Australian Childhood Foundation\, \nBringing Up Great Kids (BUGK) is a reflective parenting program that aims to support parents/carers to review and change their patterns of interacting with their children. Promoting reflective parenting skills and developing communication skills to encourage children’s positive self-identity. \nThis program is available for Blue Mountains and Lithgow residents only. \nWhere: Online via Microsoft Teams \nWhen:  Weekly 29th October/6th November/12th November 2025\, 1.00pm – 2.30pm \nAll 3 sessions must be attended to complete the course. \nRegistrations closed. \nCertificate of attainment will only be awarded to participants who complete all 3 sessions. \n 
URL:https://www.thriveservices.org.au/event/bringing-up-great-kids-3-week-parenting-program-2025-term-4-online-registrations-open/
LOCATION:Online
CATEGORIES:Programs
ATTACH;FMTTYPE=image/jpeg:https://www.thriveservices.org.au/wp-content/uploads/2025/08/BUGK-FEATURE-IMAGE-EVENT-PAGE-1.jpg
END:VEVENT
END:VCALENDAR