BEGIN:VCALENDAR
VERSION:2.0
PRODID:-//Thrive Services - ECPv5.16.4//NONSGML v1.0//EN
CALSCALE:GREGORIAN
METHOD:PUBLISH
X-ORIGINAL-URL:https://www.thriveservices.org.au
X-WR-CALDESC:Events for Thrive Services
REFRESH-INTERVAL;VALUE=DURATION:PT1H
X-Robots-Tag:noindex
X-PUBLISHED-TTL:PT1H
BEGIN:VTIMEZONE
TZID:Australia/Sydney
BEGIN:STANDARD
TZOFFSETFROM:+1100
TZOFFSETTO:+1000
TZNAME:AEST
DTSTART:20260404T160000
END:STANDARD
BEGIN:DAYLIGHT
TZOFFSETFROM:+1000
TZOFFSETTO:+1100
TZNAME:AEDT
DTSTART:20261003T160000
END:DAYLIGHT
END:VTIMEZONE
BEGIN:VEVENT
DTSTART;TZID=Australia/Sydney:20260113T113000
DTEND;TZID=Australia/Sydney:20260113T130000
DTSTAMP:20260420T210014
CREATED:20251217T033723Z
LAST-MODIFIED:20251218T012943Z
UID:7417-1768303800-1768309200@www.thriveservices.org.au
SUMMARY:Mini Makers Meet-Up: Craft\, Play & Connect
DESCRIPTION:Mini Makers Meet-Up is a fun\, hands-on creative session for children aged 5–12. With a variety of activities to choose from—paint and grow plant pot kit\, decorate a money box\, or colour your own pencil case—kids can jump into the projects that excite them most. \nLunch provided. \nWhere: 174 Landa Street\, Lithgow \nWhen:  Tuesday 13th January 2026\, 11.30am – 1.00pm \nRegistrations essential\, closing date 9th January 2026\, unless all spots filled beforehand. \n  \n\n                    Children Activity Registration Form        \n            \n                \n                    Notify                \n            \n            \n                \n            \n        \n        First NameFamily NameGenderDate of birthEmailPhoneResidential AddressPost CodeDo you identify as: Aboriginal Torres Strait Islander CALD N/ACountry of birthMain language spoken at homeHousehold DetailsNumber of adults living in your household:Family Composition Single parent with dependent/s Couple with dependent/sChildren Details\nPlease include all children's details\, add more children by clicking the '+' symbol         \n            Children            \n                \n                    \n                    \n                                                    First Name\n                                                    Family Name\n                                                    Date of birth
URL:https://www.thriveservices.org.au/event/mini-makers-meet-up-craft-play-connect/
LOCATION:Thrive Lithgow Office\, 174 Landa St\, Bowenfels\, NSW\, 2790\, Australia
CATEGORIES:Programs
ATTACH;FMTTYPE=image/jpeg:https://www.thriveservices.org.au/wp-content/uploads/2025/12/TEI-Program-and-Activities-FLYER-TEMPLATE-DRAFT-1920-x-1080-px-2.jpg
END:VEVENT
BEGIN:VEVENT
DTSTART;TZID=Australia/Sydney:20260115T113000
DTEND;TZID=Australia/Sydney:20260115T130000
DTSTAMP:20260420T210014
CREATED:20251218T001738Z
LAST-MODIFIED:20260108T011501Z
UID:7444-1768476600-1768482000@www.thriveservices.org.au
SUMMARY:Artful Expression: Express yourself - one masterpiece at a time REGISTRATIONS CLOSED
DESCRIPTION:Artful Expressions invites kids to dive into a world of creativity through multimedia art. \nFrom drawing and painting to collage and mixed-media designs\, children can explore a variety of materials and techniques that spark imagination and confidence. \nEach child receives their own sketchbook to fill and take home\, giving them a special place to continue creating long after the session ends. \nLunch provided. \nWhere: 2 Station Street\, Katoomba \nWhen:  Thursday 15th January 2026\, 11.30am – 1.00pm \nRegistrations Closed \n  \n  \n 
URL:https://www.thriveservices.org.au/event/artful-expression-express-yourself-one-masterpiece-at-a-time/
LOCATION:Thrive Services Katoomba\, 2 Station Street\, Katoomba\, NSW\, 2780
CATEGORIES:Programs
ATTACH;FMTTYPE=image/jpeg:https://www.thriveservices.org.au/wp-content/uploads/2025/12/TEI-Program-and-Activities-FLYER-TEMPLATE-DRAFT-1920-x-1080-px-4.jpg
END:VEVENT
BEGIN:VEVENT
DTSTART;TZID=Australia/Sydney:20260122T113000
DTEND;TZID=Australia/Sydney:20260122T130000
DTSTAMP:20260420T210014
CREATED:20251218T010300Z
LAST-MODIFIED:20260114T001430Z
UID:7450-1769081400-1769086800@www.thriveservices.org.au
SUMMARY:Roll with It: Sushi lunch box creations NOW FULL REGISTRAIONS CLOSED
DESCRIPTION:Sushi Lunch Box is a hands-on\, creative activity where kids can make their own sushi rolls! \nChildren will learn simple\, safe techniques to prepare and assemble sushi using fun ingredients\, exploring flavors and textures along the way. \nThis activity encourages creativity\, independence\, and confidence in the kitchen\, while giving kids a tasty treat to enjoy at the end. \nLunch provided. \nWhere: 2 Station St\, Katoomba \nWhen:  Thursday 22nd January 2026 \nRegistrations essential\, closing date 19th January 2026 \n  \n  \n 
URL:https://www.thriveservices.org.au/event/roll-with-it-sushi-lunch-box-creations/
LOCATION:Thrive Services Katoomba\, 2 Station Street\, Katoomba\, NSW\, 2780
CATEGORIES:Programs
ATTACH;FMTTYPE=image/jpeg:https://www.thriveservices.org.au/wp-content/uploads/2025/12/TEI-Program-and-Activities-FEATURED-IMAGE-ROLL-WITH-IT.jpg
END:VEVENT
BEGIN:VEVENT
DTSTART;TZID=Australia/Sydney:20260127T113000
DTEND;TZID=Australia/Sydney:20260127T130000
DTSTAMP:20260420T210014
CREATED:20251217T035713Z
LAST-MODIFIED:20260114T001048Z
UID:7424-1769513400-1769518800@www.thriveservices.org.au
SUMMARY:Little Pizza Makers: Lunch box Activity - NOW FULL REGISTRATIONS CLOSED
DESCRIPTION:Little Pizza Makers is a fun\, hands-on activity where kids can design and build their very own pizza lunch box! Children get to explore fresh ingredients\, choose their favourite toppings\, and create a personalised pizza they can be proud of. \nLunch provided. \nWhere: 174 Landa Street\, Lithgow \nWhen:  Tuesday 27th January 2026\, 11.30am – 1.00pm \nRegistrations essential\, closing date 23rd January 2026\, unless all spots filled beforehand. \n  \n 
URL:https://www.thriveservices.org.au/event/little-pizza-makers-lunch-box-activity/
LOCATION:Thrive Lithgow Office\, 174 Landa St\, Bowenfels\, NSW\, 2790\, Australia
CATEGORIES:Programs
ATTACH;FMTTYPE=image/jpeg:https://www.thriveservices.org.au/wp-content/uploads/2025/12/TEI-Program-and-Activities-FLYER-TEMPLATE-DRAFT-1920-x-1080-px-3.jpg
END:VEVENT
END:VCALENDAR