BEGIN:VCALENDAR
VERSION:2.0
PRODID:-//Thrive Services - ECPv5.16.4//NONSGML v1.0//EN
CALSCALE:GREGORIAN
METHOD:PUBLISH
X-ORIGINAL-URL:https://www.thriveservices.org.au
X-WR-CALDESC:Events for Thrive Services
REFRESH-INTERVAL;VALUE=DURATION:PT1H
X-Robots-Tag:noindex
X-PUBLISHED-TTL:PT1H
BEGIN:VTIMEZONE
TZID:Australia/Sydney
BEGIN:STANDARD
TZOFFSETFROM:+1100
TZOFFSETTO:+1000
TZNAME:AEST
DTSTART:20260404T160000
END:STANDARD
BEGIN:DAYLIGHT
TZOFFSETFROM:+1000
TZOFFSETTO:+1100
TZNAME:AEDT
DTSTART:20261003T160000
END:DAYLIGHT
END:VTIMEZONE
BEGIN:VEVENT
DTSTART;TZID=Australia/Sydney:20260211T110000
DTEND;TZID=Australia/Sydney:20260304T120000
DTSTAMP:20260420T210014
CREATED:20251203T013056Z
LAST-MODIFIED:20260202T000949Z
UID:7385-1770807600-1772625600@www.thriveservices.org.au
SUMMARY:Black Box - 4 Week Parenting Program 2026 Term 1 ONLINE - REGISTRATIONS CLOSED
DESCRIPTION:Thrive Services are pleased to facilitate The Black Box Parenting Program is an innovative program developed specifically for the challenges after trauma. The program is a great\, non – blaming way to get parents thinking about how they interact with their children and how to manage some of the challenges of parenting after experiencing family violence. \nProgram Outline \n\nDeveloped specifically for caregivers who may be facing challenges in addition to their parenting support needs\nThe focus of the group is about understanding how past experiences might affect how you get along as a family today\nParticipants will learn about their relational patterns and develop skills in emotion coaching and limit setting.\n\nThis program is available for Blue Mountains and Lithgow residents only. \nWhere: Online via Microsoft Teams \nWhen:  Every Wednesday 11th February – 4th March 2026\, 11am – 12pm \nAll 4 sessions must be attended to complete the course. \nRegistrations close: Wednesday 28th January 2026 \nCertificate of attainment will only be awarded to participants who complete all 4 sessions.
URL:https://www.thriveservices.org.au/event/black-box-4-week-parenting-program-2026-term-1-online-registrations-open/
LOCATION:Online
CATEGORIES:Programs
ATTACH;FMTTYPE=image/png:https://www.thriveservices.org.au/wp-content/uploads/2024/09/Peregrine-Centre.png
END:VEVENT
BEGIN:VEVENT
DTSTART;TZID=Australia/Sydney:20260211T153000
DTEND;TZID=Australia/Sydney:20260304T163000
DTSTAMP:20260420T210014
CREATED:20251203T024901Z
LAST-MODIFIED:20251203T025634Z
UID:7391-1770823800-1772641800@www.thriveservices.org.au
SUMMARY:Anxiety Coach - 4 Week Parenting Program 2026 Term 1 ONLINE - REGISTRATIONS OPEN
DESCRIPTION:Developed by The Parent Shop\, Anxiety Coach is a free of charge parenting program developed to aid parents in understanding how to manage their children’s anxious behaviours and support them to build resilience. \nThis program is available for Blue Mountains and Lithgow residents only. \nWhere: Online via Microsoft Teams \nWhen:  Wednesdays weekly 11th February – 4th March 2026\, 3.30pm – 4.30pm \nAll 4 sessions must be attended to complete the course. \nRegistrations close 28th January 2026\, unless all spots filled beforehand. \n\n                    Anxiety Coach Group Program Registration        \n            \n                \n                    Updates                \n            \n            \n                \n            \n        \n        First NameFamily NameDate of birthGenderEmailPhoneResidential AddressPost CodeDo you identify as Aboriginal Torres Strait Islander CALD OtherCountry of birthMain language spoken at homeFamily Composition Single parent with dependent/s Couple with dependent/sPrivacy & Consent\nThis form provides consent to collect\, use and store your personal information in Thrive Services secure client online data system. You can withdraw or change your consent at anytime by telling Thrive Services. You understand that this information remains confidential within the service and will only be accessed by Thrive Services staff members or where you have given consent for any information to be shared for referral purposes. You accept that Thrive Services is bound by the Privacy Act 1988 and will not disclose any information to a third party without your permission unless they are required to do so by law.  DEX Consent Yes NoConsent to participate in surveys & research  Yes No By ticking this box\, I consent for my personal information to be collected\, used and stored in Thrive Services secure client data system. I confirm the information entered in this form is true and correct.  Please enter full nameDate Please add me to your newsletter. Submit            \n            \nCertificate of attainment will only be awarded to participants who complete all 4 sessions.
URL:https://www.thriveservices.org.au/event/anxiety-coach-4-week-parenting-program-2026-term-1-online-registrations-open/
LOCATION:Online
CATEGORIES:Programs
ATTACH;FMTTYPE=image/png:https://www.thriveservices.org.au/wp-content/uploads/2025/02/Anxiety-Coach-Logo.png
END:VEVENT
BEGIN:VEVENT
DTSTART;TZID=Australia/Sydney:20260303T143000
DTEND;TZID=Australia/Sydney:20260303T160000
DTSTAMP:20260420T210014
CREATED:20251219T003825Z
LAST-MODIFIED:20251219T003825Z
UID:7482-1772548200-1772553600@www.thriveservices.org.au
SUMMARY:The Family Hub: Emotions & Self-regulation
DESCRIPTION:A friendly space for families to come together and thrive. \nDrop in after school to relax\, connect\, and enjoy fun activities with your kids — no registration needed. Grab fresh food\, pantry items\, and helpful resources while parents share stories and build connections. \nFor Families with children under 18yrs old in their care\, located in the Blue Mountains. \nJust pop in between 2.30pm – 4.00pm. \nWhere: 2 Station Street\, Katoomba \nWhen:  Tuesdays fortnightly beginning 3rd February 2026\, 2.30pm – 4.00pm \nThis sessions theme: Emotions & Self-regulation \nA relaxed play session helping children recognise and manage big emotions\, while parents learn simple ways to support regulation at home.\n\nCraft: Big Feelings\, Calm Bodies\nChildren can move freely between calm-down activities including blowing bubbles\, using sensory toys\, squeezing playdough\, watching calm jars and practising gentle breathing with a teddy. \n 
URL:https://www.thriveservices.org.au/event/the-family-hub-emotions-self-regulation/
LOCATION:Thrive Services Katoomba\, 2 Station Street\, Katoomba\, NSW\, 2780
CATEGORIES:Programs
ATTACH;FMTTYPE=image/jpeg:https://www.thriveservices.org.au/wp-content/uploads/2025/12/TEI-Program-and-Activities-FEATURED-IMAGE-THE-FAMILY-HUB.jpg
END:VEVENT
BEGIN:VEVENT
DTSTART;TZID=Australia/Sydney:20260303T143000
DTEND;TZID=Australia/Sydney:20260303T160000
DTSTAMP:20260420T210014
CREATED:20260327T041358Z
LAST-MODIFIED:20260327T041358Z
UID:7635-1772548200-1772553600@www.thriveservices.org.au
SUMMARY:The Family Hub: Trucks\, Treasures & Tiny Artists
DESCRIPTION:A friendly space for families to come together and thrive. \nDrop in after school to relax\, connect\, and enjoy fun activities with your kids — no registration needed. Grab fresh food\, pantry items\, and helpful resources while parents share stories and build connections. \nFor Families with children under 18yrs old in their care\, located in the Blue Mountains. \nJust pop in between 2.30pm – 4.00pm. \nWhere: 2 Station Street\, Katoomba \nWhen:  Tuesdays fortnightly beginning 3rd February 2026\, 2.30pm – 4.00pm \nThis sessions theme: Trucks\, Treasures and Tiny Artists \nJoin us for a fun-filled session of creativity and play — from painting your own special stones\, to digging for treasure\, to getting stuck into some monster truck action!\n 
URL:https://www.thriveservices.org.au/event/the-family-hub-trucks-treasures-tiny-artists/
LOCATION:Thrive Services Katoomba\, 2 Station Street\, Katoomba\, NSW\, 2780
CATEGORIES:Programs
ATTACH;FMTTYPE=image/jpeg:https://www.thriveservices.org.au/wp-content/uploads/2026/03/Copy-of-Sports-Day-Event-Tile.jpg
END:VEVENT
BEGIN:VEVENT
DTSTART;TZID=Australia/Sydney:20260310T123000
DTEND;TZID=Australia/Sydney:20260310T143000
DTSTAMP:20260420T210014
CREATED:20251218T014811Z
LAST-MODIFIED:20251218T052921Z
UID:7461-1773145800-1773153000@www.thriveservices.org.au
SUMMARY:Little Moments: Mums & Bubs
DESCRIPTION:Little Moments is a calm\, welcoming space created for mums and their babies to simply breathe and take a pause. A place to connect with others without pressure or expectations—just friendly faces\, gentle conversation\, a warm cup of tea and light snacks. \nPerfect for mums feeling isolated at home or are overwhelmed by traditional mum groups or playgroups. \nFor Families with children 0-5yrs. \nRegistrations not essential\, but if you would like to keep updated on Little Moments news\, complete the form below. \nLight snacks provided. \nWhere: 174 Landa Street\, Lithgow \nWhen:  Tuesdays fortnightly beginning 10th February 2026\, 12.30am – 2.30pm \n  \n\n                    Children Activity Registration Form        \n            \n                \n                    Newsletter                \n            \n            \n                \n            \n        \n        First NameFamily NameGenderDate of birthEmailPhoneResidential AddressPost CodeDo you identify as: Aboriginal Torres Strait Islander CALD N/ACountry of birthMain language spoken at homeHousehold DetailsNumber of adults living in your household:Family Composition Single parent with dependent/s Couple with dependent/sChildren Details\nPlease include all children's details\, add more children by clicking the '+' symbol         \n            Children            \n                \n                    \n                    \n                                                    First Name\n                                                    Family Name\n                                                    Date of birth
URL:https://www.thriveservices.org.au/event/little-moments-because-the-little-moments-matter-the-most-3/
LOCATION:Thrive Lithgow Office\, 174 Landa St\, Bowenfels\, NSW\, 2790\, Australia
CATEGORIES:Programs
ATTACH;FMTTYPE=image/jpeg:https://www.thriveservices.org.au/wp-content/uploads/2019/02/TEI-Program-and-Activities-FLYER-TEMPLATE-DRAFT-1920-x-1080-px-1.jpg
END:VEVENT
BEGIN:VEVENT
DTSTART;TZID=Australia/Sydney:20260324T123000
DTEND;TZID=Australia/Sydney:20260324T143000
DTSTAMP:20260420T210015
CREATED:20251218T015505Z
LAST-MODIFIED:20251218T045834Z
UID:7463-1774355400-1774362600@www.thriveservices.org.au
SUMMARY:Little Moments Mums & Bubs
DESCRIPTION:Little Moments is a calm\, welcoming space created for mums and their babies to simply breathe and take a pause. A place to connect with others without pressure or expectations—just friendly faces\, gentle conversation\, a warm cup of tea and light snacks. \nPerfect for mums feeling isolated at home or are overwhelmed by traditional mum groups or playgroups. \nFor Families with children 0-5yrs. \nRegistrations not essential\, but if you would like to keep updated on Little Moments news\, complete the form below. \nLight snacks provided. \nWhere: 174 Landa Street\, Lithgow \nWhen:  Tuesdays fortnightly beginning 10th February 2026\, 12.30am – 2.30pm \n\n                    Children Activity Registration Form        \n            \n                \n                    Newsletter                \n            \n            \n                \n            \n        \n        First NameFamily NameGenderDate of birthEmailPhoneResidential AddressPost CodeDo you identify as: Aboriginal Torres Strait Islander CALD N/ACountry of birthMain language spoken at homeHousehold DetailsNumber of adults living in your household:Family Composition Single parent with dependent/s Couple with dependent/sChildren Details\nPlease include all children's details\, add more children by clicking the '+' symbol         \n            Children            \n                \n                    \n                    \n                                                    First Name\n                                                    Family Name\n                                                    Date of birth
URL:https://www.thriveservices.org.au/event/little-moments-because-the-little-moments-matter-the-most-4/
LOCATION:Thrive Lithgow Office\, 174 Landa St\, Bowenfels\, NSW\, 2790\, Australia
CATEGORIES:Programs
ATTACH;FMTTYPE=image/jpeg:https://www.thriveservices.org.au/wp-content/uploads/2019/02/TEI-Program-and-Activities-FLYER-TEMPLATE-DRAFT-1920-x-1080-px-1.jpg
END:VEVENT
END:VCALENDAR